BEGIN:VCALENDAR
VERSION:2.0
PRODID:-//One Chippenham - ECPv6.15.20//NONSGML v1.0//EN
CALSCALE:GREGORIAN
METHOD:PUBLISH
X-WR-CALNAME:One Chippenham
X-ORIGINAL-URL:https://onechippenham.org.uk
X-WR-CALDESC:Events for One Chippenham
REFRESH-INTERVAL;VALUE=DURATION:PT1H
X-Robots-Tag:noindex
X-PUBLISHED-TTL:PT1H
BEGIN:VTIMEZONE
TZID:Europe/London
BEGIN:DAYLIGHT
TZOFFSETFROM:+0000
TZOFFSETTO:+0100
TZNAME:BST
DTSTART:20210328T010000
END:DAYLIGHT
BEGIN:STANDARD
TZOFFSETFROM:+0100
TZOFFSETTO:+0000
TZNAME:GMT
DTSTART:20211031T010000
END:STANDARD
BEGIN:DAYLIGHT
TZOFFSETFROM:+0000
TZOFFSETTO:+0100
TZNAME:BST
DTSTART:20220327T010000
END:DAYLIGHT
BEGIN:STANDARD
TZOFFSETFROM:+0100
TZOFFSETTO:+0000
TZNAME:GMT
DTSTART:20221030T010000
END:STANDARD
BEGIN:DAYLIGHT
TZOFFSETFROM:+0000
TZOFFSETTO:+0100
TZNAME:BST
DTSTART:20230326T010000
END:DAYLIGHT
BEGIN:STANDARD
TZOFFSETFROM:+0100
TZOFFSETTO:+0000
TZNAME:GMT
DTSTART:20231029T010000
END:STANDARD
END:VTIMEZONE
BEGIN:VEVENT
DTSTART;TZID=Europe/London:20221123T160000
DTEND;TZID=Europe/London:20221123T200000
DTSTAMP:20260423T222711
CREATED:20221121T112916Z
LAST-MODIFIED:20221121T122234Z
UID:9331-1669219200-1669233600@onechippenham.org.uk
SUMMARY:Bowood Festive Food & Gift Fair
DESCRIPTION:The Wiltshire Bobby Van Trust are holding for the second year running their Festive Food & Gift Fair at Bowood Hotel\, Spa & Golf Resort in the Kerry Suite on Wednesday 23rd November & Thursday 24th November. There will be a fabulous selection of stalls selling yummy food for Christmas\, delicious local wines\, liquors and chocolates\, gorgeous clothing as well as beautiful unique gifts for yourself and loved ones. \nCome and Join us for a glass of wine and canapés on Wednesday 23rd November\, tickets £15\, to be bought in advance. Thursday 24th November tickets £5 and can be bought in advance or on the door. \nhttps://events.liveit.io/the-wiltshire-bobby-van-trust/bowood-festive-food-and-gift-fair-2022/
URL:https://onechippenham.org.uk/event/bowood-festive-food-gift-fair/2022-11-23/
LOCATION:Bowood Hotel\, Spa & Golf Resort\, Derry Hill\, Calne\, SN11 9PQ\, United Kingdom
CATEGORIES:Charity,Christmas,Fairs & Fetes,Food and Drink,Gifts
ATTACH;FMTTYPE=image/jpeg:https://onechippenham.org.uk/wp-content/uploads/2022/11/BobbyVan_FestiveFood-2022-invite-for-websites.jpg
ORGANIZER;CN="The Wiltshire Bobby Van Trust":MAILTO:susanna@wbvt.org
END:VEVENT
END:VCALENDAR