BEGIN:VCALENDAR
VERSION:2.0
PRODID:-//One Chippenham - ECPv6.15.20//NONSGML v1.0//EN
CALSCALE:GREGORIAN
METHOD:PUBLISH
X-ORIGINAL-URL:https://onechippenham.org.uk
X-WR-CALDESC:Events for One Chippenham
REFRESH-INTERVAL;VALUE=DURATION:PT1H
X-Robots-Tag:noindex
X-PUBLISHED-TTL:PT1H
BEGIN:VTIMEZONE
TZID:Europe/London
BEGIN:DAYLIGHT
TZOFFSETFROM:+0000
TZOFFSETTO:+0100
TZNAME:BST
DTSTART:20200329T010000
END:DAYLIGHT
BEGIN:STANDARD
TZOFFSETFROM:+0100
TZOFFSETTO:+0000
TZNAME:GMT
DTSTART:20201025T010000
END:STANDARD
BEGIN:DAYLIGHT
TZOFFSETFROM:+0000
TZOFFSETTO:+0100
TZNAME:BST
DTSTART:20210328T010000
END:DAYLIGHT
BEGIN:STANDARD
TZOFFSETFROM:+0100
TZOFFSETTO:+0000
TZNAME:GMT
DTSTART:20211031T010000
END:STANDARD
BEGIN:DAYLIGHT
TZOFFSETFROM:+0000
TZOFFSETTO:+0100
TZNAME:BST
DTSTART:20220327T010000
END:DAYLIGHT
BEGIN:STANDARD
TZOFFSETFROM:+0100
TZOFFSETTO:+0000
TZNAME:GMT
DTSTART:20221030T010000
END:STANDARD
END:VTIMEZONE
BEGIN:VEVENT
DTSTART;TZID=Europe/London:20210911T100000
DTEND;TZID=Europe/London:20210911T160000
DTSTAMP:20260424T143936
CREATED:20210910T160202Z
LAST-MODIFIED:20210912T055920Z
UID:3513-1631354400-1631376000@onechippenham.org.uk
SUMMARY:Effigies Exhibition
DESCRIPTION:An exhibition of new works at The Yelde\,  showcasing ten of Chippenham’s brilliant local artists. Part of the 10 day Peacock Arts Exhibition\, celebrating and showcasing the breadth of skill and artistic talent in North Wiltshire.\n\n\nThe artists include –Dominic Clare\, Charlie Graham-May\, Sam Heath\, Helen Osbourne-Swan\, Glyn Overton\, Sam Perry\, Clifton Powell\, Bob Rudd and Jennifer Rudd at the Yelde Hall – Market Place/Shambles (10am-4pm\, 11-12 & 15-19 September)\n\n\nSome of the work will be for sale\, and the artists will be present in shifts\, for you to meet.\n\n\nKindly supported by Chippenham Borough Lands Charity\, Chippenham Town Council’s Museum\, the Arts and Cultural Events Group (Chippenham ACE) and Rag and Bone Arts CIC.
URL:https://onechippenham.org.uk/event/effigies-exhibition/2021-09-11/
CATEGORIES:Arts,Exhibition
ATTACH;FMTTYPE=image/jpeg:https://onechippenham.org.uk/wp-content/uploads/2021/09/IMG_2432.jpg
END:VEVENT
END:VCALENDAR