BEGIN:VCALENDAR
VERSION:2.0
PRODID:-//One Chippenham - ECPv6.15.20//NONSGML v1.0//EN
CALSCALE:GREGORIAN
METHOD:PUBLISH
X-ORIGINAL-URL:https://onechippenham.org.uk
X-WR-CALDESC:Events for One Chippenham
REFRESH-INTERVAL;VALUE=DURATION:PT1H
X-Robots-Tag:noindex
X-PUBLISHED-TTL:PT1H
BEGIN:VTIMEZONE
TZID:Europe/London
BEGIN:DAYLIGHT
TZOFFSETFROM:+0000
TZOFFSETTO:+0100
TZNAME:BST
DTSTART:20210328T010000
END:DAYLIGHT
BEGIN:STANDARD
TZOFFSETFROM:+0100
TZOFFSETTO:+0000
TZNAME:GMT
DTSTART:20211031T010000
END:STANDARD
BEGIN:DAYLIGHT
TZOFFSETFROM:+0000
TZOFFSETTO:+0100
TZNAME:BST
DTSTART:20220327T010000
END:DAYLIGHT
BEGIN:STANDARD
TZOFFSETFROM:+0100
TZOFFSETTO:+0000
TZNAME:GMT
DTSTART:20221030T010000
END:STANDARD
BEGIN:DAYLIGHT
TZOFFSETFROM:+0000
TZOFFSETTO:+0100
TZNAME:BST
DTSTART:20230326T010000
END:DAYLIGHT
BEGIN:STANDARD
TZOFFSETFROM:+0100
TZOFFSETTO:+0000
TZNAME:GMT
DTSTART:20231029T010000
END:STANDARD
END:VTIMEZONE
BEGIN:VEVENT
DTSTART;TZID=Europe/London:20220625T100000
DTEND;TZID=Europe/London:20220625T160000
DTSTAMP:20260424T114351
CREATED:20220517T223021Z
LAST-MODIFIED:20220603T064307Z
UID:5606-1656151200-1656172800@onechippenham.org.uk
SUMMARY:Enjoy a beekeeping experience at Cadenham Manor
DESCRIPTION:Discover the world of honeybees – their lifecycle and how they live together. See how hive products are made and taste a selection of English honeys. A great experience for anyone considering keeping bees or just looking for a fun day out. \nHannah Reeves\, qualified bee farmer\, will lead the day’s experience in the beautiful\, nectar rich 4-acre Cadenham gardens. After lunch\, you’ll ‘suit up’ and get hands on experience with the bees. At the end of the day\, you will go home with a goody bag and photo of yourself beekeeping. \nTickets – £60.00 (including lunch) – book here. \n 
URL:https://onechippenham.org.uk/event/enjoy-a-beekeeping-experience-at-cadenham-manor/2022-06-25/
CATEGORIES:Crafts,Gifts,Nature,Outdoor,Wildlife/nature,Workshop
ATTACH;FMTTYPE=image/jpeg:https://onechippenham.org.uk/wp-content/uploads/2022/05/web-ad-header_resize-Ian.17.05.22.jpg
ORGANIZER;CN="Hannah Reeves":MAILTO:info@bees.plus
END:VEVENT
END:VCALENDAR