BEGIN:VCALENDAR
VERSION:2.0
PRODID:-//One Chippenham - ECPv6.15.20//NONSGML v1.0//EN
CALSCALE:GREGORIAN
METHOD:PUBLISH
X-WR-CALNAME:One Chippenham
X-ORIGINAL-URL:https://onechippenham.org.uk
X-WR-CALDESC:Events for One Chippenham
REFRESH-INTERVAL;VALUE=DURATION:PT1H
X-Robots-Tag:noindex
X-PUBLISHED-TTL:PT1H
BEGIN:VTIMEZONE
TZID:Europe/London
BEGIN:DAYLIGHT
TZOFFSETFROM:+0000
TZOFFSETTO:+0100
TZNAME:BST
DTSTART:20240331T010000
END:DAYLIGHT
BEGIN:STANDARD
TZOFFSETFROM:+0100
TZOFFSETTO:+0000
TZNAME:GMT
DTSTART:20241027T010000
END:STANDARD
BEGIN:DAYLIGHT
TZOFFSETFROM:+0000
TZOFFSETTO:+0100
TZNAME:BST
DTSTART:20250330T010000
END:DAYLIGHT
BEGIN:STANDARD
TZOFFSETFROM:+0100
TZOFFSETTO:+0000
TZNAME:GMT
DTSTART:20251026T010000
END:STANDARD
BEGIN:DAYLIGHT
TZOFFSETFROM:+0000
TZOFFSETTO:+0100
TZNAME:BST
DTSTART:20260329T010000
END:DAYLIGHT
BEGIN:STANDARD
TZOFFSETFROM:+0100
TZOFFSETTO:+0000
TZNAME:GMT
DTSTART:20261025T010000
END:STANDARD
END:VTIMEZONE
BEGIN:VEVENT
DTSTART;TZID=Europe/London:20250718T100000
DTEND;TZID=Europe/London:20250718T120000
DTSTAMP:20260423T193108
CREATED:20250417T110630Z
LAST-MODIFIED:20250417T110630Z
UID:40597-1752832800-1752840000@onechippenham.org.uk
SUMMARY:Friendly Faces
DESCRIPTION:A community group\, for friends who are living with additional needs. \nWe welcome you along to our friendly café where you can choose from refreshments\, games & activities or a listening ear. \nWe aim to build and strengthen relationships\, social confidence and wellbeing. Carers/ parents/ support dogs welcome. We kindly ask for £1 entrance fee.
URL:https://onechippenham.org.uk/event/friendly-faces/2025-07-18/
LOCATION:Station Hill Baptist Church\, SN15 1EG
ATTACH;FMTTYPE=image/jpeg:https://onechippenham.org.uk/wp-content/uploads/2025/04/IMG_3851.jpeg
END:VEVENT
BEGIN:VEVENT
DTSTART;TZID=Europe/London:20250620T100000
DTEND;TZID=Europe/London:20250620T120000
DTSTAMP:20260423T193108
CREATED:20250417T110630Z
LAST-MODIFIED:20250417T110630Z
UID:40596-1750413600-1750420800@onechippenham.org.uk
SUMMARY:Friendly Faces
DESCRIPTION:A community group\, for friends who are living with additional needs. \nWe welcome you along to our friendly café where you can choose from refreshments\, games & activities or a listening ear. \nWe aim to build and strengthen relationships\, social confidence and wellbeing. Carers/ parents/ support dogs welcome. We kindly ask for £1 entrance fee.
URL:https://onechippenham.org.uk/event/friendly-faces/2025-06-20/
LOCATION:Station Hill Baptist Church\, SN15 1EG
ATTACH;FMTTYPE=image/jpeg:https://onechippenham.org.uk/wp-content/uploads/2025/04/IMG_3851.jpeg
END:VEVENT
BEGIN:VEVENT
DTSTART;TZID=Europe/London:20250509T100000
DTEND;TZID=Europe/London:20250509T120000
DTSTAMP:20260423T193108
CREATED:20250417T110629Z
LAST-MODIFIED:20250417T110629Z
UID:40592-1746784800-1746792000@onechippenham.org.uk
SUMMARY:Friendly Faces
DESCRIPTION:A community group\, for friends who are living with additional needs. \nWe welcome you along to our friendly café where you can choose from refreshments\, games & activities or a listening ear. \nWe aim to build and strengthen relationships\, social confidence and wellbeing. Carers/ parents/ support dogs welcome. We kindly ask for £1 entrance fee.
URL:https://onechippenham.org.uk/event/friendly-faces/2025-05-09/
LOCATION:Station Hill Baptist Church\, SN15 1EG
ATTACH;FMTTYPE=image/jpeg:https://onechippenham.org.uk/wp-content/uploads/2025/04/IMG_3851.jpeg
END:VEVENT
END:VCALENDAR