BEGIN:VCALENDAR
VERSION:2.0
PRODID:-//One Chippenham - ECPv6.15.20//NONSGML v1.0//EN
CALSCALE:GREGORIAN
METHOD:PUBLISH
X-WR-CALNAME:One Chippenham
X-ORIGINAL-URL:https://onechippenham.org.uk
X-WR-CALDESC:Events for One Chippenham
REFRESH-INTERVAL;VALUE=DURATION:PT1H
X-Robots-Tag:noindex
X-PUBLISHED-TTL:PT1H
BEGIN:VTIMEZONE
TZID:Europe/London
BEGIN:DAYLIGHT
TZOFFSETFROM:+0000
TZOFFSETTO:+0100
TZNAME:BST
DTSTART:20210328T010000
END:DAYLIGHT
BEGIN:STANDARD
TZOFFSETFROM:+0100
TZOFFSETTO:+0000
TZNAME:GMT
DTSTART:20211031T010000
END:STANDARD
BEGIN:DAYLIGHT
TZOFFSETFROM:+0000
TZOFFSETTO:+0100
TZNAME:BST
DTSTART:20220327T010000
END:DAYLIGHT
BEGIN:STANDARD
TZOFFSETFROM:+0100
TZOFFSETTO:+0000
TZNAME:GMT
DTSTART:20221030T010000
END:STANDARD
BEGIN:DAYLIGHT
TZOFFSETFROM:+0000
TZOFFSETTO:+0100
TZNAME:BST
DTSTART:20230326T010000
END:DAYLIGHT
BEGIN:STANDARD
TZOFFSETFROM:+0100
TZOFFSETTO:+0000
TZNAME:GMT
DTSTART:20231029T010000
END:STANDARD
END:VTIMEZONE
BEGIN:VEVENT
DTSTART;TZID=Europe/London:20220708T193000
DTEND;TZID=Europe/London:20220708T193000
DTSTAMP:20260425T185659
CREATED:20220630T110134Z
LAST-MODIFIED:20220630T112523Z
UID:6219-1657308600-1657308600@onechippenham.org.uk
SUMMARY:Once Upon a Musical
DESCRIPTION:Fancy a night at the musicals? ‘Once upon a musical’ – features songs from musicals based on books performed by Chippenham’s Clogs Musical Theatre group. \nBook tickets by sending an email. \n 
URL:https://onechippenham.org.uk/event/once-upon-a-musical/2022-07-08/
LOCATION:St Peters Church\, Kington Langley\, SN15 5NR
ATTACH;FMTTYPE=image/png:https://onechippenham.org.uk/wp-content/uploads/2022/06/clogs.png
END:VEVENT
END:VCALENDAR