BEGIN:VCALENDAR
VERSION:2.0
PRODID:-//One Chippenham - ECPv6.15.20//NONSGML v1.0//EN
CALSCALE:GREGORIAN
METHOD:PUBLISH
X-ORIGINAL-URL:https://onechippenham.org.uk
X-WR-CALDESC:Events for One Chippenham
REFRESH-INTERVAL;VALUE=DURATION:PT1H
X-Robots-Tag:noindex
X-PUBLISHED-TTL:PT1H
BEGIN:VTIMEZONE
TZID:Europe/London
BEGIN:DAYLIGHT
TZOFFSETFROM:+0000
TZOFFSETTO:+0100
TZNAME:BST
DTSTART:20240331T010000
END:DAYLIGHT
BEGIN:STANDARD
TZOFFSETFROM:+0100
TZOFFSETTO:+0000
TZNAME:GMT
DTSTART:20241027T010000
END:STANDARD
BEGIN:DAYLIGHT
TZOFFSETFROM:+0000
TZOFFSETTO:+0100
TZNAME:BST
DTSTART:20250330T010000
END:DAYLIGHT
BEGIN:STANDARD
TZOFFSETFROM:+0100
TZOFFSETTO:+0000
TZNAME:GMT
DTSTART:20251026T010000
END:STANDARD
BEGIN:DAYLIGHT
TZOFFSETFROM:+0000
TZOFFSETTO:+0100
TZNAME:BST
DTSTART:20260329T010000
END:DAYLIGHT
BEGIN:STANDARD
TZOFFSETFROM:+0100
TZOFFSETTO:+0000
TZNAME:GMT
DTSTART:20261025T010000
END:STANDARD
END:VTIMEZONE
BEGIN:VEVENT
DTSTART;TZID=Europe/London:20250731T103000
DTEND;TZID=Europe/London:20250731T153000
DTSTAMP:20260424T202942
CREATED:20250714T141649Z
LAST-MODIFIED:20250714T141649Z
UID:43918-1753957800-1753975800@onechippenham.org.uk
SUMMARY:Summer Holidays: Creative Activities
DESCRIPTION:Get creative in style! Join us every Tuesday and Thursday during the summer holidays for free ‘fashionable’ activities inspired by our summer exhibition Threads: Clothing\, Memory and Identity. \nActivities are suitable for all ages. Under 10s must be accompanied by an adult. Please note\, activities on Tuesdays and Thursdays will be the same each week. \nWeek 1: Setting the Style \nWhy do we wear what we wear? From simple and practical to colourful and detailed\, create your own designs to mix and match for a paper person.
URL:https://onechippenham.org.uk/event/summer-holidays-creative-activities-5/2025-07-31/
LOCATION:Chippenham Museum\, 9-10 Market Pl\, Chippenham\, SN15 3HF\, United Kingdom
CATEGORIES:Crafts,Family Friendly
ATTACH;FMTTYPE=image/png:https://onechippenham.org.uk/wp-content/uploads/2025/07/CTC-Whats-On-1.png
ORGANIZER;CN="Chippenham Museum":MAILTO:heritage@chippenham.gov.uk
END:VEVENT
BEGIN:VEVENT
DTSTART;TZID=Europe/London:20250729T103000
DTEND;TZID=Europe/London:20250729T153000
DTSTAMP:20260424T202942
CREATED:20250714T141649Z
LAST-MODIFIED:20250714T141649Z
UID:43913-1753785000-1753803000@onechippenham.org.uk
SUMMARY:Summer Holidays: Creative Activities
DESCRIPTION:Get creative in style! Join us every Tuesday and Thursday during the summer holidays for free ‘fashionable’ activities inspired by our summer exhibition Threads: Clothing\, Memory and Identity. \nActivities are suitable for all ages. Under 10s must be accompanied by an adult. Please note\, activities on Tuesdays and Thursdays will be the same each week. \nWeek 1: Setting the Style \nWhy do we wear what we wear? From simple and practical to colourful and detailed\, create your own designs to mix and match for a paper person.
URL:https://onechippenham.org.uk/event/summer-holidays-creative-activities-5/2025-07-29/
LOCATION:Chippenham Museum\, 9-10 Market Pl\, Chippenham\, SN15 3HF\, United Kingdom
CATEGORIES:Crafts,Family Friendly
ATTACH;FMTTYPE=image/png:https://onechippenham.org.uk/wp-content/uploads/2025/07/CTC-Whats-On-1.png
ORGANIZER;CN="Chippenham Museum":MAILTO:heritage@chippenham.gov.uk
END:VEVENT
END:VCALENDAR