BEGIN:VCALENDAR
VERSION:2.0
PRODID:-//One Chippenham - ECPv6.15.20//NONSGML v1.0//EN
CALSCALE:GREGORIAN
METHOD:PUBLISH
X-WR-CALNAME:One Chippenham
X-ORIGINAL-URL:https://onechippenham.org.uk
X-WR-CALDESC:Events for One Chippenham
REFRESH-INTERVAL;VALUE=DURATION:PT1H
X-Robots-Tag:noindex
X-PUBLISHED-TTL:PT1H
BEGIN:VTIMEZONE
TZID:Europe/London
BEGIN:DAYLIGHT
TZOFFSETFROM:+0000
TZOFFSETTO:+0100
TZNAME:BST
DTSTART:20240331T010000
END:DAYLIGHT
BEGIN:STANDARD
TZOFFSETFROM:+0100
TZOFFSETTO:+0000
TZNAME:GMT
DTSTART:20241027T010000
END:STANDARD
BEGIN:DAYLIGHT
TZOFFSETFROM:+0000
TZOFFSETTO:+0100
TZNAME:BST
DTSTART:20250330T010000
END:DAYLIGHT
BEGIN:STANDARD
TZOFFSETFROM:+0100
TZOFFSETTO:+0000
TZNAME:GMT
DTSTART:20251026T010000
END:STANDARD
BEGIN:DAYLIGHT
TZOFFSETFROM:+0000
TZOFFSETTO:+0100
TZNAME:BST
DTSTART:20260329T010000
END:DAYLIGHT
BEGIN:STANDARD
TZOFFSETFROM:+0100
TZOFFSETTO:+0000
TZNAME:GMT
DTSTART:20261025T010000
END:STANDARD
END:VTIMEZONE
BEGIN:VEVENT
DTSTART;TZID=Europe/London:20251219T180000
DTEND;TZID=Europe/London:20251219T220000
DTSTAMP:20260422T210129
CREATED:20251122T163944Z
LAST-MODIFIED:20251122T163944Z
UID:53287-1766167200-1766181600@onechippenham.org.uk
SUMMARY:The Kitchen by Wine Monkey is open for dinner
DESCRIPTION:The newest project from the guys at Wine Monkey\, The Kitchen is a new restaurant in Chippenham and the coolest place to dine. Open daily for breakfast and lunch\, brunch at the weekend and now every Friday and Saturday for dinner. They’ve blended the sophistication of a gourmet deli with the casual atmosphere of a classic French bistro to create a unique dining experience where artisanship meets playful elegance. \nSpecialising in handmade food\, creative recipes and excellent service\, Chef Lisa puts her extensive culinary experience to work in the kitchen\, while head sommelier Bryan expertly pairs wines to enjoy alongside. \nBookings are highly recommended as this place is very popular. Open 6-10pm.\nVegetarian\, vegan and gluten-free guests are very welcome.
URL:https://onechippenham.org.uk/event/the-kitchen-by-wine-monkey-is-open-for-dinner/2025-12-19/
LOCATION:Wine Monkey\, 20 Borough Parade\, Chippenham\, SN15 3WL\, United Kingdom
CATEGORIES:Food and Drink
ATTACH;FMTTYPE=image/jpeg:https://onechippenham.org.uk/wp-content/uploads/2025/11/Kitchen-by-Wine-Monkey-184.jpg
ORGANIZER;CN="Wine Monkey":MAILTO:Thecellar@winemonkey.co.uk
END:VEVENT
BEGIN:VEVENT
DTSTART;TZID=Europe/London:20251213T180000
DTEND;TZID=Europe/London:20251213T220000
DTSTAMP:20260422T210129
CREATED:20251122T163944Z
LAST-MODIFIED:20251122T163944Z
UID:53286-1765648800-1765663200@onechippenham.org.uk
SUMMARY:The Kitchen by Wine Monkey is open for dinner
DESCRIPTION:The newest project from the guys at Wine Monkey\, The Kitchen is a new restaurant in Chippenham and the coolest place to dine. Open daily for breakfast and lunch\, brunch at the weekend and now every Friday and Saturday for dinner. They’ve blended the sophistication of a gourmet deli with the casual atmosphere of a classic French bistro to create a unique dining experience where artisanship meets playful elegance. \nSpecialising in handmade food\, creative recipes and excellent service\, Chef Lisa puts her extensive culinary experience to work in the kitchen\, while head sommelier Bryan expertly pairs wines to enjoy alongside. \nBookings are highly recommended as this place is very popular. Open 6-10pm.\nVegetarian\, vegan and gluten-free guests are very welcome.
URL:https://onechippenham.org.uk/event/the-kitchen-by-wine-monkey-is-open-for-dinner/2025-12-13/
LOCATION:Wine Monkey\, 20 Borough Parade\, Chippenham\, SN15 3WL\, United Kingdom
CATEGORIES:Food and Drink
ATTACH;FMTTYPE=image/jpeg:https://onechippenham.org.uk/wp-content/uploads/2025/11/Kitchen-by-Wine-Monkey-184.jpg
ORGANIZER;CN="Wine Monkey":MAILTO:Thecellar@winemonkey.co.uk
END:VEVENT
BEGIN:VEVENT
DTSTART;TZID=Europe/London:20251212T180000
DTEND;TZID=Europe/London:20251212T220000
DTSTAMP:20260422T210129
CREATED:20251122T163944Z
LAST-MODIFIED:20251122T163944Z
UID:53285-1765562400-1765576800@onechippenham.org.uk
SUMMARY:The Kitchen by Wine Monkey is open for dinner
DESCRIPTION:The newest project from the guys at Wine Monkey\, The Kitchen is a new restaurant in Chippenham and the coolest place to dine. Open daily for breakfast and lunch\, brunch at the weekend and now every Friday and Saturday for dinner. They’ve blended the sophistication of a gourmet deli with the casual atmosphere of a classic French bistro to create a unique dining experience where artisanship meets playful elegance. \nSpecialising in handmade food\, creative recipes and excellent service\, Chef Lisa puts her extensive culinary experience to work in the kitchen\, while head sommelier Bryan expertly pairs wines to enjoy alongside. \nBookings are highly recommended as this place is very popular. Open 6-10pm.\nVegetarian\, vegan and gluten-free guests are very welcome.
URL:https://onechippenham.org.uk/event/the-kitchen-by-wine-monkey-is-open-for-dinner/2025-12-12/
LOCATION:Wine Monkey\, 20 Borough Parade\, Chippenham\, SN15 3WL\, United Kingdom
CATEGORIES:Food and Drink
ATTACH;FMTTYPE=image/jpeg:https://onechippenham.org.uk/wp-content/uploads/2025/11/Kitchen-by-Wine-Monkey-184.jpg
ORGANIZER;CN="Wine Monkey":MAILTO:Thecellar@winemonkey.co.uk
END:VEVENT
BEGIN:VEVENT
DTSTART;TZID=Europe/London:20251206T180000
DTEND;TZID=Europe/London:20251206T220000
DTSTAMP:20260422T210129
CREATED:20251122T163944Z
LAST-MODIFIED:20251122T163944Z
UID:53284-1765044000-1765058400@onechippenham.org.uk
SUMMARY:The Kitchen by Wine Monkey is open for dinner
DESCRIPTION:The newest project from the guys at Wine Monkey\, The Kitchen is a new restaurant in Chippenham and the coolest place to dine. Open daily for breakfast and lunch\, brunch at the weekend and now every Friday and Saturday for dinner. They’ve blended the sophistication of a gourmet deli with the casual atmosphere of a classic French bistro to create a unique dining experience where artisanship meets playful elegance. \nSpecialising in handmade food\, creative recipes and excellent service\, Chef Lisa puts her extensive culinary experience to work in the kitchen\, while head sommelier Bryan expertly pairs wines to enjoy alongside. \nBookings are highly recommended as this place is very popular. Open 6-10pm.\nVegetarian\, vegan and gluten-free guests are very welcome.
URL:https://onechippenham.org.uk/event/the-kitchen-by-wine-monkey-is-open-for-dinner/2025-12-06/
LOCATION:Wine Monkey\, 20 Borough Parade\, Chippenham\, SN15 3WL\, United Kingdom
CATEGORIES:Food and Drink
ATTACH;FMTTYPE=image/jpeg:https://onechippenham.org.uk/wp-content/uploads/2025/11/Kitchen-by-Wine-Monkey-184.jpg
ORGANIZER;CN="Wine Monkey":MAILTO:Thecellar@winemonkey.co.uk
END:VEVENT
BEGIN:VEVENT
DTSTART;TZID=Europe/London:20251205T180000
DTEND;TZID=Europe/London:20251205T220000
DTSTAMP:20260422T210129
CREATED:20251122T163944Z
LAST-MODIFIED:20251122T163944Z
UID:53283-1764957600-1764972000@onechippenham.org.uk
SUMMARY:The Kitchen by Wine Monkey is open for dinner
DESCRIPTION:The newest project from the guys at Wine Monkey\, The Kitchen is a new restaurant in Chippenham and the coolest place to dine. Open daily for breakfast and lunch\, brunch at the weekend and now every Friday and Saturday for dinner. They’ve blended the sophistication of a gourmet deli with the casual atmosphere of a classic French bistro to create a unique dining experience where artisanship meets playful elegance. \nSpecialising in handmade food\, creative recipes and excellent service\, Chef Lisa puts her extensive culinary experience to work in the kitchen\, while head sommelier Bryan expertly pairs wines to enjoy alongside. \nBookings are highly recommended as this place is very popular. Open 6-10pm.\nVegetarian\, vegan and gluten-free guests are very welcome.
URL:https://onechippenham.org.uk/event/the-kitchen-by-wine-monkey-is-open-for-dinner/2025-12-05/
LOCATION:Wine Monkey\, 20 Borough Parade\, Chippenham\, SN15 3WL\, United Kingdom
CATEGORIES:Food and Drink
ATTACH;FMTTYPE=image/jpeg:https://onechippenham.org.uk/wp-content/uploads/2025/11/Kitchen-by-Wine-Monkey-184.jpg
ORGANIZER;CN="Wine Monkey":MAILTO:Thecellar@winemonkey.co.uk
END:VEVENT
BEGIN:VEVENT
DTSTART;TZID=Europe/London:20251129T180000
DTEND;TZID=Europe/London:20251129T220000
DTSTAMP:20260422T210129
CREATED:20251122T163944Z
LAST-MODIFIED:20251122T163944Z
UID:53282-1764439200-1764453600@onechippenham.org.uk
SUMMARY:The Kitchen by Wine Monkey is open for dinner
DESCRIPTION:The newest project from the guys at Wine Monkey\, The Kitchen is a new restaurant in Chippenham and the coolest place to dine. Open daily for breakfast and lunch\, brunch at the weekend and now every Friday and Saturday for dinner. They’ve blended the sophistication of a gourmet deli with the casual atmosphere of a classic French bistro to create a unique dining experience where artisanship meets playful elegance. \nSpecialising in handmade food\, creative recipes and excellent service\, Chef Lisa puts her extensive culinary experience to work in the kitchen\, while head sommelier Bryan expertly pairs wines to enjoy alongside. \nBookings are highly recommended as this place is very popular. Open 6-10pm.\nVegetarian\, vegan and gluten-free guests are very welcome.
URL:https://onechippenham.org.uk/event/the-kitchen-by-wine-monkey-is-open-for-dinner/2025-11-29/
LOCATION:Wine Monkey\, 20 Borough Parade\, Chippenham\, SN15 3WL\, United Kingdom
CATEGORIES:Food and Drink
ATTACH;FMTTYPE=image/jpeg:https://onechippenham.org.uk/wp-content/uploads/2025/11/Kitchen-by-Wine-Monkey-184.jpg
ORGANIZER;CN="Wine Monkey":MAILTO:Thecellar@winemonkey.co.uk
END:VEVENT
BEGIN:VEVENT
DTSTART;TZID=Europe/London:20251128T180000
DTEND;TZID=Europe/London:20251128T220000
DTSTAMP:20260422T210129
CREATED:20251122T163944Z
LAST-MODIFIED:20251122T163944Z
UID:53244-1764352800-1764367200@onechippenham.org.uk
SUMMARY:The Kitchen by Wine Monkey is open for dinner
DESCRIPTION:The newest project from the guys at Wine Monkey\, The Kitchen is a new restaurant in Chippenham and the coolest place to dine. Open daily for breakfast and lunch\, brunch at the weekend and now every Friday and Saturday for dinner. They’ve blended the sophistication of a gourmet deli with the casual atmosphere of a classic French bistro to create a unique dining experience where artisanship meets playful elegance. \nSpecialising in handmade food\, creative recipes and excellent service\, Chef Lisa puts her extensive culinary experience to work in the kitchen\, while head sommelier Bryan expertly pairs wines to enjoy alongside. \nBookings are highly recommended as this place is very popular. Open 6-10pm.\nVegetarian\, vegan and gluten-free guests are very welcome.
URL:https://onechippenham.org.uk/event/the-kitchen-by-wine-monkey-is-open-for-dinner/2025-11-28/
LOCATION:Wine Monkey\, 20 Borough Parade\, Chippenham\, SN15 3WL\, United Kingdom
CATEGORIES:Food and Drink
ATTACH;FMTTYPE=image/jpeg:https://onechippenham.org.uk/wp-content/uploads/2025/11/Kitchen-by-Wine-Monkey-184.jpg
ORGANIZER;CN="Wine Monkey":MAILTO:Thecellar@winemonkey.co.uk
END:VEVENT
END:VCALENDAR