BEGIN:VCALENDAR
VERSION:2.0
PRODID:-//One Chippenham - ECPv6.15.20//NONSGML v1.0//EN
CALSCALE:GREGORIAN
METHOD:PUBLISH
X-ORIGINAL-URL:https://onechippenham.org.uk
X-WR-CALDESC:Events for One Chippenham
REFRESH-INTERVAL;VALUE=DURATION:PT1H
X-Robots-Tag:noindex
X-PUBLISHED-TTL:PT1H
BEGIN:VTIMEZONE
TZID:Europe/London
BEGIN:DAYLIGHT
TZOFFSETFROM:+0000
TZOFFSETTO:+0100
TZNAME:BST
DTSTART:20240331T010000
END:DAYLIGHT
BEGIN:STANDARD
TZOFFSETFROM:+0100
TZOFFSETTO:+0000
TZNAME:GMT
DTSTART:20241027T010000
END:STANDARD
BEGIN:DAYLIGHT
TZOFFSETFROM:+0000
TZOFFSETTO:+0100
TZNAME:BST
DTSTART:20250330T010000
END:DAYLIGHT
BEGIN:STANDARD
TZOFFSETFROM:+0100
TZOFFSETTO:+0000
TZNAME:GMT
DTSTART:20251026T010000
END:STANDARD
BEGIN:DAYLIGHT
TZOFFSETFROM:+0000
TZOFFSETTO:+0100
TZNAME:BST
DTSTART:20260329T010000
END:DAYLIGHT
BEGIN:STANDARD
TZOFFSETFROM:+0100
TZOFFSETTO:+0000
TZNAME:GMT
DTSTART:20261025T010000
END:STANDARD
END:VTIMEZONE
BEGIN:VEVENT
DTSTART;VALUE=DATE:20250721
DTEND;VALUE=DATE:20250901
DTSTAMP:20260426T001311
CREATED:20250715T091005Z
LAST-MODIFIED:20250715T091005Z
UID:44213-1753056000-1756684799@onechippenham.org.uk
SUMMARY:Kids & Family Climbing Tasters at The Arc
DESCRIPTION:The easiest way to try climbing! \nLooking for a fun\, easy way to try climbing? Our taster sessions are the perfect introduction – whether you’re after a one-off adventure or curious about taking it further. \nClimbing is a social\, active and creative sport that’s surprisingly easy to get into – making it a fantastic way to stay fit. These ‘have-a-go’ sessions let you try bouldering\, roped climbing and auto belays. \nBy the end of the session\, you’ll be ready to visit the centre as a boulderer and auto belay user. (Children will still need supervision).
URL:https://onechippenham.org.uk/event/kids-family-climbing-tasters-at-the-arc/
LOCATION:The Arc\, Westmead Lane\, Chippenham\, Wiltshire\, SN15 3HZ\, United Kingdom
CATEGORIES:Family Friendly,Family Fun Day,Sport
ATTACH;FMTTYPE=image/png:https://onechippenham.org.uk/wp-content/uploads/2025/07/Social-Text-On-Images-1.png
END:VEVENT
BEGIN:VEVENT
DTSTART;TZID=Europe/London:20250805T090000
DTEND;TZID=Europe/London:20250805T100000
DTSTAMP:20260426T001311
CREATED:20250714T141320Z
LAST-MODIFIED:20250715T160641Z
UID:43955-1754384400-1754388000@onechippenham.org.uk
SUMMARY:Summer Holidays: Autism Friendly Quiet Time
DESCRIPTION:Experience our fashion-themed drop-in activities in a quieter way before the museum opens to the public. Sessions run from 9am-10am (last entry 9.45am) and are limited to four accompanied children. \nIdeal for those who would find the busy nature of our drop-in sessions uncomfortable\, these sessions offer a relaxed environment. Please book a space for each accompanied child attending. \nPlease note\, activities on Tuesday and Thursday will be the same each week. \nWeek 2: Fibre to Fabric \nJoin us to discover the cloth-making history of the town and have a go at making your own simple woven work.
URL:https://onechippenham.org.uk/event/summer-holidays-autism-friendly-quiet-time-2/2025-08-05/
LOCATION:Chippenham Museum\, 9-10 Market Pl\, Chippenham\, SN15 3HF\, United Kingdom
CATEGORIES:Autism friendly,Crafts
ATTACH;FMTTYPE=image/png:https://onechippenham.org.uk/wp-content/uploads/2025/07/CTC-Whats-On-11.png
ORGANIZER;CN="Chippenham Museum":MAILTO:heritage@chippenham.gov.uk
END:VEVENT
BEGIN:VEVENT
DTSTART;TZID=Europe/London:20250805T100000
DTEND;TZID=Europe/London:20250805T160000
DTSTAMP:20260426T001311
CREATED:20250709T204250Z
LAST-MODIFIED:20250709T204250Z
UID:44104-1754388000-1754409600@onechippenham.org.uk
SUMMARY:Threads: Clothing\, Memory and Identity
DESCRIPTION:Celebrate all things fashion in our summer exhibition and explore ideas\nof memory and identity through the clothes we wear.
URL:https://onechippenham.org.uk/event/threads-clothing-memory-and-identity/2025-08-05/
CATEGORIES:Exhibition,Museum
ATTACH;FMTTYPE=image/png:https://onechippenham.org.uk/wp-content/uploads/2025/07/CTC-Whats-On.png
ORGANIZER;CN="Chippenham Museum":MAILTO:heritage@chippenham.gov.uk
END:VEVENT
BEGIN:VEVENT
DTSTART;TZID=Europe/London:20250805T100000
DTEND;TZID=Europe/London:20250805T160000
DTSTAMP:20260426T001311
CREATED:20250729T100034Z
LAST-MODIFIED:20250729T100034Z
UID:44556-1754388000-1754409600@onechippenham.org.uk
SUMMARY:Rocket Powered Workshops
DESCRIPTION:If you like a challenge\, you’ll love our STEM Workshops designed to get young people using the principles of engineering while having fun! \nDesign and launch your own bottle rocket or air powered car\, using the same principles of engineering in rocket science! \nCheck our website for other workshop/activities during the Summer Holidays. \nSTEM workshops included in museum entry fee\, simply drop-in to these sessions.
URL:https://onechippenham.org.uk/event/rocket-powered-workshops/2025-08-05/
LOCATION:REME Museum\, Calne Road\, MOD Lyneham\, Chippenham\, Wiltshire\, SN15 4XX\, United Kingdom
CATEGORIES:Children,Family,Family Friendly,Heritage,Museum,School holiday,Workshop
ORGANIZER;CN="REME Museum":MAILTO:enquiries@rememuseum.org.uk
END:VEVENT
BEGIN:VEVENT
DTSTART;TZID=Europe/London:20250805T103000
DTEND;TZID=Europe/London:20250805T153000
DTSTAMP:20260426T001311
CREATED:20250714T140455Z
LAST-MODIFIED:20250715T161127Z
UID:43943-1754389800-1754407800@onechippenham.org.uk
SUMMARY:Summer Holidays: Creative Activities
DESCRIPTION:Get creative in style! Join us every Tuesday and Thursday during the summer holidays for free ‘fashionable’ activities inspired by our summer exhibition Threads: Clothing\, Memory and Identity. \nActivities are suitable for all ages. Under 10s must be accompanied by an adult. Please note\, activities on Tuesdays and Thursdays will be the same each week. \nWeek 2: Fibre to Fabric \nJoin us to discover the cloth-making history of the town and have a go at making your own simple woven work.
URL:https://onechippenham.org.uk/event/summer-holidays-creative-activities/2025-08-05/
LOCATION:Chippenham Museum\, 9-10 Market Pl\, Chippenham\, SN15 3HF\, United Kingdom
CATEGORIES:Crafts,Family Friendly
ATTACH;FMTTYPE=image/png:https://onechippenham.org.uk/wp-content/uploads/2025/07/CTC-Whats-On-11.png
ORGANIZER;CN="Chippenham Museum":MAILTO:heritage@chippenham.gov.uk
END:VEVENT
BEGIN:VEVENT
DTSTART;TZID=Europe/London:20250805T110000
DTEND;TZID=Europe/London:20250805T120000
DTSTAMP:20260426T001311
CREATED:20250519T083854Z
LAST-MODIFIED:20250519T083854Z
UID:41877-1754391600-1754395200@onechippenham.org.uk
SUMMARY:Trio Paradis Family Concert: Planes\, Trains & Automobiles
DESCRIPTION:Trio Paradis (Jacquelyn Bevan – piano\, Ruth O’Shea – violin & Linda Stocks – cello) play a Café Concert at St Andrew’s Church on the first Tuesday of each month at 11am: informal music events with a pop-up café from 10.30 where you can meet friends and make new ones over tea/coffee and home-made cakes. \nAugust’s concert is for all the family and includes music about trains – Little Train of the Caipira\, the Orient Express\, Chattanooga Choo-Choo…\, a helicopter\, jet plane\, bicycle – and several other modes of transport. Bring a bicycle bell or a shaker if you’d like to join in! Our violinist for this month’s concerts is Sara Stagg. \nConcerts last c45m and entrance – or rather\, exit! – is by donation\, with a retiring collection. An RSVP via our website\, www.trioparadis.com\, is much appreciated but not essential. \nMore information at www.trioparadis.com.
URL:https://onechippenham.org.uk/event/trio-paradis-family-concert-planes-trains-automobiles/
LOCATION:St Andrew’s Church\, St Mary’s Street\, Chippenham\, SN15 3JN\, United Kingdom
CATEGORIES:Music
ATTACH;FMTTYPE=image/jpeg:https://onechippenham.org.uk/wp-content/uploads/2025/05/IMG_3366.jpeg
ORGANIZER;CN="Trio Paradis":MAILTO:trioparadis@gmail.com
END:VEVENT
END:VCALENDAR