BEGIN:VCALENDAR
VERSION:2.0
PRODID:-//One Chippenham - ECPv6.15.20//NONSGML v1.0//EN
CALSCALE:GREGORIAN
METHOD:PUBLISH
X-ORIGINAL-URL:https://onechippenham.org.uk
X-WR-CALDESC:Events for One Chippenham
REFRESH-INTERVAL;VALUE=DURATION:PT1H
X-Robots-Tag:noindex
X-PUBLISHED-TTL:PT1H
BEGIN:VTIMEZONE
TZID:Europe/London
BEGIN:DAYLIGHT
TZOFFSETFROM:+0000
TZOFFSETTO:+0100
TZNAME:BST
DTSTART:20240331T010000
END:DAYLIGHT
BEGIN:STANDARD
TZOFFSETFROM:+0100
TZOFFSETTO:+0000
TZNAME:GMT
DTSTART:20241027T010000
END:STANDARD
BEGIN:DAYLIGHT
TZOFFSETFROM:+0000
TZOFFSETTO:+0100
TZNAME:BST
DTSTART:20250330T010000
END:DAYLIGHT
BEGIN:STANDARD
TZOFFSETFROM:+0100
TZOFFSETTO:+0000
TZNAME:GMT
DTSTART:20251026T010000
END:STANDARD
BEGIN:DAYLIGHT
TZOFFSETFROM:+0000
TZOFFSETTO:+0100
TZNAME:BST
DTSTART:20260329T010000
END:DAYLIGHT
BEGIN:STANDARD
TZOFFSETFROM:+0100
TZOFFSETTO:+0000
TZNAME:GMT
DTSTART:20261025T010000
END:STANDARD
END:VTIMEZONE
BEGIN:VEVENT
DTSTART;TZID=Europe/London:20250816T103000
DTEND;TZID=Europe/London:20250920T133000
DTSTAMP:20260425T173757
CREATED:20250805T072634Z
LAST-MODIFIED:20250805T072634Z
UID:44634-1755340200-1758375000@onechippenham.org.uk
SUMMARY:Yelde Hall Morning Openings
DESCRIPTION:Chippenham’s medieval Grade I listed Yelde Hall has recently undergone major repairs by traditional building conservation experts. The work included timber repairs\, restored plasterwork\, limework\, and the installation of a new pentice board\, which will help preserve the building’s frontage. \nThis beautiful and iconic building can now be enjoyed once again in all its glory during our summer morning openings. Visit the historic Yelde Hall on select dates in August and September\, where you can meet characters from the town’s past in the council chamber and pirates from 1709 in the lock-up! \n👉 Yelde Hall Morning Openings\n📅 August & September\n⏲️ 10.30am – 1.30pm\n🎟️ Free entry \nFollow the link to view the full list of opening dates.
URL:https://onechippenham.org.uk/event/yelde-hall-morning-openings/
LOCATION:The Yelde Hall
CATEGORIES:Museum,School holiday
ATTACH;FMTTYPE=image/jpeg:https://onechippenham.org.uk/wp-content/uploads/2025/07/Facebook.jpg
ORGANIZER;CN="Chippenham Museum":MAILTO:heritage@chippenham.gov.uk
END:VEVENT
BEGIN:VEVENT
DTSTART;TZID=Europe/London:20250915T100000
DTEND;TZID=Europe/London:20250915T160000
DTSTAMP:20260425T173757
CREATED:20250709T204256Z
LAST-MODIFIED:20250709T204256Z
UID:43722-1757930400-1757952000@onechippenham.org.uk
SUMMARY:Threads: Clothing\, Memory and Identity
DESCRIPTION:Celebrate all things fashion in our summer exhibition and explore ideas\nof memory and identity through the clothes we wear.
URL:https://onechippenham.org.uk/event/threads-clothing-memory-and-identity/2025-09-15/
CATEGORIES:Exhibition,Museum
ATTACH;FMTTYPE=image/png:https://onechippenham.org.uk/wp-content/uploads/2025/07/CTC-Whats-On.png
ORGANIZER;CN="Chippenham Museum":MAILTO:heritage@chippenham.gov.uk
END:VEVENT
BEGIN:VEVENT
DTSTART;TZID=Europe/London:20250915T120000
DTEND;TZID=Europe/London:20250915T130000
DTSTAMP:20260425T173757
CREATED:20250821T112328Z
LAST-MODIFIED:20250821T112328Z
UID:45280-1757937600-1757941200@onechippenham.org.uk
SUMMARY:Sparkly Lite singing group
DESCRIPTION:Sparkly Singers is the award-winning Wiltshire-based choir experience\, founded with the simple aim of bringing the joy and benefits of group singing to everyone\, regardless of age\, experience or ability. \nOur ‘lighter’ daytime sessions are perfect for anyone who just fancies popping out for an hour or so each week to meet new people and sing a selection of fabulous feel-good songs. No part-singing\, no practising\, no performing in public – just turn up each week and sing! \nSo if you love the idea of simply singing for the fun of it\, why not enquire about one of our FREE taster sessions and come and see what we’re all about.
URL:https://onechippenham.org.uk/event/sparkly-lite-singing-group-4/2025-09-15/
LOCATION:Pewsham Community Centre\, Lodge Road\, Chippenham\, SN5 3SY
CATEGORIES:Adults,Choir,Community,Music,Performing Arts,Singing
ATTACH;FMTTYPE=image/png:https://onechippenham.org.uk/wp-content/uploads/2025/08/Sparkly-Lite-sessions-for-One-Chippenham.png
END:VEVENT
BEGIN:VEVENT
DTSTART;TZID=Europe/London:20250915T120000
DTEND;TZID=Europe/London:20250915T130000
DTSTAMP:20260425T173757
CREATED:20250826T102604Z
LAST-MODIFIED:20250826T102604Z
UID:45237-1757937600-1757941200@onechippenham.org.uk
SUMMARY:FREE taster session with the Sparkly Lite singers
DESCRIPTION:Sparkly Singers is the award-winning Wiltshire-based choir experience\, founded with the simple aim of bringing the joy and benefits of group singing to everyone\, regardless of age\, experience or ability. \nOur ‘lighter’ daytime sessions are perfect for anyone who just fancies popping out for an hour or so each week to meet new people and sing a selection of fabulous feel-good songs. No part-singing\, no practising\, no performing in public – just turn up each week and sing! \nSo if you love the idea of simply singing for the fun of it\, why not come along to this FREE taster session and see what we’re all about.
URL:https://onechippenham.org.uk/event/free-taster-session-with-the-sparkly-lite-singers/
LOCATION:Pewsham Community Centre\, Lodge Road\, Chippenham\, SN5 3SY
CATEGORIES:Adults,Choir,Community,Music,Performing Arts,Singing
ATTACH;FMTTYPE=image/png:https://onechippenham.org.uk/wp-content/uploads/2025/08/September-2025-lighter-taster-session-for-One-Chippenham.png
ORGANIZER;CN="Sparkly Singers":MAILTO:hello@sparklysingers.co.uk
END:VEVENT
BEGIN:VEVENT
DTSTART;TZID=Europe/London:20250915T190000
DTEND;TZID=Europe/London:20250915T203000
DTSTAMP:20260425T173757
CREATED:20250814T140147Z
LAST-MODIFIED:20250814T140147Z
UID:44972-1757962800-1757968200@onechippenham.org.uk
SUMMARY:Healthy Man
DESCRIPTION:Join 12 weeks of engaging activities and workshops focused on health and wellbeing in a supportive environment. \nWhether you’re looking to shed a few pounds\, get back into exercise\, or just feel better day-to-day….\nThis programme is for YOU! \nTeam sports\, racket sports\, circuits\, gym introductions\, health coach support\, tools to build lasting healthy habits and more! \n\nNo pressure\nNo judgement\nJust progress\n\nStarts: 15th September\nTime: 7PM – 8:30PM\nOlympiad Leisure Centre\, Chippenham\, SN15 3PA \nScan QR code in the poster\, visit here or email communitysport@wiltshire.gov.uk to find out more.
URL:https://onechippenham.org.uk/event/healthy-man/
LOCATION:The Olympiad
CATEGORIES:Exercise,Fitness,Health,Wellbeing,Workshop
ATTACH;FMTTYPE=image/jpeg:https://onechippenham.org.uk/wp-content/uploads/2025/08/IMG_8426.jpeg
END:VEVENT
END:VCALENDAR