BEGIN:VCALENDAR
VERSION:2.0
PRODID:-//One Chippenham - ECPv6.15.20//NONSGML v1.0//EN
CALSCALE:GREGORIAN
METHOD:PUBLISH
X-ORIGINAL-URL:https://onechippenham.org.uk
X-WR-CALDESC:Events for One Chippenham
REFRESH-INTERVAL;VALUE=DURATION:PT1H
X-Robots-Tag:noindex
X-PUBLISHED-TTL:PT1H
BEGIN:VTIMEZONE
TZID:Europe/London
BEGIN:DAYLIGHT
TZOFFSETFROM:+0000
TZOFFSETTO:+0100
TZNAME:BST
DTSTART:20240331T010000
END:DAYLIGHT
BEGIN:STANDARD
TZOFFSETFROM:+0100
TZOFFSETTO:+0000
TZNAME:GMT
DTSTART:20241027T010000
END:STANDARD
BEGIN:DAYLIGHT
TZOFFSETFROM:+0000
TZOFFSETTO:+0100
TZNAME:BST
DTSTART:20250330T010000
END:DAYLIGHT
BEGIN:STANDARD
TZOFFSETFROM:+0100
TZOFFSETTO:+0000
TZNAME:GMT
DTSTART:20251026T010000
END:STANDARD
BEGIN:DAYLIGHT
TZOFFSETFROM:+0000
TZOFFSETTO:+0100
TZNAME:BST
DTSTART:20260329T010000
END:DAYLIGHT
BEGIN:STANDARD
TZOFFSETFROM:+0100
TZOFFSETTO:+0000
TZNAME:GMT
DTSTART:20261025T010000
END:STANDARD
END:VTIMEZONE
BEGIN:VEVENT
DTSTART;TZID=Europe/London:20251014T093000
DTEND;TZID=Europe/London:20251014T113000
DTSTAMP:20260425T165835
CREATED:20251201T105400Z
LAST-MODIFIED:20251201T105400Z
UID:47522-1760434200-1760441400@onechippenham.org.uk
SUMMARY:Beginners Art
DESCRIPTION:Uniquely designed and delivered 6 x 6 week courses for beginners. \nTuesdays 9.30 – 11.30 am at the Cause Arts Centre\, Causeway Chippenham \nTerm 1: September 16th – October 21st 2025 – Still Life (drawing)\nTerm 2: November 4th – December 9th 2025 – Objects (interiors)\nTerm 3: January 6th – February 10th 2026 – Portraits (painting)\nTerm 4: February 24th – March 31st 2026. – Interiors (drawing)\nTerm 5: April 14th – May 19th 2026 – Landscape (painting)\nTerm 6: June 2nd – July 7th 2026 – Still Life (mixed media\, collage) \nTaught by local artist and designer Charlie who has over 25 years experience teaching art in a variety of settings from Further and Higher education colleges and universities. \nPlease note: courses begin with drawing\, and include a talk about art movements and practitioners as part of your learning.
URL:https://onechippenham.org.uk/event/beginners-art-2/2025-10-14/
LOCATION:The Cause Music and Arts Centre\, 42 The Causeway\, Chippenham\, Wiltshire\, SN15 3DD\, United Kingdom
CATEGORIES:Visual Arts,Workshop
ATTACH;FMTTYPE=image/jpeg:https://onechippenham.org.uk/wp-content/uploads/2025/09/Beginners-Art-.jpg
ORGANIZER;CN="Rag and Bone Arts CIC":MAILTO:ragandbonearts@gmail.com
END:VEVENT
BEGIN:VEVENT
DTSTART;TZID=Europe/London:20251014T123000
DTEND;TZID=Europe/London:20251014T143000
DTSTAMP:20260425T165835
CREATED:20250915T100150Z
LAST-MODIFIED:20250915T100150Z
UID:47541-1760445000-1760452200@onechippenham.org.uk
SUMMARY:Improvers Art
DESCRIPTION:Uniquely designed and delivered 6 x 6 week courses for those with some experience or who want to extend their skills further. \nTuesdays at 12.30 – 2.30pm at the Cause Arts Centre\, Causeway Chippenham (you can find all of our locations at the bottom of our website with maps) \nTerm 1: September 16th – October 21st 2025 – Still Life (drawing)\nTerm 2: November 4th – December 9th 2025 – Objects (interiors)\nTerm 3: January 6th – February 10th 2026 – Portraits (painting)\nTerm 4: February 24th – March 31st 2026. – Interiors (drawing)\nTerm 5: April 14th – May 19th 2026 – Landscape (painting)\nTerm 6: June 2nd – July 7th 2026 – Still Life (mixed media\, collage) \nTaught by local artist and designer Charlie who has over 25 years experience teaching art in a range of settings from Further and Higher Education colleges and universities and leisure courses. \nPlease note: courses begin with drawing\, and include a talk about relevant art movements and practitioners. \n£102 per term (with an optional £10 materials donation) – 6 weeks of 2 hour sessions\, includes materials and tea/coffee (donations welcome to help with refreshment costs).
URL:https://onechippenham.org.uk/event/improvers-art-3/2025-10-14/
LOCATION:The Cause Music and Arts Centre\, 42 The Causeway\, Chippenham\, Wiltshire\, SN15 3DD\, United Kingdom
CATEGORIES:Visual Arts,Workshop
ATTACH;FMTTYPE=image/jpeg:https://onechippenham.org.uk/wp-content/uploads/2025/09/Improvers-Art-.jpg
ORGANIZER;CN="Rag and Bone Arts CIC":MAILTO:ragandbonearts@gmail.com
END:VEVENT
BEGIN:VEVENT
DTSTART;TZID=Europe/London:20251014T190000
DTEND;TZID=Europe/London:20251014T210000
DTSTAMP:20260425T165835
CREATED:20251006T090222Z
LAST-MODIFIED:20251006T090222Z
UID:50744-1760468400-1760475600@onechippenham.org.uk
SUMMARY:Chippenham's myths\, legends and rumours
DESCRIPTION:A meeting of History Portal Club\, with Lucy Whitfield\, Historian \nTogether we’ll look at commonly-held rumours about incidents in Chippenham’s past that pepper local history discussion\, and whether there’s any truth in them – so we’re talking aliens\, murders\, escaped wild animals\, arson plots\, palaces\, accidents and so on. \nThis interactive club session will explore the stories that run through the community\, from Victorian supposition to mis-remembered details\, weighing up the evidence and seeking the truth – if it’s out there. \nHistory Portal Club is a friendly regular meet-up for curious locals who love stories from the past\, hidden landmarks\, and great company. It’s a great way to explore the local area’s past together – no lectures\, no stuffy rooms\, just walking\, talking\, pub chats\, and stories you won’t find in the guidebooks.
URL:https://onechippenham.org.uk/event/chippenhams-myths-legends-and-rumours/
LOCATION:Wine Monkey\, 20 Borough Parade\, Chippenham\, SN15 3WL\, United Kingdom
CATEGORIES:Heritage,History
ATTACH;FMTTYPE=image/jpeg:https://onechippenham.org.uk/wp-content/uploads/2025/10/History-portal-club-poster-myths_1-smaller-scaled.jpg
END:VEVENT
BEGIN:VEVENT
DTSTART;TZID=Europe/London:20251014T190000
DTEND;TZID=Europe/London:20251014T210000
DTSTAMP:20260425T165835
CREATED:20251201T104004Z
LAST-MODIFIED:20251201T104004Z
UID:47562-1760468400-1760475600@onechippenham.org.uk
SUMMARY:Life Drawing
DESCRIPTION:‘My favourite time of the week’ \nA chance to indulge\, draw and to practice some essential drawing skills in a beautiful environment\, guided by someone with over 25 years teaching experience. You’ll use a diverse range of styles and techniques that stretch you and keep you motivated to improve. \nAll while enjoying fresh coffee and meeting some other lovely local artists. \nLife Drawing is challenging and rewarding\, but like drawing anything else\, it takes practice and patience. \nThe best way to encourage practice is to vary the media and techniques available; to make sure this is feasible\, we provide materials (donations welcome) This also allows more confidence as using expensive personal materials tends to inhibit experimentation. \nSometimes the session is devoted to a worksheet-style drawing\, using many poses on one sheet in different materials. These are a great opportunity to gain confidence in composition\, materials and mark-making. \n£105 for 6 x 2 hour session term or £20 cash drop-in option (just for our life drawing sessions) \nWe look forward to meeting you soon.
URL:https://onechippenham.org.uk/event/life-drawing-7/2025-10-14/
LOCATION:The Cause Music and Arts Centre\, 42 The Causeway\, Chippenham\, Wiltshire\, SN15 3DD\, United Kingdom
CATEGORIES:Arts,Visual Arts
ATTACH;FMTTYPE=image/jpeg:https://onechippenham.org.uk/wp-content/uploads/2025/09/IMG_5674-copy.jpeg
ORGANIZER;CN="Rag and Bone Arts CIC":MAILTO:ragandbonearts@gmail.com
END:VEVENT
BEGIN:VEVENT
DTSTART;TZID=Europe/London:20251014T191500
DTEND;TZID=Europe/London:20251014T211500
DTSTAMP:20260425T165835
CREATED:20250114T185357Z
LAST-MODIFIED:20250114T185357Z
UID:37746-1760469300-1760476500@onechippenham.org.uk
SUMMARY:The Village Singers
DESCRIPTION:Love to sing? \nThe Village Singers are a community choir with members of all ages coming from the villages and towns around Chippenham. We have no auditions and we always welcome new members. We have been making music together since 2011. \nWe are united by our love of music and our love of fun but also through many shared emotional experiences. As well as performing in local churches we have had several wonderful tours including singing in Bruges\, Paris\, New York and Amsterdam. \nWe meet at St Andrew’s Church Chippenham every Tuesday during term time from 7.15pm-9.15pm. \nWhy not come along and have a free taster? \nIf you would like to try us\, please email info@villagesingers.co.uk \nFind out more by visiting our website: villagesingers.co.uk \n2025 REHEARSAL SCHEDULE  \n\n7th January – 11th February rehearsals (7.15pm- 9.15pm)\n18th February:- NO REHEARSAL HALF TERM\n25th February – 1st April rehearsals (7.15pm- 9.15pm)\n8th April & 15th April:- NO REHEARSAL EASTER BREAK\n22nd April  – 20th May rehearsals (7.15pm- 9.15pm)\nMay 27th:- NO REHEARSAL HALF TERM\n3rd June – 15th July rehearsals (7.15pm – 9.15pm)\nSUMMER BREAK\n2nd September – 23rd September rehearsals (7.15pm- 9.15pm)\nSeptember 30th:- NO REHEARSAL HALF TERM\n7th October – 16th December rehearsals (7.15pm- 9.15pm)\nCHRISTMAS BREAK.
URL:https://onechippenham.org.uk/event/the-village-singers/2025-10-14/
LOCATION:St Andrew’s Church\, St Mary’s Street\, Chippenham\, SN15 3JN\, United Kingdom
CATEGORIES:Choir,Community
ATTACH;FMTTYPE=image/png:https://onechippenham.org.uk/wp-content/uploads/2025/01/Copy-of-families-out-loud-blog-header-volunteers.png
ORGANIZER;CN="The Village Singers":MAILTO:info@villagesingers.co.uk
END:VEVENT
BEGIN:VEVENT
DTSTART;TZID=Europe/London:20251014T193000
DTEND;TZID=Europe/London:20251014T210000
DTSTAMP:20260425T165835
CREATED:20250818T082122Z
LAST-MODIFIED:20250818T082122Z
UID:45060-1760470200-1760475600@onechippenham.org.uk
SUMMARY:Allsorts Community Choir Weekly Sessions
DESCRIPTION:Allsorts Community Choir meets Tuesday 7.30pm at Sheldon Road Methodist Church\, Chippenham.\nAll sorts of styles from swing to gospel\, to folk and pop with a generous helping of everything in between. All sorts of people from 18-108 welcome! \nFirst two sessions FREE\, £3 per session once joined (paid termly). Auditions\, music reading\, & experience NOT necessary! Enthusiasm\, commitment\, & a good sense of fun essential!\n“Such fun having a good sing-song with such lovely happy caring folks.” Choir Member \nAs of August 2025 the waiting list to join is full\, please reach out over the Christmas break to check it’s status. \nWe’d love to perform at your next event\, simply contact us to check availability: allsortschippenham@hotmail.com \nWow! What an evening and thanks to Allsorts for a great performance and showing what a community choir is all about.\nOrganiser of local charity concert
URL:https://onechippenham.org.uk/event/allsorts-community-choir-weekly-sessions/2025-10-14/
LOCATION:Sheldon Road Methodist Church\, Audley Road\, Chippenham\, SN14 0DU\, Sheldon Road Methodist Church\, Audley Road\, Chippenham\, Wiltshire\, SN14 0DU\, United Kingdom
CATEGORIES:Choir,Community,Music,Singing
ATTACH;FMTTYPE=image/jpeg:https://onechippenham.org.uk/wp-content/uploads/2025/08/Photo-08-05-2025-19-11-18.jpg
ORGANIZER;CN="Allsorts Community Choir":MAILTO:allsortschippenham@hotmail.com
END:VEVENT
BEGIN:VEVENT
DTSTART;TZID=Europe/London:20251014T193000
DTEND;TZID=Europe/London:20251014T210000
DTSTAMP:20260425T165835
CREATED:20250905T095944Z
LAST-MODIFIED:20250905T095944Z
UID:46417-1760470200-1760475600@onechippenham.org.uk
SUMMARY:Chippenham Show Choir
DESCRIPTION:Singing songs from smash hit West End musicals as well as lesser-known off-Broadway gems\, all in a cappella\, Chippenham Show Choir is fast-paced\, exciting and seriously good fun! With no auditions\, and regular performances come and try out Chippenham Show Choir – your first session is completely FREE!
URL:https://onechippenham.org.uk/event/chippenham-show-choir/2025-10-14/
LOCATION:King Alfred Hall\, Market Place\, Chippenham\, SN15 3HT
CATEGORIES:Adults,Choir,Community,Music,Performing Arts,Singing
ATTACH;FMTTYPE=image/jpeg:https://onechippenham.org.uk/wp-content/uploads/2025/09/Show-Choir-scaled.jpg
ORGANIZER;CN="Chippenham Show Choir":MAILTO:mail@ukshowchoir.com
END:VEVENT
BEGIN:VEVENT
DTSTART;TZID=Europe/London:20251014T193000
DTEND;TZID=Europe/London:20251014T210000
DTSTAMP:20260425T165835
CREATED:20250918T094701Z
LAST-MODIFIED:20250918T094701Z
UID:48631-1760470200-1760475600@onechippenham.org.uk
SUMMARY:Chippenham Show Choir Autumn Term!
DESCRIPTION:⭐ Hot off our second SOLD OUT run at Edinburgh Fringe\, Show Choir’s Chippenham branch is accepting new members for our Autumn term \nWe’d particularly LOVE more deep voices (tenor / bass) regardless of gender! \n♥️ No Auditions\, everyone welcome!\n🍻 Regular socials\, events and performances\n✨ First session completely FREE \n📆 Tuesdays 7:30-9pm\n📍King Alfred Hall in Chippenham town centre. \n⭐ Sign up at https://www.ukshowchoir.com/join-us to book a FREE trial session!
URL:https://onechippenham.org.uk/event/chippenham-show-choir-autumn-term/2025-10-14/
LOCATION:King Alfred Hall\, Market Place\, Chippenham\, SN15 3HT
CATEGORIES:Choir,Community,Music,Singing
ATTACH;FMTTYPE=image/jpeg:https://onechippenham.org.uk/wp-content/uploads/2025/09/inbound5901542685781838333.jpg
ORGANIZER;CN="Chippenham Show Choir":MAILTO:mail@ukshowchoir.com
END:VEVENT
END:VCALENDAR