BEGIN:VCALENDAR
VERSION:2.0
PRODID:-//One Chippenham - ECPv6.15.20//NONSGML v1.0//EN
CALSCALE:GREGORIAN
METHOD:PUBLISH
X-ORIGINAL-URL:https://onechippenham.org.uk
X-WR-CALDESC:Events for One Chippenham
REFRESH-INTERVAL;VALUE=DURATION:PT1H
X-Robots-Tag:noindex
X-PUBLISHED-TTL:PT1H
BEGIN:VTIMEZONE
TZID:Europe/London
BEGIN:DAYLIGHT
TZOFFSETFROM:+0000
TZOFFSETTO:+0100
TZNAME:BST
DTSTART:20240331T010000
END:DAYLIGHT
BEGIN:STANDARD
TZOFFSETFROM:+0100
TZOFFSETTO:+0000
TZNAME:GMT
DTSTART:20241027T010000
END:STANDARD
BEGIN:DAYLIGHT
TZOFFSETFROM:+0000
TZOFFSETTO:+0100
TZNAME:BST
DTSTART:20250330T010000
END:DAYLIGHT
BEGIN:STANDARD
TZOFFSETFROM:+0100
TZOFFSETTO:+0000
TZNAME:GMT
DTSTART:20251026T010000
END:STANDARD
BEGIN:DAYLIGHT
TZOFFSETFROM:+0000
TZOFFSETTO:+0100
TZNAME:BST
DTSTART:20260329T010000
END:DAYLIGHT
BEGIN:STANDARD
TZOFFSETFROM:+0100
TZOFFSETTO:+0000
TZNAME:GMT
DTSTART:20261025T010000
END:STANDARD
END:VTIMEZONE
BEGIN:VEVENT
DTSTART;VALUE=DATE:20251023
DTEND;VALUE=DATE:20251101
DTSTAMP:20260426T001309
CREATED:20251015T083903Z
LAST-MODIFIED:20251015T084042Z
UID:51563-1761177600-1761955199@onechippenham.org.uk
SUMMARY:In2Sport Holiday Camp
DESCRIPTION:Looking for something exciting this October? Our In2Sport Holiday Camps are back — and they’re bigger\, better\, and busier than ever! \nYour child can dive into a week full of energy\, new skills\, and great memories with our friendly expert coaches. \nChoose your adventure:\n• Multi-Sport\n• Football\n• Street Dance \nDates & Locations:\n• Corsham\, Chippenham & Melksham – 23rd–31st Oct\n• Football Camp (Corsham) – 23rd & 31st Oct\n• Street Dance @ Springfield – 23rd & 27th Oct (£18) \nHalloween Fancy Dress – 31st Oct!\nCostumes\, games\, and prizes for the spookiest looks! 🎃 \nStandard hours: 9am–3pm\nExtended hours available\nFrom £28 per day \n🚀 Don’t miss out — spaces go fast every year!\n👉 Book now at www.in2sportcoaching.co.uk \n#In2Sport #HolidayCamps #HalfTermFun #KidsActivities #SportsCamp #FootballCamp #MultiSport ##ActiveKids
URL:https://onechippenham.org.uk/event/in2sport-holiday-camp/
CATEGORIES:Children,Dance,Games,Half-Term,Halloween
ATTACH;FMTTYPE=image/jpeg:https://onechippenham.org.uk/wp-content/uploads/2025/10/IMG_0393.jpeg
END:VEVENT
BEGIN:VEVENT
DTSTART;TZID=Europe/London:20251028T090000
DTEND;TZID=Europe/London:20251028T100000
DTSTAMP:20260426T001309
CREATED:20251008T065854Z
LAST-MODIFIED:20251008T065854Z
UID:51040-1761642000-1761645600@onechippenham.org.uk
SUMMARY:October Half Term\, Quiet Time Sessions
DESCRIPTION:Experience the museums free drop-in activities in a quieter way. \nLast entry 9.45am.
URL:https://onechippenham.org.uk/event/october-half-term-quiet-time-sessions/2025-10-28/
LOCATION:Chippenham Museum\, 9-10 Market Pl\, Chippenham\, SN15 3HF\, United Kingdom
CATEGORIES:Autism friendly,Crafts,Half-Term,School holiday
ATTACH;FMTTYPE=image/png:https://onechippenham.org.uk/wp-content/uploads/2025/10/Facebook.png
ORGANIZER;CN="Chippenham Museum":MAILTO:heritage@chippenham.gov.uk
END:VEVENT
BEGIN:VEVENT
DTSTART;TZID=Europe/London:20251028T100000
DTEND;TZID=Europe/London:20251031T160000
DTSTAMP:20260426T001309
CREATED:20250924T143400Z
LAST-MODIFIED:20250924T143749Z
UID:49536-1761645600-1761926400@onechippenham.org.uk
SUMMARY:October Half Term Activities
DESCRIPTION:This October Half Term\, join us at the REME Museum for spooktacular STEM and crafts activities for all the family to enjoy. \n‘Rocket Powered’ – Tuesday 28 October\nDrop-in\, Education Suite \nDesign and launch your own bottle rocket or air powered car\, using the same principles of engineering in rocket science! Led by our Education Officer\, Andrew. \nLEGO® Engineering – Wednesday 29 October\nPre-bookable sessions\, Education Suite \nUnleash your inner engineer and build a vehicle from LEGO® that will actually drive! Recommended for ages 7 and above. \nMeccano Makes – Thursday 30 October\nDrop-in\, Education Suite \nGet hands-on with Meccano construction sets to engineer your own vehicle\, equipment and more! Recommended for ages 7 and above. \n‘Build a Tank’ Junk Modelling – Friday 31 October\nSelf-led\, Creation Station \nCome and create your own special REME-inspired vehicle to take away with you! Get creative and see what you can make from recycled materials. The only limit is your imagination! \nMiniature Assault Course – Every day 28-31 October\nDrop-in\, outdoors \nTake on our miniature army-style assault course! Race your way across the course or take your time and enjoy the challenge! Please note: This activity is weather dependent. \n\nAll activities included in museum entry fee. LEGO® Engineering workshops must be pre-booked. \nIf you would like to visit during Half Term but would prefer a quieter environment\, please take a look at our October Lights Up\, Sounds Down day. There will be no workshops or extra activities on this day. \nIf you are planning to visit as a Holiday Club or similar group\, please contact us to arrange a special booking. We can accommodate larger groups if you book in advance.
URL:https://onechippenham.org.uk/event/__trashed-3/
LOCATION:REME Museum\, Calne Road\, MOD Lyneham\, Chippenham\, Wiltshire\, SN15 4XX\, United Kingdom
CATEGORIES:Children,Crafts,Family,Family Friendly,Half-Term,Museum,School holiday
ATTACH;FMTTYPE=image/jpeg:https://onechippenham.org.uk/wp-content/uploads/2025/09/Meccano-Easter-2024-6-crop-scaled.jpg
ORGANIZER;CN="REME Museum":MAILTO:enquiries@rememuseum.org.uk
END:VEVENT
BEGIN:VEVENT
DTSTART;TZID=Europe/London:20251028T103000
DTEND;TZID=Europe/London:20251028T153000
DTSTAMP:20260426T001309
CREATED:20251008T065409Z
LAST-MODIFIED:20251008T065409Z
UID:51027-1761647400-1761665400@onechippenham.org.uk
SUMMARY:October Half Term\, Drop-in Creative Activities
DESCRIPTION:Join us for some free\, fun\, creative activities at Chippenham Museum.
URL:https://onechippenham.org.uk/event/october-half-term-drop-in-creative-activities/2025-10-28/
LOCATION:Chippenham Museum\, 9-10 Market Pl\, Chippenham\, SN15 3HF\, United Kingdom
CATEGORIES:Crafts,Half-Term,School holiday
ATTACH;FMTTYPE=image/png:https://onechippenham.org.uk/wp-content/uploads/2025/10/IMG_0163.png
ORGANIZER;CN="Chippenham Museum":MAILTO:heritage@chippenham.gov.uk
END:VEVENT
BEGIN:VEVENT
DTSTART;TZID=Europe/London:20251028T190000
DTEND;TZID=Europe/London:20251028T210000
DTSTAMP:20260426T001309
CREATED:20251006T091206Z
LAST-MODIFIED:20251006T091206Z
UID:50816-1761678000-1761685200@onechippenham.org.uk
SUMMARY:What was life like at the Sanitary Laundry?
DESCRIPTION:A meeting of History Portal Club\, with Lucy Whitfield\, Historian. \nWe’ll take a deep dive into the life of the Sanitary Laundry\, which was just by Ivy Lane School (the chimney’s still there\, albeit a bit shorter than it was). This workplace employed generations of townsfolk\, but piecing its history together is a job and a half\, so if you (or one of your folks) worked there at any time\, please pass on some memories. \nThis interactive club session will explore the life and times of a bygone workplace that played a significant part in the culture of the town\, with practices and technologies that are long gone but still fondly remembered. \nHistory Portal Club is a friendly regular meet-up for curious locals who love stories from the past\, hidden landmarks\, and great company. It’s a great way to explore the local area’s past together – no lectures\, no stuffy rooms\, just walking\, talking\, pub chats\, and stories you won’t find in the guidebooks.
URL:https://onechippenham.org.uk/event/what-was-life-like-at-the-sanitary-laundry/
LOCATION:Wine Monkey\, 20 Borough Parade\, Chippenham\, SN15 3WL\, United Kingdom
CATEGORIES:Heritage,History
ATTACH;FMTTYPE=image/jpeg:https://onechippenham.org.uk/wp-content/uploads/2025/10/History-portal-club-poster-laundry_1-scaled.jpg
END:VEVENT
BEGIN:VEVENT
DTSTART;TZID=Europe/London:20251028T191500
DTEND;TZID=Europe/London:20251028T211500
DTSTAMP:20260426T001309
CREATED:20250114T185357Z
LAST-MODIFIED:20250114T185357Z
UID:37748-1761678900-1761686100@onechippenham.org.uk
SUMMARY:The Village Singers
DESCRIPTION:Love to sing? \nThe Village Singers are a community choir with members of all ages coming from the villages and towns around Chippenham. We have no auditions and we always welcome new members. We have been making music together since 2011. \nWe are united by our love of music and our love of fun but also through many shared emotional experiences. As well as performing in local churches we have had several wonderful tours including singing in Bruges\, Paris\, New York and Amsterdam. \nWe meet at St Andrew’s Church Chippenham every Tuesday during term time from 7.15pm-9.15pm. \nWhy not come along and have a free taster? \nIf you would like to try us\, please email info@villagesingers.co.uk \nFind out more by visiting our website: villagesingers.co.uk \n2025 REHEARSAL SCHEDULE  \n\n7th January – 11th February rehearsals (7.15pm- 9.15pm)\n18th February:- NO REHEARSAL HALF TERM\n25th February – 1st April rehearsals (7.15pm- 9.15pm)\n8th April & 15th April:- NO REHEARSAL EASTER BREAK\n22nd April  – 20th May rehearsals (7.15pm- 9.15pm)\nMay 27th:- NO REHEARSAL HALF TERM\n3rd June – 15th July rehearsals (7.15pm – 9.15pm)\nSUMMER BREAK\n2nd September – 23rd September rehearsals (7.15pm- 9.15pm)\nSeptember 30th:- NO REHEARSAL HALF TERM\n7th October – 16th December rehearsals (7.15pm- 9.15pm)\nCHRISTMAS BREAK.
URL:https://onechippenham.org.uk/event/the-village-singers/2025-10-28/
LOCATION:St Andrew’s Church\, St Mary’s Street\, Chippenham\, SN15 3JN\, United Kingdom
CATEGORIES:Choir,Community
ATTACH;FMTTYPE=image/png:https://onechippenham.org.uk/wp-content/uploads/2025/01/Copy-of-families-out-loud-blog-header-volunteers.png
ORGANIZER;CN="The Village Singers":MAILTO:info@villagesingers.co.uk
END:VEVENT
BEGIN:VEVENT
DTSTART;TZID=Europe/London:20251028T193000
DTEND;TZID=Europe/London:20251028T210000
DTSTAMP:20260426T001309
CREATED:20250905T095947Z
LAST-MODIFIED:20250905T095947Z
UID:46419-1761679800-1761685200@onechippenham.org.uk
SUMMARY:Chippenham Show Choir
DESCRIPTION:Singing songs from smash hit West End musicals as well as lesser-known off-Broadway gems\, all in a cappella\, Chippenham Show Choir is fast-paced\, exciting and seriously good fun! With no auditions\, and regular performances come and try out Chippenham Show Choir – your first session is completely FREE!
URL:https://onechippenham.org.uk/event/chippenham-show-choir/2025-10-28/
LOCATION:King Alfred Hall\, Market Place\, Chippenham\, SN15 3HT
CATEGORIES:Adults,Choir,Community,Music,Performing Arts,Singing
ATTACH;FMTTYPE=image/jpeg:https://onechippenham.org.uk/wp-content/uploads/2025/09/Show-Choir-scaled.jpg
ORGANIZER;CN="Chippenham Show Choir":MAILTO:mail@ukshowchoir.com
END:VEVENT
BEGIN:VEVENT
DTSTART;TZID=Europe/London:20251028T193000
DTEND;TZID=Europe/London:20251028T210000
DTSTAMP:20260426T001309
CREATED:20250918T094703Z
LAST-MODIFIED:20250918T094703Z
UID:48633-1761679800-1761685200@onechippenham.org.uk
SUMMARY:Chippenham Show Choir Autumn Term!
DESCRIPTION:⭐ Hot off our second SOLD OUT run at Edinburgh Fringe\, Show Choir’s Chippenham branch is accepting new members for our Autumn term \nWe’d particularly LOVE more deep voices (tenor / bass) regardless of gender! \n♥️ No Auditions\, everyone welcome!\n🍻 Regular socials\, events and performances\n✨ First session completely FREE \n📆 Tuesdays 7:30-9pm\n📍King Alfred Hall in Chippenham town centre. \n⭐ Sign up at https://www.ukshowchoir.com/join-us to book a FREE trial session!
URL:https://onechippenham.org.uk/event/chippenham-show-choir-autumn-term/2025-10-28/
LOCATION:King Alfred Hall\, Market Place\, Chippenham\, SN15 3HT
CATEGORIES:Choir,Community,Music,Singing
ATTACH;FMTTYPE=image/jpeg:https://onechippenham.org.uk/wp-content/uploads/2025/09/inbound5901542685781838333.jpg
ORGANIZER;CN="Chippenham Show Choir":MAILTO:mail@ukshowchoir.com
END:VEVENT
END:VCALENDAR