BEGIN:VCALENDAR
VERSION:2.0
PRODID:-//One Chippenham - ECPv6.15.20//NONSGML v1.0//EN
CALSCALE:GREGORIAN
METHOD:PUBLISH
X-ORIGINAL-URL:https://onechippenham.org.uk
X-WR-CALDESC:Events for One Chippenham
REFRESH-INTERVAL;VALUE=DURATION:PT1H
X-Robots-Tag:noindex
X-PUBLISHED-TTL:PT1H
BEGIN:VTIMEZONE
TZID:Europe/London
BEGIN:DAYLIGHT
TZOFFSETFROM:+0000
TZOFFSETTO:+0100
TZNAME:BST
DTSTART:20240331T010000
END:DAYLIGHT
BEGIN:STANDARD
TZOFFSETFROM:+0100
TZOFFSETTO:+0000
TZNAME:GMT
DTSTART:20241027T010000
END:STANDARD
BEGIN:DAYLIGHT
TZOFFSETFROM:+0000
TZOFFSETTO:+0100
TZNAME:BST
DTSTART:20250330T010000
END:DAYLIGHT
BEGIN:STANDARD
TZOFFSETFROM:+0100
TZOFFSETTO:+0000
TZNAME:GMT
DTSTART:20251026T010000
END:STANDARD
BEGIN:DAYLIGHT
TZOFFSETFROM:+0000
TZOFFSETTO:+0100
TZNAME:BST
DTSTART:20260329T010000
END:DAYLIGHT
BEGIN:STANDARD
TZOFFSETFROM:+0100
TZOFFSETTO:+0000
TZNAME:GMT
DTSTART:20261025T010000
END:STANDARD
END:VTIMEZONE
BEGIN:VEVENT
DTSTART;TZID=Europe/London:20251031T210000
DTEND;TZID=Europe/London:20251101T020000
DTSTAMP:20260426T001310
CREATED:20251013T093605Z
LAST-MODIFIED:20251013T093605Z
UID:51358-1761944400-1761962400@onechippenham.org.uk
SUMMARY:Halloween Party
DESCRIPTION:Get ready for a night of thrills\, chills\, and killer tunes at Grounded Chippenham! Live DJ spinning spooky beats Costume Competition – Dress to scare and win a bottle of Prosecco  Free shot when you sign up via our socials or email us!
URL:https://onechippenham.org.uk/event/halloween-party/
LOCATION:Cafe Grounded\, 1 Bath Rd\, Chippenham\, Wiltshire\, SN15 2BB\, United Kingdom
CATEGORIES:Disco
ATTACH;FMTTYPE=image/jpeg:https://onechippenham.org.uk/wp-content/uploads/2025/10/inbound5481189477804157520.jpg
ORGANIZER;CN="Grounded":MAILTO:Chippenham@groundedcafebars.com
END:VEVENT
BEGIN:VEVENT
DTSTART;TZID=Europe/London:20251101T080000
DTEND;TZID=Europe/London:20251101T120000
DTSTAMP:20260426T001310
CREATED:20251006T093055Z
LAST-MODIFIED:20251006T093055Z
UID:50778-1761984000-1761998400@onechippenham.org.uk
SUMMARY:Chippenham Study Club
DESCRIPTION:A private study club is being organised for students and others on a Saturday morning available from 08.00 to midday\, which will be held at Wetherspoons\, Chippenham where a room is privately booked out for the purpose. There is no membership fee. \nIt will provide a friendly but quiet space for your private study\, research\, revision\, or reading without distractions or noise\, yet offer a sense of company and possibly make new friends. \nWetherspoons offers coffee/hot chocolate etc at £1.71p for unlimited refills.\nReasonably priced meals and breakfasts. Full breakfast starts at £2.99. \nFree to join.\nTo register contact: stephencox.gardentrust@gmail.com
URL:https://onechippenham.org.uk/event/chippenham-study-club/2025-11-01/
LOCATION:The Bridge House – JD Wetherspoon\, Borough Parade\, Chippenham\, Wiltshire\, SN15 3WL\, United Kingdom
ATTACH;FMTTYPE=image/png:https://onechippenham.org.uk/wp-content/uploads/2025/10/Study-Club.png
END:VEVENT
BEGIN:VEVENT
DTSTART;TZID=Europe/London:20251101T103000
DTEND;TZID=Europe/London:20251101T130000
DTSTAMP:20260426T001310
CREATED:20250915T125353Z
LAST-MODIFIED:20250915T125353Z
UID:47750-1761993000-1762002000@onechippenham.org.uk
SUMMARY:Rag and Bone Arts CIC Theatre Company
DESCRIPTION:Calling all performers aged 13 and up (including adults) \nA NEW performance company for young people and adults. \nWe spent time in June 2025 exploring ideas and working together to see what sort of work we all wanted to create and this will now be followed by a 9 week rehearsal period from Saturday 27th September\, followed by an intensive rehearsal period in January 2026 finishing a performance on Feb 7th 2026 (Venue – TBC – as we’ll come up with that together). \nWhether you’re a seasoned actor or just starting out\, why not showcase your talent and connect with like-minded locals? It may be that you prefer to be backstage or help with the design and production. Whatever your skills\, we’ll find something for you that’ll bring out your best and get you involved\, if it’s the right fit for you and us. \nAll members who sign up must be available for all of the dates below:September 27th\nOctober 4th\, 11th and 18th\nNovember 1st\, 8th\, 15th\, 22nd and 29th\nJan 10th\, 17th\, 24th and 31st\nFeb 7th (Venue TBC) \n(£55 for the whole project (June 2025 to February 2026)\, thanks to the Wiltshire Community Foundation. You may bring £3 subs per week if it’s easier for you. \nSee you soon.
URL:https://onechippenham.org.uk/event/rag-and-bone-arts-cic-theatre-company/2025-11-01/
LOCATION:Central Methodist Church\, Monkton Hill\, Chippenham\, Chippenham\, Wiltshire\, SN15 1EP\, United Kingdom
CATEGORIES:Theatre
ATTACH;FMTTYPE=image/png:https://onechippenham.org.uk/wp-content/uploads/2025/09/SWEET-FE.png
ORGANIZER;CN="Rag and Bone Arts CIC":MAILTO:ragandbonearts@gmail.com
END:VEVENT
BEGIN:VEVENT
DTSTART;TZID=Europe/London:20251101T110000
DTEND;TZID=Europe/London:20251101T120000
DTSTAMP:20260426T001310
CREATED:20250428T095029Z
LAST-MODIFIED:20250429T151654Z
UID:40770-1761994800-1761998400@onechippenham.org.uk
SUMMARY:Treasures from the Archives – Explore\, Discover\, Discuss
DESCRIPTION:Make 2025 your year of discovery and join our new Treasures from the Archives group. This is an opportunity for you to explore some of the amazing documents in the Wiltshire and Swindon Archive collections in a friendly and informal setting. \nThe group meets every other month on a Saturday\, led by Community History Advisor Gianna Torchia. Each hour-long session will focus on an original document that will be explored and discussed to reveal the creative side of archives through the stories of people\, places or events. Gianna hopes to inspire members to get creative using information from the original documents. An information pack\, including transcriptions and reading lists\, will be available at the end of each session. \nEach session has a different theme which will provide you with an opportunity to explore not only the original documents\, but also to look at recreations made by Gianna especially for the session\, such as knitting from historic patterns and tasting products made using original recipes. \nTreasures from the Archives is the ideal introduction to exploring Wiltshire’s history and expanding your understanding and knowledge of the Wiltshire and Swindon History Centre’s collections. \nThe sessions are free and will run every other month on a Saturday from 11:00 to 12:00. \nFor more information contact archives@wiltshire.gov.uk or tel 01249 705500
URL:https://onechippenham.org.uk/event/treasures-from-the-archives-explore-discover-discuss/2025-11-01/
LOCATION:Wiltshire & Swindon History Centre\, Wiltshire & Swindon History Centre Cocklebury Rd\, Chippenham\, SN15 3QN
CATEGORIES:Crafts,Heritage,History,Wellbeing
ATTACH;FMTTYPE=image/jpeg:https://onechippenham.org.uk/wp-content/uploads/2025/04/Scone-recipe-sampled-scaled.jpg
END:VEVENT
END:VCALENDAR