BEGIN:VCALENDAR
VERSION:2.0
PRODID:-//One Chippenham - ECPv6.15.20//NONSGML v1.0//EN
CALSCALE:GREGORIAN
METHOD:PUBLISH
X-WR-CALNAME:One Chippenham
X-ORIGINAL-URL:https://onechippenham.org.uk
X-WR-CALDESC:Events for One Chippenham
REFRESH-INTERVAL;VALUE=DURATION:PT1H
X-Robots-Tag:noindex
X-PUBLISHED-TTL:PT1H
BEGIN:VTIMEZONE
TZID:Europe/London
BEGIN:DAYLIGHT
TZOFFSETFROM:+0000
TZOFFSETTO:+0100
TZNAME:BST
DTSTART:20240331T010000
END:DAYLIGHT
BEGIN:STANDARD
TZOFFSETFROM:+0100
TZOFFSETTO:+0000
TZNAME:GMT
DTSTART:20241027T010000
END:STANDARD
BEGIN:DAYLIGHT
TZOFFSETFROM:+0000
TZOFFSETTO:+0100
TZNAME:BST
DTSTART:20250330T010000
END:DAYLIGHT
BEGIN:STANDARD
TZOFFSETFROM:+0100
TZOFFSETTO:+0000
TZNAME:GMT
DTSTART:20251026T010000
END:STANDARD
BEGIN:DAYLIGHT
TZOFFSETFROM:+0000
TZOFFSETTO:+0100
TZNAME:BST
DTSTART:20260329T010000
END:DAYLIGHT
BEGIN:STANDARD
TZOFFSETFROM:+0100
TZOFFSETTO:+0000
TZNAME:GMT
DTSTART:20261025T010000
END:STANDARD
BEGIN:DAYLIGHT
TZOFFSETFROM:+0000
TZOFFSETTO:+0100
TZNAME:BST
DTSTART:20270328T010000
END:DAYLIGHT
BEGIN:STANDARD
TZOFFSETFROM:+0100
TZOFFSETTO:+0000
TZNAME:GMT
DTSTART:20271031T010000
END:STANDARD
END:VTIMEZONE
BEGIN:VEVENT
DTSTART;VALUE=DATE:20251110
DTEND;VALUE=DATE:20251129
DTSTAMP:20260425T003412
CREATED:20251029T093545Z
LAST-MODIFIED:20251111T124559Z
UID:52127-1762732800-1764374399@onechippenham.org.uk
SUMMARY:Teach the Children Well
DESCRIPTION:Santa post service run by the Hub that guarantees a response from ‘Santa’ in return for the child buying a toy for a kiddie who is not as lucky as them. \n\n9am until 3pm weekdays at Chippenham Community Hub between 10th and 28th November\nEmery Gate Christmas Market – 29th November\, 6th and 13th December\n\n 
URL:https://onechippenham.org.uk/event/teach-the-children-well/
CATEGORIES:Children
ATTACH;FMTTYPE=image/jpeg:https://onechippenham.org.uk/wp-content/uploads/2025/10/IMG_5360.jpeg
ORGANIZER;CN="Chippenham Community Hub":MAILTO:chippenhamcommunityecohub@gmail.com
END:VEVENT
BEGIN:VEVENT
DTSTART;TZID=Europe/London:20251115T100000
DTEND;TZID=Europe/London:20260221T160000
DTSTAMP:20260425T003412
CREATED:20251010T083359Z
LAST-MODIFIED:20251010T083359Z
UID:51091-1763200800-1771689600@onechippenham.org.uk
SUMMARY:Subversive Forms: Revolutionary approaches to clay
DESCRIPTION:Featuring artworks by some of the leading sculptors and innovators working with ceramics in the UK today\, join us for our next exhibition ‘Subversive Forms: Revolutionary approaches to clay’. \n‘Subversive Forms’ will shine a spotlight on contemporary artists who push the boundaries of possibility with clay. Each selected artist disrupts and manipulates traditional ceramic preconceptions\, creating enigmatic artworks that push the medium beyond the functional\, and using clay as a non-apologetic material for sculpture. \nThe exhibition features work by the following artists: \nDan Allen\, Felicity Aylieff\, Kelly Allsopp\, Halima Cassell\, Matthew Chambers\, Claire Curneen\, Richard Deacon\, Laura Ford\, Keith Harrison\, Mimi Joung\, Jonathan Keep\, Nicholas Lees\, Claire Loder\, Sam Lucas\, Peter Randall Page\, Sarah Purvey\, Matt Smith\, Jo Taylor\, Annie Turner\, Patricia Volk\, and Maria Wodjat. \n📅 Saturday 15 November – Saturday 21 February\n⏲️ Monday-Saturday\, 10am-4pm\n🎟️ Free entry \nFind out more about the some of the artists featured in this exhibition\, at our special ceramics symposium\, being held at Chippenham’s Town Hall in February.
URL:https://onechippenham.org.uk/event/subversive-forms-revolutionary-approaches-to-clay/
LOCATION:Chippenham Museum\, 9-10 Market Pl\, Chippenham\, SN15 3HF\, United Kingdom
CATEGORIES:Arts,Exhibition
ATTACH;FMTTYPE=image/png:https://onechippenham.org.uk/wp-content/uploads/2025/10/Exhibition-Poster-CTC-Whats-On.png
ORGANIZER;CN="Chippenham Museum":MAILTO:heritage@chippenham.gov.uk
END:VEVENT
BEGIN:VEVENT
DTSTART;TZID=Europe/London:20251119T093000
DTEND;TZID=Europe/London:20251119T113000
DTSTAMP:20260425T003412
CREATED:20250915T094316Z
LAST-MODIFIED:20250915T094316Z
UID:47579-1763544600-1763551800@onechippenham.org.uk
SUMMARY:Life Drawing
DESCRIPTION:‘My favourite time of the week’ \nA chance to indulge\, draw and to practice some essential drawing skills in a beautiful environment\, guided by someone with over 25 years teaching experience. You’ll use a diverse range of styles and techniques that stretch you and keep you motivated to improve. \nAll while enjoying fresh coffee and meeting some other lovely local artists. \nLife Drawing is challenging and rewarding\, but like drawing anything else\, it takes practice and patience. \nThe best way to encourage practice is to vary the media and techniques available; to make sure this is feasible\, we provide materials (donations welcome) This also allows more confidence as using expensive personal materials tends to inhibit experimentation. \nSometimes the session is devoted to a worksheet-style drawing\, using many poses on one sheet in different materials. These are a great opportunity to gain confidence in composition\, materials and mark-making. \n£105 for 6 x 2 hour session term or £20 cash drop-in option (just for our life drawing sessions) \nWe look forward to meeting you soon.
URL:https://onechippenham.org.uk/event/life-drawing-6/2025-11-19/
LOCATION:The Cause Music and Arts Centre\, 42 The Causeway\, Chippenham\, Wiltshire\, SN15 3DD\, United Kingdom
CATEGORIES:Arts,Visual Arts
ATTACH;FMTTYPE=image/jpeg:https://onechippenham.org.uk/wp-content/uploads/2025/09/IMG_5674-copy-1.jpeg
ORGANIZER;CN="Rag and Bone Arts CIC":MAILTO:ragandbonearts@gmail.com
END:VEVENT
BEGIN:VEVENT
DTSTART;TZID=Europe/London:20251119T100000
DTEND;TZID=Europe/London:20251119T100000
DTSTAMP:20260425T003412
CREATED:20251018T095510Z
LAST-MODIFIED:20251018T095510Z
UID:51851-1763546400-1763546400@onechippenham.org.uk
SUMMARY:Drop in grant funding support sessions
DESCRIPTION:Get personalised guidance and help with making a grant application to Chippenham Borough Lands Charity. \nDrop in to see one of our friendly Grant Managers between 10am-12pm on Wednesdays at the CAP Cafe\, Station Hill Baptist Church. \nYou might be a Chippenham resident seeking funding support for things like food vouchers\, white goods\, furniture\, mobility aids\, bankruptcy fees\, education resources\, course fees or funeral costs. Perhaps you run a local community group or work for a charity or not for profit organisation aiming to make a difference for Chippenham residents. \nBy offering these informal sessions\, we aim to empower more individuals to be able to get the funding the support they need and more organisations to create positive change to support the wellbeing of Chippenham residents. \n\nCan’t make Wednesdays? Check out our other drop-in sessions on our website here.\nFind out more about Chippenham Borough Lands Charity on our website – cblc.org.uk\nFind out how to apply for one of our grants here – cblc.org.uk/grant-applications\n\nWe look forward to meeting you!
URL:https://onechippenham.org.uk/event/drop-in-grant-funding-support-sessions-2/2025-11-19/
LOCATION:Station Hill Baptist Church\, SN15 1EG
ATTACH;FMTTYPE=image/png:https://onechippenham.org.uk/wp-content/uploads/2025/10/2-1.png
ORGANIZER;CN="Chippenham Borough Lands Charity":MAILTO:admin@cblc.org.uk
END:VEVENT
BEGIN:VEVENT
DTSTART;TZID=Europe/London:20251119T100000
DTEND;TZID=Europe/London:20251119T120000
DTSTAMP:20260425T003412
CREATED:20250624T055738Z
LAST-MODIFIED:20250624T055738Z
UID:43413-1763546400-1763553600@onechippenham.org.uk
SUMMARY:CAP Cafe
DESCRIPTION:A cafe with a warm welcome\, chance to chat\, free tea/coffee and cake\, craft activities\, children’s toys. \nChristians Against Poverty (CAP) debt coaches will also be available to talk if you feel you might need a free\, professional debt advice service. \nCAP’s debt counselling helps thousands of people become debt free every year. They are committed to providing a service that takes into account the client’s wider circumstances and emotional needs as well as their financial situation\, which means it is particularly suitable for those who are more vulnerable and in need of additional support. Their service is completely free and available to everyone. \nCAP Money courses also available here (money management and budgeting).
URL:https://onechippenham.org.uk/event/cap-cafe/2025-11-19/
LOCATION:Station Hill Baptist Church\, SN15 1EG
CATEGORIES:Community,Support
ATTACH;FMTTYPE=image/jpeg:https://onechippenham.org.uk/wp-content/uploads/2025/06/CAP-Cafe-at-SHBC.jpg
END:VEVENT
BEGIN:VEVENT
DTSTART;TZID=Europe/London:20251119T100000
DTEND;TZID=Europe/London:20251119T120000
DTSTAMP:20260425T003412
CREATED:20251015T081441Z
LAST-MODIFIED:20251015T081441Z
UID:51611-1763546400-1763553600@onechippenham.org.uk
SUMMARY:Downtown Days
DESCRIPTION:If you are down town and want some company\, pop in and meet the members of Downtown Days for a coffee and a chat – you will be made most welcome.
URL:https://onechippenham.org.uk/event/downtown-days/2025-11-19/
LOCATION:Chippenham Community Hub\, 1 Gladstone Parade\, Timber Street\, Chippenham\, SN15 3BS
CATEGORIES:Adults,Community,Support
ATTACH;FMTTYPE=image/jpeg:https://onechippenham.org.uk/wp-content/uploads/2025/10/IMG_0401.jpeg
ORGANIZER;CN="Chippenham Community Hub":MAILTO:chippenhamcommunityecohub@gmail.com
END:VEVENT
BEGIN:VEVENT
DTSTART;TZID=Europe/London:20251119T100000
DTEND;TZID=Europe/London:20251119T120000
DTSTAMP:20260425T003412
CREATED:20251030T114418Z
LAST-MODIFIED:20251030T114418Z
UID:52248-1763546400-1763553600@onechippenham.org.uk
SUMMARY:History Portal Club: Lost Pubs of Chippenham (walk)
DESCRIPTION:A History Portal Club walk’n’talk – pick from a weekend (Sat 15) or weekday (Wed 19) session. \nAs a group we’ll explore the many missing pubs that used to punctuate Chippenham’s streets. \nThis walk and talk will take a look at long gone hostelries and inns\, from the earliest records to those that disappeared just a few years ago.\nWoven in will be tales from landlords past\, events that shocked the town\, and the changing social life of the town. \n(If inclement weather\, session will take place indoors). \nHistory Portal Club is a friendly regular meet-up for curious locals who love stories from the past\, hidden landmarks\, and great company. \nIt’s a great way to explore the local area’s past together – no lectures\, no stuffy rooms\, just walking\, talking\, pub chats\, and stories you won’t find in the guidebooks. \n⭐ Up to four sessions a month\, with walks and pub/cafe evenings. \n⭐ Choose a membership\, a flexi-pass\, or just drop in. \n⭐ Fascinating tales\, good company\, and plenty of surprises. \nIt’s run by Lucy Whitfield\, Historian. Visit www.lucywhitfieldhistorian/history-club for more details and to book.
URL:https://onechippenham.org.uk/event/history-portal-club-lost-pubs-of-chippenham-walk/
LOCATION:Cousin Norman’s\, 5 Union Road\, Chippenham\, SN15 1HW
CATEGORIES:Heritage,History,Talks & lectures,Walks
ATTACH;FMTTYPE=image/jpeg:https://onechippenham.org.uk/wp-content/uploads/2025/10/History-portal-club-poster-lost-pubs-smaller_1-1-scaled.jpg
END:VEVENT
BEGIN:VEVENT
DTSTART;TZID=Europe/London:20251119T123000
DTEND;TZID=Europe/London:20251119T143000
DTSTAMP:20260425T003412
CREATED:20251015T081816Z
LAST-MODIFIED:20251015T081816Z
UID:51598-1763555400-1763562600@onechippenham.org.uk
SUMMARY:Helping Hands Support Group
DESCRIPTION:Are you wanting some help with everyday life and needing someone to talk to? Would you like a friendly face to assist you with coming to terms with changes in your life or making important decisions you would like someone to talk to about? \nWe are here from 12.30pm to 2.30pm on Wednesday afternoons to support anyone in need. We are always happy to listen and give one to one support. \nPlease do make use of this opportunity and do not sit and struggle alone as we have a fantastic trained team to guide you along your way.
URL:https://onechippenham.org.uk/event/helping-hands-support-group/2025-11-19/
LOCATION:Chippenham Community Hub\, 1 Gladstone Parade\, Timber Street\, Chippenham\, SN15 3BS
CATEGORIES:Adults,Community,Support
ATTACH;FMTTYPE=image/jpeg:https://onechippenham.org.uk/wp-content/uploads/2025/10/IMG_9890.jpeg
END:VEVENT
BEGIN:VEVENT
DTSTART;TZID=Europe/London:20251119T173000
DTEND;TZID=Europe/London:20251119T190000
DTSTAMP:20260425T003412
CREATED:20250915T092559Z
LAST-MODIFIED:20251001T125935Z
UID:47721-1763573400-1763578800@onechippenham.org.uk
SUMMARY:Youth Art & Design
DESCRIPTION:Art & Design sessions for 13-17 year olds in 10 week blocks. \nFollowing on from our brilliant year of designing for the Mayor’s Ball\, and creating a beautiful colour wall for Chippenham Library\, we’re ready to go again and create more original art work to adorn our lovely town. \nTaught by experienced local artist and set designer\, Charlie\, supported by local seamstress\, TA and artist Lottie Bywaters. \nListening to music and trying out each other’s ideas while having a cup of tea and a biscuit is all part of the experience. \nTerm 1: September 17th – October 15th/ November 5th – Dec 3rd 2025 (Followed by Youth Club)\nTerm 2: January 7th – Feb 4th 2026/Feb 25th – March 25th 2026 (Followed by Youth Club)\nTerm 3: April 15th – May 13th / June 3rd – July 1st 2026 \nCome and join us to meet other lovely creatives in the artisan quarter of Chippenham. \nSubsidised by Wiltshire Council’s Chippenham Area board and Kington Langley Arts Society. Helping us keep our sessions well resourced and our staff:student ratio high\, to support those attending. With huge thanks. \nWe look forward to meeting you.
URL:https://onechippenham.org.uk/event/youth-art-design/2025-11-19/
LOCATION:St Paul’s Church Hall\, Malmesbury Road\, Chippenham\, SN15 1PS
CATEGORIES:Visual Arts
ATTACH;FMTTYPE=image/jpeg:https://onechippenham.org.uk/wp-content/uploads/2025/09/IMG_6128.jpeg
ORGANIZER;CN="Rag and Bone Arts CIC":MAILTO:ragandbonearts@gmail.com
END:VEVENT
BEGIN:VEVENT
DTSTART;TZID=Europe/London:20251119T173000
DTEND;TZID=Europe/London:20251119T190000
DTSTAMP:20260425T003412
CREATED:20250915T094102Z
LAST-MODIFIED:20251201T104825Z
UID:47702-1763573400-1763578800@onechippenham.org.uk
SUMMARY:Youth Acting Improvisation
DESCRIPTION:For ages 12+\nYou can do art and design or acting improvisation \nDelivered in 10 week blocks \nTerm 1: September 17th – October 15th/ November 5th – Dec 3rd 2025 (Followed by Youth Club)\nTerm 2: January 7th – Feb 4th 2026/Feb 25th – March 25th 2026 (Followed by Youth Club)\nTerm 3: April 15th – May 13th / June 3rd – July 1st 2026 \nWe won’t be doing shows in this session\, but honing our improvisation skills and maybe doing a gig to a paying audience\, for those who want to take this leap. If you’re keen and able\, you’ll be asked to join our Saturday Theatre Company to work with the adults. \nTaught by professional actor Rebecca Osborne. Come along and learn how to think on your feet\, respond and listen and make up scenes using just your brilliant mind and spontaneous ideas. \nDo the first session before paying if you like – just click ‘Book Now’ above and choose ‘Trial Session’. \nSubsidised by Wiltshire Councils Chippenham Area board . Helping us keep our sessions well resourced and our staff to student ratio high\, to fully support those attending. \nWith huge thanks.
URL:https://onechippenham.org.uk/event/youth-acting-improvisation/2025-11-19/
LOCATION:St Paul’s Church Hall\, Malmesbury Road\, Chippenham\, SN15 1PS
CATEGORIES:Theatre,Workshop
ATTACH;FMTTYPE=image/jpeg:https://onechippenham.org.uk/wp-content/uploads/2025/09/Improv.jpg
ORGANIZER;CN="Rag and Bone Arts CIC":MAILTO:ragandbonearts@gmail.com
END:VEVENT
BEGIN:VEVENT
DTSTART;TZID=Europe/London:20251119T193000
DTEND;TZID=Europe/London:20251119T230000
DTSTAMP:20260425T003412
CREATED:20251105T132408Z
LAST-MODIFIED:20251105T132559Z
UID:52415-1763580600-1763593200@onechippenham.org.uk
SUMMARY:November Waverley Music Event for Dorothy House Hospice - with live band!
DESCRIPTION:November’s fundraising event for Dorothy House Hospice at The Waverley in Chippenham is going to be wild. \nBristol-based musician Lunda is coming back to Chippenham bringing her full 5-piece band to play live for us at The Waverley. Last here in Chippenham 30/11/24 at an event alongside Cousin Norman’s\, she now returns to our town with a brand new EP for us to hear too. \nAlongside this Lunda selected the classic 1974 Betty Davis album ‘They Say I’m Different’ for us to listen to. \nThere is no charge to attend but any voluntary donations to aid the work of the Hospice would be very welcome! \nGet there early to grab a beer and a good view – the music will start promptly at 8pm
URL:https://onechippenham.org.uk/event/november-waverley-music-event-for-dorothy-house-hospice-with-live-band/
LOCATION:The Waverley\, Chippenham\, United Kingdom
CATEGORIES:Charity,Live band
ATTACH;FMTTYPE=image/jpeg:https://onechippenham.org.uk/wp-content/uploads/2025/11/Nov-Waverley.jpeg
END:VEVENT
END:VCALENDAR