BEGIN:VCALENDAR
VERSION:2.0
PRODID:-//One Chippenham - ECPv6.15.20//NONSGML v1.0//EN
CALSCALE:GREGORIAN
METHOD:PUBLISH
X-WR-CALNAME:One Chippenham
X-ORIGINAL-URL:https://onechippenham.org.uk
X-WR-CALDESC:Events for One Chippenham
REFRESH-INTERVAL;VALUE=DURATION:PT1H
X-Robots-Tag:noindex
X-PUBLISHED-TTL:PT1H
BEGIN:VTIMEZONE
TZID:Europe/London
BEGIN:DAYLIGHT
TZOFFSETFROM:+0000
TZOFFSETTO:+0100
TZNAME:BST
DTSTART:20240331T010000
END:DAYLIGHT
BEGIN:STANDARD
TZOFFSETFROM:+0100
TZOFFSETTO:+0000
TZNAME:GMT
DTSTART:20241027T010000
END:STANDARD
BEGIN:DAYLIGHT
TZOFFSETFROM:+0000
TZOFFSETTO:+0100
TZNAME:BST
DTSTART:20250330T010000
END:DAYLIGHT
BEGIN:STANDARD
TZOFFSETFROM:+0100
TZOFFSETTO:+0000
TZNAME:GMT
DTSTART:20251026T010000
END:STANDARD
BEGIN:DAYLIGHT
TZOFFSETFROM:+0000
TZOFFSETTO:+0100
TZNAME:BST
DTSTART:20260329T010000
END:DAYLIGHT
BEGIN:STANDARD
TZOFFSETFROM:+0100
TZOFFSETTO:+0000
TZNAME:GMT
DTSTART:20261025T010000
END:STANDARD
BEGIN:DAYLIGHT
TZOFFSETFROM:+0000
TZOFFSETTO:+0100
TZNAME:BST
DTSTART:20270328T010000
END:DAYLIGHT
BEGIN:STANDARD
TZOFFSETFROM:+0100
TZOFFSETTO:+0000
TZNAME:GMT
DTSTART:20271031T010000
END:STANDARD
END:VTIMEZONE
BEGIN:VEVENT
DTSTART;VALUE=DATE:20251110
DTEND;VALUE=DATE:20251129
DTSTAMP:20260425T003420
CREATED:20251029T093545Z
LAST-MODIFIED:20251111T124559Z
UID:52127-1762732800-1764374399@onechippenham.org.uk
SUMMARY:Teach the Children Well
DESCRIPTION:Santa post service run by the Hub that guarantees a response from ‘Santa’ in return for the child buying a toy for a kiddie who is not as lucky as them. \n\n9am until 3pm weekdays at Chippenham Community Hub between 10th and 28th November\nEmery Gate Christmas Market – 29th November\, 6th and 13th December\n\n 
URL:https://onechippenham.org.uk/event/teach-the-children-well/
CATEGORIES:Children
ATTACH;FMTTYPE=image/jpeg:https://onechippenham.org.uk/wp-content/uploads/2025/10/IMG_5360.jpeg
ORGANIZER;CN="Chippenham Community Hub":MAILTO:chippenhamcommunityecohub@gmail.com
END:VEVENT
BEGIN:VEVENT
DTSTART;TZID=Europe/London:20251115T100000
DTEND;TZID=Europe/London:20260221T160000
DTSTAMP:20260425T003420
CREATED:20251010T083359Z
LAST-MODIFIED:20251010T083359Z
UID:51091-1763200800-1771689600@onechippenham.org.uk
SUMMARY:Subversive Forms: Revolutionary approaches to clay
DESCRIPTION:Featuring artworks by some of the leading sculptors and innovators working with ceramics in the UK today\, join us for our next exhibition ‘Subversive Forms: Revolutionary approaches to clay’. \n‘Subversive Forms’ will shine a spotlight on contemporary artists who push the boundaries of possibility with clay. Each selected artist disrupts and manipulates traditional ceramic preconceptions\, creating enigmatic artworks that push the medium beyond the functional\, and using clay as a non-apologetic material for sculpture. \nThe exhibition features work by the following artists: \nDan Allen\, Felicity Aylieff\, Kelly Allsopp\, Halima Cassell\, Matthew Chambers\, Claire Curneen\, Richard Deacon\, Laura Ford\, Keith Harrison\, Mimi Joung\, Jonathan Keep\, Nicholas Lees\, Claire Loder\, Sam Lucas\, Peter Randall Page\, Sarah Purvey\, Matt Smith\, Jo Taylor\, Annie Turner\, Patricia Volk\, and Maria Wodjat. \n📅 Saturday 15 November – Saturday 21 February\n⏲️ Monday-Saturday\, 10am-4pm\n🎟️ Free entry \nFind out more about the some of the artists featured in this exhibition\, at our special ceramics symposium\, being held at Chippenham’s Town Hall in February.
URL:https://onechippenham.org.uk/event/subversive-forms-revolutionary-approaches-to-clay/
LOCATION:Chippenham Museum\, 9-10 Market Pl\, Chippenham\, SN15 3HF\, United Kingdom
CATEGORIES:Arts,Exhibition
ATTACH;FMTTYPE=image/png:https://onechippenham.org.uk/wp-content/uploads/2025/10/Exhibition-Poster-CTC-Whats-On.png
ORGANIZER;CN="Chippenham Museum":MAILTO:heritage@chippenham.gov.uk
END:VEVENT
BEGIN:VEVENT
DTSTART;TZID=Europe/London:20251128T090000
DTEND;TZID=Europe/London:20251128T100000
DTSTAMP:20260425T003420
CREATED:20250811T132852Z
LAST-MODIFIED:20250811T132852Z
UID:44796-1764320400-1764324000@onechippenham.org.uk
SUMMARY:Beginners Couch to 5k Nordic Walk for Health 10 Week Nordic Walking Course
DESCRIPTION:Our Beginner’s Couch to 5K Nordic Walk for Health Course is a structured\, supportive program designed to help individuals gradually build up their fitness and confidence to complete a 5K walk using Nordic walking techniques. \nPerfect for those new to exercise or returning after a break\, the course spans 10 weeks\, starting with short\, manageable sessions that focus on learning proper pole technique\, improving posture\, and developing a steady walking rhythm. Each week\, the intensity and walking duration gently increase\, helping participants boost their stamina and strength without feeling overwhelmed. \nWith guidance from a fully qualified British Nordic Walking instructor and the motivation of a group setting\, this course offers a fun\, social\, and achievable path to completing a 5K while enjoying the full-body benefits of Nordic walking. \nThis course will be held in John Coles Park where you will be able to go at your own pace and we hope to end our 10 weeks completing the 5k route that Chippenham Parkrun follow in Monkton Park. \nFor more information or to book a place please visit our website nordicnomads.net and fill in the ‘contact us’ form.
URL:https://onechippenham.org.uk/event/beginners-couch-to-5k-nordic-walk-for-health-10-week-nordic-walking-course/2025-11-28/
LOCATION:John Coles Park\, John Coles Park\, Chippenham\, SN15 1NZ\, United Kingdom
CATEGORIES:Adults,Course,Education,Exercise,Fitness,Health,Outdoor,Sport,Wellbeing
ATTACH;FMTTYPE=image/png:https://onechippenham.org.uk/wp-content/uploads/2025/08/Couch-to-5k-John-Coles-Park-Instagram-Post-45.png
ORGANIZER;CN="Nordic Nomads":MAILTO:nordicnomads@hotmail.com
END:VEVENT
BEGIN:VEVENT
DTSTART;TZID=Europe/London:20251128T100000
DTEND;TZID=Europe/London:20251128T140000
DTSTAMP:20260425T003420
CREATED:20250514T104505Z
LAST-MODIFIED:20251018T094630Z
UID:51826-1764324000-1764338400@onechippenham.org.uk
SUMMARY:Drop in grant funding support sessions
DESCRIPTION:Get personalised guidance and help with making a grant application to Chippenham Borough Lands Charity. \nDrop in to see one of our friendly Grant Managers between 10am-2pm on Fridays at the Chippenham Community Hub\, 1 Gladstone Parade\, Timber Street\, Chippenham\, SN15 3BS. \nYou might be a Chippenham resident seeking funding support for things like food vouchers\, white goods\, furniture\, mobility aids\, bankruptcy fees\, education resources\, course fees or funeral costs. Perhaps you run a local community group or work for a charity or not for profit organisation aiming to make a difference for Chippenham residents. \nBy offering these informal sessions\, we aim to empower more individuals to be able to get the funding the support they need and more organisations to create positive change to support the wellbeing of Chippenham residents. \n\nCan’t make Wednesdays? Check out our other drop-in sessions on our website here.\nFind out more about Chippenham Borough Lands Charity on our website – cblc.org.uk\nFind out how to apply for one of our grants here – cblc.org.uk/grant-applications\n\nWe look forward to meeting you!
URL:https://onechippenham.org.uk/event/drop-in-grant-funding-support-sessions/2025-11-28/
LOCATION:Chippenham Community Hub\, 1 Gladstone Parade\, Timber Street\, Chippenham\, SN15 3BS
CATEGORIES:Charity,Support
ATTACH;FMTTYPE=image/png:https://onechippenham.org.uk/wp-content/uploads/2025/05/1-2.png
ORGANIZER;CN="Chippenham Borough Lands Charity":MAILTO:admin@cblc.org.uk
END:VEVENT
BEGIN:VEVENT
DTSTART;TZID=Europe/London:20251128T103000
DTEND;TZID=Europe/London:20251128T163000
DTSTAMP:20260425T003420
CREATED:20251121T090128Z
LAST-MODIFIED:20251121T090128Z
UID:52643-1764325800-1764347400@onechippenham.org.uk
SUMMARY:Christmas Craft Market
DESCRIPTION:Explore a variety of products by local artists and makers in the historic Yelde Hall. The market will open at 10.30am each day. \nPlease note\, there are different closing times. On Friday\, the market will close at 4.30pm. On Saturday\, the market will close at 5.30pm. \n 
URL:https://onechippenham.org.uk/event/christmas-craft-market/2025-11-28/
LOCATION:The Yelde Hall
CATEGORIES:Arts,Christmas,Crafts,Family Friendly,Market
ATTACH;FMTTYPE=image/jpeg:https://onechippenham.org.uk/wp-content/uploads/2025/11/579170624_1232769762206394_2246009759159693811_n.jpg
ORGANIZER;CN="Chippenham Museum":MAILTO:heritage@chippenham.gov.uk
END:VEVENT
BEGIN:VEVENT
DTSTART;TZID=Europe/London:20251128T180000
DTEND;TZID=Europe/London:20251128T220000
DTSTAMP:20260425T003420
CREATED:20251122T163944Z
LAST-MODIFIED:20251122T163944Z
UID:53244-1764352800-1764367200@onechippenham.org.uk
SUMMARY:The Kitchen by Wine Monkey is open for dinner
DESCRIPTION:The newest project from the guys at Wine Monkey\, The Kitchen is a new restaurant in Chippenham and the coolest place to dine. Open daily for breakfast and lunch\, brunch at the weekend and now every Friday and Saturday for dinner. They’ve blended the sophistication of a gourmet deli with the casual atmosphere of a classic French bistro to create a unique dining experience where artisanship meets playful elegance. \nSpecialising in handmade food\, creative recipes and excellent service\, Chef Lisa puts her extensive culinary experience to work in the kitchen\, while head sommelier Bryan expertly pairs wines to enjoy alongside. \nBookings are highly recommended as this place is very popular. Open 6-10pm.\nVegetarian\, vegan and gluten-free guests are very welcome.
URL:https://onechippenham.org.uk/event/the-kitchen-by-wine-monkey-is-open-for-dinner/2025-11-28/
LOCATION:Wine Monkey\, 20 Borough Parade\, Chippenham\, SN15 3WL\, United Kingdom
CATEGORIES:Food and Drink
ATTACH;FMTTYPE=image/jpeg:https://onechippenham.org.uk/wp-content/uploads/2025/11/Kitchen-by-Wine-Monkey-184.jpg
ORGANIZER;CN="Wine Monkey":MAILTO:Thecellar@winemonkey.co.uk
END:VEVENT
BEGIN:VEVENT
DTSTART;TZID=Europe/London:20251128T183000
DTEND;TZID=Europe/London:20251128T203000
DTSTAMP:20260425T003420
CREATED:20251126T155730Z
LAST-MODIFIED:20251126T155730Z
UID:53497-1764354600-1764361800@onechippenham.org.uk
SUMMARY:Learn a new board game: Heat Pedal to the Metal
DESCRIPTION:Our games guru will be teaching how to play the very popular board game Heat – Pedal to the Metal
URL:https://onechippenham.org.uk/event/learn-a-new-board-game-heat-pedal-to-the-metal/
LOCATION:Bargammon’s Tavern\, 35 Market Place\, Chippenham\, Wiltshire\, SN15 3HT\, United Kingdom
CATEGORIES:Games
ATTACH;FMTTYPE=image/jpeg:https://onechippenham.org.uk/wp-content/uploads/2025/11/2021128-Heat-Learn-To-Play.jpg
ORGANIZER;CN="Bargammon's Tavern":MAILTO:Bargammontavern@gmail.com
END:VEVENT
BEGIN:VEVENT
DTSTART;TZID=Europe/London:20251128T190000
DTEND;TZID=Europe/London:20251128T213000
DTSTAMP:20260425T003420
CREATED:20251107T194031Z
LAST-MODIFIED:20251107T194031Z
UID:52573-1764356400-1764365400@onechippenham.org.uk
SUMMARY:CAUSE MUSIC CAFE
DESCRIPTION:A monthly live music cafe with a variety of musical lineups
URL:https://onechippenham.org.uk/event/cause-music-cafe-10/
LOCATION:The Cause Music and Arts Centre\, 42 The Causeway\, Chippenham\, Wiltshire\, SN15 3DD\, United Kingdom
CATEGORIES:Music
ATTACH;FMTTYPE=image/jpeg:https://onechippenham.org.uk/wp-content/uploads/2025/11/November1.jpeg
ORGANIZER;CN="The Cause Music and Arts":MAILTO:fred@thecausevenue.com
END:VEVENT
BEGIN:VEVENT
DTSTART;TZID=Europe/London:20251128T190000
DTEND;TZID=Europe/London:20251128T220000
DTSTAMP:20260425T003420
CREATED:20250923T154556Z
LAST-MODIFIED:20250923T154556Z
UID:49422-1764356400-1764367200@onechippenham.org.uk
SUMMARY:Chippenham Pickleball Club
DESCRIPTION:Try out the UK’s fastest growing new sport! A paddle sport for all ages and abilities. \n– All equipment provided\n– Taught by experienced local players\n– Friendly\, inclusive doubles competition\n– Children under 18 accompanied by adult\n– FREE trial and cheap membership \nWhere: Chippenham Sports Club Air Dome\, Hardenhuish Park\, Bristol Rd\, Chippenham SN15 1NH \nWhen: Every Friday evening 7pm to 10 pm \nCost: First session free\, then £3/hr (adults) / £1.50/hr (children)\n+ E10 annual affiliation membership to Pickleball England Volunteers \nEmail: info@chippenhampickballclub.com \n 
URL:https://onechippenham.org.uk/event/chippenham-pickleball-club/2025-11-28/
LOCATION:Chippenham Sports Club
ATTACH;FMTTYPE=image/jpeg:https://onechippenham.org.uk/wp-content/uploads/2025/09/IMG_9521.jpeg
END:VEVENT
BEGIN:VEVENT
DTSTART;TZID=Europe/London:20251128T193000
DTEND;TZID=Europe/London:20251128T220000
DTSTAMP:20260425T003420
CREATED:20250805T071724Z
LAST-MODIFIED:20250805T072406Z
UID:44697-1764358200-1764367200@onechippenham.org.uk
SUMMARY:Clogs Musical Theatre presents Elf The Musical
DESCRIPTION:A title known the world over\, Elf The Musical is a must-produce holiday musical that can easily become an annual tradition for any theatre. Based on the cherished 2003 New Line Cinema hit\, Elf features songs by Tony Award nominees Matthew Sklar and Chad Beguelin (Disney’s Aladdin On Broadway\, The Wedding Singer)\, with a book by Tony Award winners Thomas Meehan (Annie\, The Producers\, Hairspray) and Bob Martin (The Drowsy Chaperone). \nBuddy\, a young orphan mistakenly crawls into Santa’s bag of gifts and is transported to the North Pole. The would-be elf is raised unaware that he is actually a human\, until his enormous size and poor toy-making abilities cause him to face the truth. With Santa’s permission\, Buddy embarks on a journey to New York City to find his birth father and discover his true identity. Faced with the harsh reality that his father is on the naughty list\, and his step-brother doesn’t even believe in Santa\, Buddy is determined to win over his new family and help New York remember the true meaning of Christmas. \nThis modern day holiday classic is sure to make everyone embrace their inner elf. After all\, the best way to spread Christmas Cheer is singing loud for all to hear. \nTickets: Standard £17/£19/£21 (plus booking fee) | Concession (under 12s) £10 (plus booking fee) \nAge Restrictions: None \nPlease contact the venue for any access requirements. \nTickets are also available through the Box Office on 01249 446699\, from the Neeld Box Office or at the Town Hall. \nTickets are non-refundable unless this event is cancelled or postponed.
URL:https://onechippenham.org.uk/event/clogs-musical-theatre-presents-elf-the-musical/2025-11-28/
LOCATION:Neeld Community & Arts Centre\, The Neeld\, High Street\, Chippenham\, Wiltshire\, SN15 3ER\, United Kingdom
CATEGORIES:Theatre
ATTACH;FMTTYPE=image/jpeg:https://onechippenham.org.uk/wp-content/uploads/2025/08/Elf.jpg
END:VEVENT
END:VCALENDAR