BEGIN:VCALENDAR
VERSION:2.0
PRODID:-//One Chippenham - ECPv6.15.20//NONSGML v1.0//EN
CALSCALE:GREGORIAN
METHOD:PUBLISH
X-ORIGINAL-URL:https://onechippenham.org.uk
X-WR-CALDESC:Events for One Chippenham
REFRESH-INTERVAL;VALUE=DURATION:PT1H
X-Robots-Tag:noindex
X-PUBLISHED-TTL:PT1H
BEGIN:VTIMEZONE
TZID:Europe/London
BEGIN:DAYLIGHT
TZOFFSETFROM:+0000
TZOFFSETTO:+0100
TZNAME:BST
DTSTART:20240331T010000
END:DAYLIGHT
BEGIN:STANDARD
TZOFFSETFROM:+0100
TZOFFSETTO:+0000
TZNAME:GMT
DTSTART:20241027T010000
END:STANDARD
BEGIN:DAYLIGHT
TZOFFSETFROM:+0000
TZOFFSETTO:+0100
TZNAME:BST
DTSTART:20250330T010000
END:DAYLIGHT
BEGIN:STANDARD
TZOFFSETFROM:+0100
TZOFFSETTO:+0000
TZNAME:GMT
DTSTART:20251026T010000
END:STANDARD
BEGIN:DAYLIGHT
TZOFFSETFROM:+0000
TZOFFSETTO:+0100
TZNAME:BST
DTSTART:20260329T010000
END:DAYLIGHT
BEGIN:STANDARD
TZOFFSETFROM:+0100
TZOFFSETTO:+0000
TZNAME:GMT
DTSTART:20261025T010000
END:STANDARD
BEGIN:DAYLIGHT
TZOFFSETFROM:+0000
TZOFFSETTO:+0100
TZNAME:BST
DTSTART:20270328T010000
END:DAYLIGHT
BEGIN:STANDARD
TZOFFSETFROM:+0100
TZOFFSETTO:+0000
TZNAME:GMT
DTSTART:20271031T010000
END:STANDARD
END:VTIMEZONE
BEGIN:VEVENT
DTSTART;TZID=Europe/London:20251115T100000
DTEND;TZID=Europe/London:20260221T160000
DTSTAMP:20260426T001310
CREATED:20251010T083359Z
LAST-MODIFIED:20251010T083359Z
UID:51091-1763200800-1771689600@onechippenham.org.uk
SUMMARY:Subversive Forms: Revolutionary approaches to clay
DESCRIPTION:Featuring artworks by some of the leading sculptors and innovators working with ceramics in the UK today\, join us for our next exhibition ‘Subversive Forms: Revolutionary approaches to clay’. \n‘Subversive Forms’ will shine a spotlight on contemporary artists who push the boundaries of possibility with clay. Each selected artist disrupts and manipulates traditional ceramic preconceptions\, creating enigmatic artworks that push the medium beyond the functional\, and using clay as a non-apologetic material for sculpture. \nThe exhibition features work by the following artists: \nDan Allen\, Felicity Aylieff\, Kelly Allsopp\, Halima Cassell\, Matthew Chambers\, Claire Curneen\, Richard Deacon\, Laura Ford\, Keith Harrison\, Mimi Joung\, Jonathan Keep\, Nicholas Lees\, Claire Loder\, Sam Lucas\, Peter Randall Page\, Sarah Purvey\, Matt Smith\, Jo Taylor\, Annie Turner\, Patricia Volk\, and Maria Wodjat. \n📅 Saturday 15 November – Saturday 21 February\n⏲️ Monday-Saturday\, 10am-4pm\n🎟️ Free entry \nFind out more about the some of the artists featured in this exhibition\, at our special ceramics symposium\, being held at Chippenham’s Town Hall in February.
URL:https://onechippenham.org.uk/event/subversive-forms-revolutionary-approaches-to-clay/
LOCATION:Chippenham Museum\, 9-10 Market Pl\, Chippenham\, SN15 3HF\, United Kingdom
CATEGORIES:Arts,Exhibition
ATTACH;FMTTYPE=image/png:https://onechippenham.org.uk/wp-content/uploads/2025/10/Exhibition-Poster-CTC-Whats-On.png
ORGANIZER;CN="Chippenham Museum":MAILTO:heritage@chippenham.gov.uk
END:VEVENT
BEGIN:VEVENT
DTSTART;VALUE=DATE:20251129
DTEND;VALUE=DATE:20251130
DTSTAMP:20260426T001310
CREATED:20251111T131356Z
LAST-MODIFIED:20251111T131356Z
UID:52629-1764374400-1764460799@onechippenham.org.uk
SUMMARY:Teach the Children Well
DESCRIPTION:Santa post service run by the Hub that guarantees a response from ‘Santa’ in return for the child buying a toy for a child who is not as lucky as them. \n\n9am until 3pm weekdays at Chippenham Community Hub between 10th and 28th November\nEmery Gate Christmas Market – 29th November\, 6th and 13th December\n\n 
URL:https://onechippenham.org.uk/event/teach-the-children-well-2/2025-11-29/
LOCATION:Emery Gate shopping centre\, Emery Gate shopping centre\, Chippenham\, Wiltshire\, SN15 3JP
CATEGORIES:Children,Christmas
ATTACH;FMTTYPE=image/jpeg:https://onechippenham.org.uk/wp-content/uploads/2025/10/IMG_5360.jpeg
ORGANIZER;CN="Chippenham Community Hub":MAILTO:chippenhamcommunityecohub@gmail.com
END:VEVENT
BEGIN:VEVENT
DTSTART;TZID=Europe/London:20251129T080000
DTEND;TZID=Europe/London:20251129T120000
DTSTAMP:20260426T001310
CREATED:20251006T093058Z
LAST-MODIFIED:20251006T093058Z
UID:50782-1764403200-1764417600@onechippenham.org.uk
SUMMARY:Chippenham Study Club
DESCRIPTION:A private study club is being organised for students and others on a Saturday morning available from 08.00 to midday\, which will be held at Wetherspoons\, Chippenham where a room is privately booked out for the purpose. There is no membership fee. \nIt will provide a friendly but quiet space for your private study\, research\, revision\, or reading without distractions or noise\, yet offer a sense of company and possibly make new friends. \nWetherspoons offers coffee/hot chocolate etc at £1.71p for unlimited refills.\nReasonably priced meals and breakfasts. Full breakfast starts at £2.99. \nFree to join.\nTo register contact: stephencox.gardentrust@gmail.com
URL:https://onechippenham.org.uk/event/chippenham-study-club/2025-11-29/
LOCATION:The Bridge House – JD Wetherspoon\, Borough Parade\, Chippenham\, Wiltshire\, SN15 3WL\, United Kingdom
ATTACH;FMTTYPE=image/png:https://onechippenham.org.uk/wp-content/uploads/2025/10/Study-Club.png
END:VEVENT
BEGIN:VEVENT
DTSTART;TZID=Europe/London:20251129T100000
DTEND;TZID=Europe/London:20251129T170000
DTSTAMP:20260426T001310
CREATED:20251121T083338Z
LAST-MODIFIED:20251121T083338Z
UID:53010-1764410400-1764435600@onechippenham.org.uk
SUMMARY:Emery Gate Christmas Market
DESCRIPTION:Get ready to kick off the festive season in style! Our indoor Christmas Market makes its debut in the former Tesco unit at Emery Gate\, bringing loads of seasonal cheer straight to the heart of Chippenham. \nWhat’s on: \n\nBrowse a wonderful selection of stalls from local traders offering: art & prints\, books & bookmarks\, handmade keyrings\, plants & home décor\, antiques & retro collectibles\, quilts & cushions\, jewellery\, crocheted items\, perfumes & fragrances\, second-hand bric-a-brac and vintage finds\, cakes & bakes\, sweet treats\, locally produced rum & snacks.• Mulled wine and Christmas bites to get you in the mood.\nFamily fun fair rides including bumper cars and tea-cups.\nDon’t miss a visit to Father Christmas in our Christmas Grotto: 11:00am-4:00pm. Each child will receive a small gift. Entry to the Grotto: £3.50 per child (card/contactless only).\n\nDetails & Tips: \n\nEntry to the Christmas Market is free.\nRides & Grotto incur additional costs. .\n\nWe’ll see you at Emery Gate for the festive fun!
URL:https://onechippenham.org.uk/event/emery-gate-christmas-market/2025-11-29/
LOCATION:Emery Gate shopping centre\, Emery Gate shopping centre\, Chippenham\, Wiltshire\, SN15 3JP
CATEGORIES:Christmas,Family Friendly,Market
ATTACH;FMTTYPE=image/jpeg:https://onechippenham.org.uk/wp-content/uploads/2025/11/IMG_1883.jpeg
END:VEVENT
BEGIN:VEVENT
DTSTART;TZID=Europe/London:20251129T103000
DTEND;TZID=Europe/London:20251129T130000
DTSTAMP:20260426T001310
CREATED:20250915T125406Z
LAST-MODIFIED:20250915T125406Z
UID:47754-1764412200-1764421200@onechippenham.org.uk
SUMMARY:Rag and Bone Arts CIC Theatre Company
DESCRIPTION:Calling all performers aged 13 and up (including adults) \nA NEW performance company for young people and adults. \nWe spent time in June 2025 exploring ideas and working together to see what sort of work we all wanted to create and this will now be followed by a 9 week rehearsal period from Saturday 27th September\, followed by an intensive rehearsal period in January 2026 finishing a performance on Feb 7th 2026 (Venue – TBC – as we’ll come up with that together). \nWhether you’re a seasoned actor or just starting out\, why not showcase your talent and connect with like-minded locals? It may be that you prefer to be backstage or help with the design and production. Whatever your skills\, we’ll find something for you that’ll bring out your best and get you involved\, if it’s the right fit for you and us. \nAll members who sign up must be available for all of the dates below:September 27th\nOctober 4th\, 11th and 18th\nNovember 1st\, 8th\, 15th\, 22nd and 29th\nJan 10th\, 17th\, 24th and 31st\nFeb 7th (Venue TBC) \n(£55 for the whole project (June 2025 to February 2026)\, thanks to the Wiltshire Community Foundation. You may bring £3 subs per week if it’s easier for you. \nSee you soon.
URL:https://onechippenham.org.uk/event/rag-and-bone-arts-cic-theatre-company/2025-11-29/
LOCATION:Central Methodist Church\, Monkton Hill\, Chippenham\, Chippenham\, Wiltshire\, SN15 1EP\, United Kingdom
CATEGORIES:Theatre
ATTACH;FMTTYPE=image/png:https://onechippenham.org.uk/wp-content/uploads/2025/09/SWEET-FE.png
ORGANIZER;CN="Rag and Bone Arts CIC":MAILTO:ragandbonearts@gmail.com
END:VEVENT
BEGIN:VEVENT
DTSTART;TZID=Europe/London:20251129T103000
DTEND;TZID=Europe/London:20251129T153000
DTSTAMP:20260426T001310
CREATED:20251121T084752Z
LAST-MODIFIED:20251121T084752Z
UID:52652-1764412200-1764430200@onechippenham.org.uk
SUMMARY:Festive Creative Activities
DESCRIPTION:As part of the town’s Christmas Light Switch-On celebrations\, we’re hosting a special Christmas edition of our activities hosted by the Young Curators group. So come and get creative with us before Santa abseils into town to turn the lights on.\n\n\n\nSaturday 29 November\n10.30am – 3.30pm\nFree\, drop-in\n\n\n\nTo find out more about Chippenham’s Christmas Celebrations\, the programme for the day is available on Chippenham Town Council‘s website\, or you can collect a paper copy from Chippenham Museum and the Town Hall. See the programme here  bit.ly/CLSW25\n\nOpening on Saturday 29 November\, our Young Curators have also researched and curated a pop-up display exploring Christmas traditions.
URL:https://onechippenham.org.uk/event/festive-creative-activities/
LOCATION:Chippenham Museum\, 9-10 Market Pl\, Chippenham\, SN15 3HF\, United Kingdom
CATEGORIES:Children,Christmas,Crafts,Family Friendly
ATTACH;FMTTYPE=image/jpeg:https://onechippenham.org.uk/wp-content/uploads/2025/11/585265562_1240109761472394_7324933724247922772_n.jpg
ORGANIZER;CN="Chippenham Museum":MAILTO:heritage@chippenham.gov.uk
END:VEVENT
BEGIN:VEVENT
DTSTART;TZID=Europe/London:20251129T103000
DTEND;TZID=Europe/London:20251129T173000
DTSTAMP:20260426T001310
CREATED:20251121T090129Z
LAST-MODIFIED:20251121T090129Z
UID:52648-1764412200-1764437400@onechippenham.org.uk
SUMMARY:Christmas Craft Market
DESCRIPTION:Explore a variety of products by local artists and makers in the historic Yelde Hall. The market will open at 10.30am each day. \nPlease note\, there are different closing times. On Friday\, the market will close at 4.30pm. On Saturday\, the market will close at 5.30pm. \n 
URL:https://onechippenham.org.uk/event/christmas-craft-market/2025-11-29/
LOCATION:The Yelde Hall
CATEGORIES:Arts,Christmas,Crafts,Family Friendly,Market
ATTACH;FMTTYPE=image/jpeg:https://onechippenham.org.uk/wp-content/uploads/2025/11/579170624_1232769762206394_2246009759159693811_n.jpg
ORGANIZER;CN="Chippenham Museum":MAILTO:heritage@chippenham.gov.uk
END:VEVENT
BEGIN:VEVENT
DTSTART;TZID=Europe/London:20251129T110000
DTEND;TZID=Europe/London:20251129T160000
DTSTAMP:20260426T001310
CREATED:20251122T160250Z
LAST-MODIFIED:20251122T160250Z
UID:53254-1764414000-1764432000@onechippenham.org.uk
SUMMARY:Workshop @Quetzal gallery
DESCRIPTION:Join Galit from Craftedglow by Galit to create your own festive composition with fabrics and paper to take home.
URL:https://onechippenham.org.uk/event/workshop-quetzal-gallery/
LOCATION:Quetzal Gallery\, 61 New rd\, Chippenham\, SN15 1ES
CATEGORIES:Arts,Christmas,Community,Crafts
ATTACH;FMTTYPE=image/jpeg:https://onechippenham.org.uk/wp-content/uploads/2025/11/569501542_17913691974211676_7763822486079622613_n.jpg
END:VEVENT
BEGIN:VEVENT
DTSTART;TZID=Europe/London:20251129T120000
DTEND;TZID=Europe/London:20251129T174500
DTSTAMP:20260426T001310
CREATED:20251121T092027Z
LAST-MODIFIED:20251121T092027Z
UID:53076-1764417600-1764438300@onechippenham.org.uk
SUMMARY:Christmas Lights Switch-On
DESCRIPTION:The Christmas lights switch-on will take place on Saturday\, 29th November with a fun-filled day of live music\, entertainment\, and festive fun. \nThe main stage in Market Place will host live music\, there will be a festive market\, and lots of family entertainment with street theatre and fun walkabout characters.  Chippenham Museum will have creative activities and the Yelde will host a Christmas craft market. \nBetween 12noon – 5.45pm\, there is a variety of family-friendly entertainment and activities to welcome Chippenham into the festive period and celebrate the switch-on of the Christmas lights. \nThe day includes performances from local favourites CLOGettes\, Robbie Culley and the Wiltshire Police Band\, alongside interactive walkabout entertainment and children’s creative activities. \nThis year we have 2 snow globes\, and Santa will abseil into town at 4.55pm to turn the lights on at 5pm. \nYou can see the programme in full HERE. You can collect a paper copy from Customer Services at the Town Hall.
URL:https://onechippenham.org.uk/event/christmas-lights-switch-on/
LOCATION:Chippenham Town Centre
CATEGORIES:Christmas,Market,Music
ATTACH;FMTTYPE=image/jpeg:https://onechippenham.org.uk/wp-content/uploads/2025/11/Christmas-lights-switch-on.jpg
END:VEVENT
BEGIN:VEVENT
DTSTART;TZID=Europe/London:20251129T140000
DTEND;TZID=Europe/London:20251129T160000
DTSTAMP:20260426T001310
CREATED:20251121T143948Z
LAST-MODIFIED:20251121T143948Z
UID:53090-1764424800-1764432000@onechippenham.org.uk
SUMMARY:Blooming Chic by Judy Ward: Christmas Wreath workshops
DESCRIPTION:Christmas Wreath workshops \nDecember 2025 dates – \nWednesday 3rd & 10th December 7pm – 9pm \nSaturday 13th December 2pm – 4pm \nAt our studio in Chippenham  \nBook at www.bloomingchic.co.uk/workshops or call Judy on 07813-886801 \n£65 per person to include tuition\, all materials and refreshments.
URL:https://onechippenham.org.uk/event/blooming-chic-by-judy-ward-christmas-wreath-workshops/2025-11-29/
CATEGORIES:Christmas
ATTACH;FMTTYPE=image/png:https://onechippenham.org.uk/wp-content/uploads/2025/11/BC-Wreath.png
END:VEVENT
BEGIN:VEVENT
DTSTART;TZID=Europe/London:20251129T143000
DTEND;TZID=Europe/London:20251129T170000
DTSTAMP:20260426T001310
CREATED:20250805T071724Z
LAST-MODIFIED:20250805T071724Z
UID:44747-1764426600-1764435600@onechippenham.org.uk
SUMMARY:Clogs Musical Theatre presents Elf The Musical
DESCRIPTION:A title known the world over\, Elf The Musical is a must-produce holiday musical that can easily become an annual tradition for any theatre. Based on the cherished 2003 New Line Cinema hit\, Elf features songs by Tony Award nominees Matthew Sklar and Chad Beguelin (Disney’s Aladdin On Broadway\, The Wedding Singer)\, with a book by Tony Award winners Thomas Meehan (Annie\, The Producers\, Hairspray) and Bob Martin (The Drowsy Chaperone). \nBuddy\, a young orphan mistakenly crawls into Santa’s bag of gifts and is transported to the North Pole. The would-be elf is raised unaware that he is actually a human\, until his enormous size and poor toy-making abilities cause him to face the truth. With Santa’s permission\, Buddy embarks on a journey to New York City to find his birth father and discover his true identity. Faced with the harsh reality that his father is on the naughty list\, and his step-brother doesn’t even believe in Santa\, Buddy is determined to win over his new family and help New York remember the true meaning of Christmas. \nThis modern day holiday classic is sure to make everyone embrace their inner elf. After all\, the best way to spread Christmas Cheer is singing loud for all to hear. \nTickets: Standard £17/£19/£21 (plus booking fee) | Concession (under 12s) £10 (plus booking fee) \nAge Restrictions: None \nPlease contact the venue for any access requirements. \nTickets are also available through the Box Office on 01249 446699\, from the Neeld Box Office or at the Town Hall. \nTickets are non-refundable unless this event is cancelled or postponed.
URL:https://onechippenham.org.uk/event/clogs-musical-theatre-presents-elf-the-musical/2025-11-29/
LOCATION:Neeld Community & Arts Centre\, The Neeld\, High Street\, Chippenham\, Wiltshire\, SN15 3ER\, United Kingdom
CATEGORIES:Theatre
ATTACH;FMTTYPE=image/jpeg:https://onechippenham.org.uk/wp-content/uploads/2025/08/Elf.jpg
END:VEVENT
BEGIN:VEVENT
DTSTART;TZID=Europe/London:20251129T170000
DTEND;TZID=Europe/London:20251129T170000
DTSTAMP:20260426T001310
CREATED:20251023T120249Z
LAST-MODIFIED:20251023T120249Z
UID:52060-1764435600-1764435600@onechippenham.org.uk
SUMMARY:Christmas Lights Switch-On 2025
DESCRIPTION:The Christmas lights switch-on will take place on Saturday\, 29th November with a fun-filled day of live music\, entertainment\, and festive fun. \nThe main stage in Market Place will host live music\, there will be a festive market\, and lots of family entertainment with street theatre and fun walkabout characters. Chippenham Museum will have creative activities and the Yelde will host a Christmas craft market. \nThis year we have 2 snow globes\, and Santa will abseil into town at 4.55pm to turn the lights on at 5pm.
URL:https://onechippenham.org.uk/event/christmas-lights-switch-on-2025/
LOCATION:Chippenham
CATEGORIES:Christmas
ATTACH;FMTTYPE=image/jpeg:https://onechippenham.org.uk/wp-content/uploads/2025/10/xmas-lights.jpg
END:VEVENT
BEGIN:VEVENT
DTSTART;TZID=Europe/London:20251129T180000
DTEND;TZID=Europe/London:20251129T220000
DTSTAMP:20260426T001310
CREATED:20251122T163944Z
LAST-MODIFIED:20251122T163944Z
UID:53282-1764439200-1764453600@onechippenham.org.uk
SUMMARY:The Kitchen by Wine Monkey is open for dinner
DESCRIPTION:The newest project from the guys at Wine Monkey\, The Kitchen is a new restaurant in Chippenham and the coolest place to dine. Open daily for breakfast and lunch\, brunch at the weekend and now every Friday and Saturday for dinner. They’ve blended the sophistication of a gourmet deli with the casual atmosphere of a classic French bistro to create a unique dining experience where artisanship meets playful elegance. \nSpecialising in handmade food\, creative recipes and excellent service\, Chef Lisa puts her extensive culinary experience to work in the kitchen\, while head sommelier Bryan expertly pairs wines to enjoy alongside. \nBookings are highly recommended as this place is very popular. Open 6-10pm.\nVegetarian\, vegan and gluten-free guests are very welcome.
URL:https://onechippenham.org.uk/event/the-kitchen-by-wine-monkey-is-open-for-dinner/2025-11-29/
LOCATION:Wine Monkey\, 20 Borough Parade\, Chippenham\, SN15 3WL\, United Kingdom
CATEGORIES:Food and Drink
ATTACH;FMTTYPE=image/jpeg:https://onechippenham.org.uk/wp-content/uploads/2025/11/Kitchen-by-Wine-Monkey-184.jpg
ORGANIZER;CN="Wine Monkey":MAILTO:Thecellar@winemonkey.co.uk
END:VEVENT
BEGIN:VEVENT
DTSTART;TZID=Europe/London:20251129T190000
DTEND;TZID=Europe/London:20251129T213000
DTSTAMP:20260426T001310
CREATED:20251126T155804Z
LAST-MODIFIED:20251126T155804Z
UID:53506-1764442800-1764451800@onechippenham.org.uk
SUMMARY:Geek Quiz Night
DESCRIPTION:A geekie twist on the traditional pub quiz. Categories can include games\, comics\, film & tv\, soundtracks\, literature\, memorabilia. Teams up to 6 people. Prizes for the winning team
URL:https://onechippenham.org.uk/event/geek-quiz-night/
LOCATION:Bargammon’s Tavern\, 35 Market Place\, Chippenham\, Wiltshire\, SN15 3HT\, United Kingdom
CATEGORIES:Quiz
ATTACH;FMTTYPE=image/jpeg:https://onechippenham.org.uk/wp-content/uploads/2025/11/Nov25quiz.jpg
ORGANIZER;CN="Bargammon's Tavern":MAILTO:Bargammontavern@gmail.com
END:VEVENT
BEGIN:VEVENT
DTSTART;TZID=Europe/London:20251129T193000
DTEND;TZID=Europe/London:20251129T220000
DTSTAMP:20260426T001310
CREATED:20250805T071724Z
LAST-MODIFIED:20250805T072409Z
UID:44698-1764444600-1764453600@onechippenham.org.uk
SUMMARY:Clogs Musical Theatre presents Elf The Musical
DESCRIPTION:A title known the world over\, Elf The Musical is a must-produce holiday musical that can easily become an annual tradition for any theatre. Based on the cherished 2003 New Line Cinema hit\, Elf features songs by Tony Award nominees Matthew Sklar and Chad Beguelin (Disney’s Aladdin On Broadway\, The Wedding Singer)\, with a book by Tony Award winners Thomas Meehan (Annie\, The Producers\, Hairspray) and Bob Martin (The Drowsy Chaperone). \nBuddy\, a young orphan mistakenly crawls into Santa’s bag of gifts and is transported to the North Pole. The would-be elf is raised unaware that he is actually a human\, until his enormous size and poor toy-making abilities cause him to face the truth. With Santa’s permission\, Buddy embarks on a journey to New York City to find his birth father and discover his true identity. Faced with the harsh reality that his father is on the naughty list\, and his step-brother doesn’t even believe in Santa\, Buddy is determined to win over his new family and help New York remember the true meaning of Christmas. \nThis modern day holiday classic is sure to make everyone embrace their inner elf. After all\, the best way to spread Christmas Cheer is singing loud for all to hear. \nTickets: Standard £17/£19/£21 (plus booking fee) | Concession (under 12s) £10 (plus booking fee) \nAge Restrictions: None \nPlease contact the venue for any access requirements. \nTickets are also available through the Box Office on 01249 446699\, from the Neeld Box Office or at the Town Hall. \nTickets are non-refundable unless this event is cancelled or postponed.
URL:https://onechippenham.org.uk/event/clogs-musical-theatre-presents-elf-the-musical/2025-11-29/
LOCATION:Neeld Community & Arts Centre\, The Neeld\, High Street\, Chippenham\, Wiltshire\, SN15 3ER\, United Kingdom
CATEGORIES:Theatre
ATTACH;FMTTYPE=image/jpeg:https://onechippenham.org.uk/wp-content/uploads/2025/08/Elf.jpg
END:VEVENT
END:VCALENDAR