BEGIN:VCALENDAR
VERSION:2.0
PRODID:-//One Chippenham - ECPv6.15.20//NONSGML v1.0//EN
CALSCALE:GREGORIAN
METHOD:PUBLISH
X-ORIGINAL-URL:https://onechippenham.org.uk
X-WR-CALDESC:Events for One Chippenham
REFRESH-INTERVAL;VALUE=DURATION:PT1H
X-Robots-Tag:noindex
X-PUBLISHED-TTL:PT1H
BEGIN:VTIMEZONE
TZID:Europe/London
BEGIN:DAYLIGHT
TZOFFSETFROM:+0000
TZOFFSETTO:+0100
TZNAME:BST
DTSTART:20240331T010000
END:DAYLIGHT
BEGIN:STANDARD
TZOFFSETFROM:+0100
TZOFFSETTO:+0000
TZNAME:GMT
DTSTART:20241027T010000
END:STANDARD
BEGIN:DAYLIGHT
TZOFFSETFROM:+0000
TZOFFSETTO:+0100
TZNAME:BST
DTSTART:20250330T010000
END:DAYLIGHT
BEGIN:STANDARD
TZOFFSETFROM:+0100
TZOFFSETTO:+0000
TZNAME:GMT
DTSTART:20251026T010000
END:STANDARD
BEGIN:DAYLIGHT
TZOFFSETFROM:+0000
TZOFFSETTO:+0100
TZNAME:BST
DTSTART:20260329T010000
END:DAYLIGHT
BEGIN:STANDARD
TZOFFSETFROM:+0100
TZOFFSETTO:+0000
TZNAME:GMT
DTSTART:20261025T010000
END:STANDARD
BEGIN:DAYLIGHT
TZOFFSETFROM:+0000
TZOFFSETTO:+0100
TZNAME:BST
DTSTART:20270328T010000
END:DAYLIGHT
BEGIN:STANDARD
TZOFFSETFROM:+0100
TZOFFSETTO:+0000
TZNAME:GMT
DTSTART:20271031T010000
END:STANDARD
END:VTIMEZONE
BEGIN:VEVENT
DTSTART;TZID=Europe/London:20251115T100000
DTEND;TZID=Europe/London:20260221T160000
DTSTAMP:20260426T020654
CREATED:20251010T083359Z
LAST-MODIFIED:20251010T083359Z
UID:51091-1763200800-1771689600@onechippenham.org.uk
SUMMARY:Subversive Forms: Revolutionary approaches to clay
DESCRIPTION:Featuring artworks by some of the leading sculptors and innovators working with ceramics in the UK today\, join us for our next exhibition ‘Subversive Forms: Revolutionary approaches to clay’. \n‘Subversive Forms’ will shine a spotlight on contemporary artists who push the boundaries of possibility with clay. Each selected artist disrupts and manipulates traditional ceramic preconceptions\, creating enigmatic artworks that push the medium beyond the functional\, and using clay as a non-apologetic material for sculpture. \nThe exhibition features work by the following artists: \nDan Allen\, Felicity Aylieff\, Kelly Allsopp\, Halima Cassell\, Matthew Chambers\, Claire Curneen\, Richard Deacon\, Laura Ford\, Keith Harrison\, Mimi Joung\, Jonathan Keep\, Nicholas Lees\, Claire Loder\, Sam Lucas\, Peter Randall Page\, Sarah Purvey\, Matt Smith\, Jo Taylor\, Annie Turner\, Patricia Volk\, and Maria Wodjat. \n📅 Saturday 15 November – Saturday 21 February\n⏲️ Monday-Saturday\, 10am-4pm\n🎟️ Free entry \nFind out more about the some of the artists featured in this exhibition\, at our special ceramics symposium\, being held at Chippenham’s Town Hall in February.
URL:https://onechippenham.org.uk/event/subversive-forms-revolutionary-approaches-to-clay/
LOCATION:Chippenham Museum\, 9-10 Market Pl\, Chippenham\, SN15 3HF\, United Kingdom
CATEGORIES:Arts,Exhibition
ATTACH;FMTTYPE=image/png:https://onechippenham.org.uk/wp-content/uploads/2025/10/Exhibition-Poster-CTC-Whats-On.png
ORGANIZER;CN="Chippenham Museum":MAILTO:heritage@chippenham.gov.uk
END:VEVENT
BEGIN:VEVENT
DTSTART;TZID=Europe/London:20251130T123000
DTEND;TZID=Europe/London:20251130T150000
DTSTAMP:20260426T020654
CREATED:20250805T071724Z
LAST-MODIFIED:20250805T071724Z
UID:44748-1764505800-1764514800@onechippenham.org.uk
SUMMARY:Clogs Musical Theatre presents Elf The Musical
DESCRIPTION:A title known the world over\, Elf The Musical is a must-produce holiday musical that can easily become an annual tradition for any theatre. Based on the cherished 2003 New Line Cinema hit\, Elf features songs by Tony Award nominees Matthew Sklar and Chad Beguelin (Disney’s Aladdin On Broadway\, The Wedding Singer)\, with a book by Tony Award winners Thomas Meehan (Annie\, The Producers\, Hairspray) and Bob Martin (The Drowsy Chaperone). \nBuddy\, a young orphan mistakenly crawls into Santa’s bag of gifts and is transported to the North Pole. The would-be elf is raised unaware that he is actually a human\, until his enormous size and poor toy-making abilities cause him to face the truth. With Santa’s permission\, Buddy embarks on a journey to New York City to find his birth father and discover his true identity. Faced with the harsh reality that his father is on the naughty list\, and his step-brother doesn’t even believe in Santa\, Buddy is determined to win over his new family and help New York remember the true meaning of Christmas. \nThis modern day holiday classic is sure to make everyone embrace their inner elf. After all\, the best way to spread Christmas Cheer is singing loud for all to hear. \nTickets: Standard £17/£19/£21 (plus booking fee) | Concession (under 12s) £10 (plus booking fee) \nAge Restrictions: None \nPlease contact the venue for any access requirements. \nTickets are also available through the Box Office on 01249 446699\, from the Neeld Box Office or at the Town Hall. \nTickets are non-refundable unless this event is cancelled or postponed.
URL:https://onechippenham.org.uk/event/clogs-musical-theatre-presents-elf-the-musical/2025-11-30/
LOCATION:Neeld Community & Arts Centre\, The Neeld\, High Street\, Chippenham\, Wiltshire\, SN15 3ER\, United Kingdom
CATEGORIES:Theatre
ATTACH;FMTTYPE=image/jpeg:https://onechippenham.org.uk/wp-content/uploads/2025/08/Elf.jpg
END:VEVENT
BEGIN:VEVENT
DTSTART;TZID=Europe/London:20251130T130000
DTEND;TZID=Europe/London:20251130T150000
DTSTAMP:20260426T020654
CREATED:20251121T085756Z
LAST-MODIFIED:20251121T085756Z
UID:53015-1764507600-1764514800@onechippenham.org.uk
SUMMARY:Christmas Wreath Making at Whatever Studios
DESCRIPTION:Join us for a fun\, creative way to start the festive season! This relaxed and friendly workshop is the perfect opportunity to unwind\, get into the Christmas spirit\, and create something beautiful for your home.\nRun by Mrs Mosleys Posies \nNo experience is needed – Tracey will guide you through every step of the process\, so you’ll leave with a gorgeous handmade wreath you’ll be proud to hang on your door.\nYou’ll have access to a lovely selection of natural decorations to adorn your wreath\, but you’re also welcome to bring your own special touches – such as fairy lights or personal ornaments – to make it truly unique.\nDate: Sunday 30th November 2025\nStart time: 1 – 3pm\nLocation: Unit 2\, The Granary\, Union Road\, Chippenham\, SN151HW (next door to Pano Bakehouse)\nAll materials are provided\, but you may wish to bring your own gloves and apron if you’d like to use them.\nCome along for a few joyful hours of creativity\, connection\, and festive fun – and leave with a beautiful handmade wreath to kick off the season in style. \nMulled wine and festive treats included.\nPlease wrap up warm
URL:https://onechippenham.org.uk/event/christmas-wreath-making-2/
LOCATION:Whatever Studios\, Union Road\, Chippenham\, SN15 1HW
CATEGORIES:Christmas
ATTACH;FMTTYPE=image/jpeg:https://onechippenham.org.uk/wp-content/uploads/2025/11/IMG_1889.jpeg
END:VEVENT
END:VCALENDAR