BEGIN:VCALENDAR
VERSION:2.0
PRODID:-//One Chippenham - ECPv6.15.20//NONSGML v1.0//EN
CALSCALE:GREGORIAN
METHOD:PUBLISH
X-ORIGINAL-URL:https://onechippenham.org.uk
X-WR-CALDESC:Events for One Chippenham
REFRESH-INTERVAL;VALUE=DURATION:PT1H
X-Robots-Tag:noindex
X-PUBLISHED-TTL:PT1H
BEGIN:VTIMEZONE
TZID:Europe/London
BEGIN:DAYLIGHT
TZOFFSETFROM:+0000
TZOFFSETTO:+0100
TZNAME:BST
DTSTART:20240331T010000
END:DAYLIGHT
BEGIN:STANDARD
TZOFFSETFROM:+0100
TZOFFSETTO:+0000
TZNAME:GMT
DTSTART:20241027T010000
END:STANDARD
BEGIN:DAYLIGHT
TZOFFSETFROM:+0000
TZOFFSETTO:+0100
TZNAME:BST
DTSTART:20250330T010000
END:DAYLIGHT
BEGIN:STANDARD
TZOFFSETFROM:+0100
TZOFFSETTO:+0000
TZNAME:GMT
DTSTART:20251026T010000
END:STANDARD
BEGIN:DAYLIGHT
TZOFFSETFROM:+0000
TZOFFSETTO:+0100
TZNAME:BST
DTSTART:20260329T010000
END:DAYLIGHT
BEGIN:STANDARD
TZOFFSETFROM:+0100
TZOFFSETTO:+0000
TZNAME:GMT
DTSTART:20261025T010000
END:STANDARD
BEGIN:DAYLIGHT
TZOFFSETFROM:+0000
TZOFFSETTO:+0100
TZNAME:BST
DTSTART:20270328T010000
END:DAYLIGHT
BEGIN:STANDARD
TZOFFSETFROM:+0100
TZOFFSETTO:+0000
TZNAME:GMT
DTSTART:20271031T010000
END:STANDARD
END:VTIMEZONE
BEGIN:VEVENT
DTSTART;TZID=Europe/London:20251115T100000
DTEND;TZID=Europe/London:20260221T160000
DTSTAMP:20260426T001310
CREATED:20251010T083359Z
LAST-MODIFIED:20251010T083359Z
UID:51091-1763200800-1771689600@onechippenham.org.uk
SUMMARY:Subversive Forms: Revolutionary approaches to clay
DESCRIPTION:Featuring artworks by some of the leading sculptors and innovators working with ceramics in the UK today\, join us for our next exhibition ‘Subversive Forms: Revolutionary approaches to clay’. \n‘Subversive Forms’ will shine a spotlight on contemporary artists who push the boundaries of possibility with clay. Each selected artist disrupts and manipulates traditional ceramic preconceptions\, creating enigmatic artworks that push the medium beyond the functional\, and using clay as a non-apologetic material for sculpture. \nThe exhibition features work by the following artists: \nDan Allen\, Felicity Aylieff\, Kelly Allsopp\, Halima Cassell\, Matthew Chambers\, Claire Curneen\, Richard Deacon\, Laura Ford\, Keith Harrison\, Mimi Joung\, Jonathan Keep\, Nicholas Lees\, Claire Loder\, Sam Lucas\, Peter Randall Page\, Sarah Purvey\, Matt Smith\, Jo Taylor\, Annie Turner\, Patricia Volk\, and Maria Wodjat. \n📅 Saturday 15 November – Saturday 21 February\n⏲️ Monday-Saturday\, 10am-4pm\n🎟️ Free entry \nFind out more about the some of the artists featured in this exhibition\, at our special ceramics symposium\, being held at Chippenham’s Town Hall in February.
URL:https://onechippenham.org.uk/event/subversive-forms-revolutionary-approaches-to-clay/
LOCATION:Chippenham Museum\, 9-10 Market Pl\, Chippenham\, SN15 3HF\, United Kingdom
CATEGORIES:Arts,Exhibition
ATTACH;FMTTYPE=image/png:https://onechippenham.org.uk/wp-content/uploads/2025/10/Exhibition-Poster-CTC-Whats-On.png
ORGANIZER;CN="Chippenham Museum":MAILTO:heritage@chippenham.gov.uk
END:VEVENT
BEGIN:VEVENT
DTSTART;TZID=Europe/London:20251201T090000
DTEND;TZID=Europe/London:20251201T090000
DTSTAMP:20260426T001310
CREATED:20251201T110608Z
LAST-MODIFIED:20251201T110737Z
UID:53799-1764579600-1764579600@onechippenham.org.uk
SUMMARY:Chippenham parkrun: Christmas Day 2025
DESCRIPTION:Chippenham parkrun will be holding an EXTRA event on Christmas Day 2025 \n\n\nWe will still have the events on each Saturday before\, during and after the festive period as well on the following Thursday: New Years Day.\n\nIt’s a MEGA way to start Christmas Day!\n\nChristmas hats\, Christmas jumpers\, Christmas Fancy Dress\, Christmas Goodies and usually record numbers of our favourite Parkrun family members volunteering and park running …\n\nand yet …\nwe arrive\, parkrun and tidy up with many hands so we all get away swiftly.\n\nNote that the Olympiad will be closed.
URL:https://onechippenham.org.uk/event/chippenham-parkrun-christmas-day-2025/
LOCATION:Monkton Park\, Chippenham
CATEGORIES:Community,Fitness
ATTACH;FMTTYPE=image/jpeg:https://onechippenham.org.uk/wp-content/uploads/2025/12/Parkrun.jpeg
ORGANIZER;CN="Chippenham Parkrun":MAILTO:chippenham@parkrun.com
END:VEVENT
BEGIN:VEVENT
DTSTART;TZID=Europe/London:20251201T090000
DTEND;TZID=Europe/London:20251201T090000
DTSTAMP:20260426T001310
CREATED:20251201T111312Z
LAST-MODIFIED:20251201T111312Z
UID:53804-1764579600-1764579600@onechippenham.org.uk
SUMMARY:New Year's Day at Chippenham parkrun 2026
DESCRIPTION:Chippenham parkrun will be holding our event on New Years Day 2026.\n\nThis will be an EXTRA event on New Years Day\, a Thursday!\n\nWe will still have the events on each Saturday before\, during and after the festive period as well on the previous Thursday: Christmas Day.\n\nOn the day ….It’s a SUPER way to start the New Year!Hang over? What hangover?!\n\nStart 2026 as you mean to go on – the first Volunteer of the Year\, the first parkrun of the Year – whichever do it with us at Chippenham!\n\nHAPPY 2026 to you all.
URL:https://onechippenham.org.uk/event/new-years-day-at-chippenham-parkrun-2026/
LOCATION:Monkton Park\, Chippenham
CATEGORIES:Community,Fitness
ATTACH;FMTTYPE=image/jpeg:https://onechippenham.org.uk/wp-content/uploads/2025/12/Park-run-NY-day-25.jpg
ORGANIZER;CN="Chippenham Parkrun":MAILTO:chippenham@parkrun.com
END:VEVENT
BEGIN:VEVENT
DTSTART;TZID=Europe/London:20251201T120000
DTEND;TZID=Europe/London:20251201T130000
DTSTAMP:20260426T001310
CREATED:20250821T112338Z
LAST-MODIFIED:20250821T112338Z
UID:45294-1764590400-1764594000@onechippenham.org.uk
SUMMARY:Sparkly Lite singing group
DESCRIPTION:Sparkly Singers is the award-winning Wiltshire-based choir experience\, founded with the simple aim of bringing the joy and benefits of group singing to everyone\, regardless of age\, experience or ability. \nOur ‘lighter’ daytime sessions are perfect for anyone who just fancies popping out for an hour or so each week to meet new people and sing a selection of fabulous feel-good songs. No part-singing\, no practising\, no performing in public – just turn up each week and sing! \nSo if you love the idea of simply singing for the fun of it\, why not enquire about one of our FREE taster sessions and come and see what we’re all about.
URL:https://onechippenham.org.uk/event/sparkly-lite-singing-group-4/2025-12-01/
LOCATION:Pewsham Community Centre\, Lodge Road\, Chippenham\, SN5 3SY
CATEGORIES:Adults,Choir,Community,Music,Performing Arts,Singing
ATTACH;FMTTYPE=image/png:https://onechippenham.org.uk/wp-content/uploads/2025/08/Sparkly-Lite-sessions-for-One-Chippenham.png
END:VEVENT
BEGIN:VEVENT
DTSTART;TZID=Europe/London:20251201T163000
DTEND;TZID=Europe/London:20251201T180000
DTSTAMP:20260426T001310
CREATED:20251126T203655Z
LAST-MODIFIED:20251126T204449Z
UID:53553-1764606600-1764612000@onechippenham.org.uk
SUMMARY:Teasel Hedgehog Craft Workshop
DESCRIPTION:We have two start times for our next Teasel Hedgehog workshop on 1 December. Just £10 to learn how to craft your own hedgehog with everything you need provided.
URL:https://onechippenham.org.uk/event/teasel-hedgehog-craft-workshop/2025-12-01/
LOCATION:Bargammon’s Tavern\, 35 Market Place\, Chippenham\, Wiltshire\, SN15 3HT\, United Kingdom
CATEGORIES:Crafts
ATTACH;FMTTYPE=image/jpeg:https://onechippenham.org.uk/wp-content/uploads/2025/11/hedgehog.jpg
ORGANIZER;CN="Bargammon's Tavern":MAILTO:Bargammontavern@gmail.com
END:VEVENT
BEGIN:VEVENT
DTSTART;TZID=Europe/London:20251201T180000
DTEND;TZID=Europe/London:20251201T190000
DTSTAMP:20260426T001310
CREATED:20251201T102223Z
LAST-MODIFIED:20251201T103422Z
UID:50454-1764612000-1764615600@onechippenham.org.uk
SUMMARY:Play Rounders
DESCRIPTION:Ladies only Rounders \nWe are a ladies only group based now at Hardenhuish school. Weather is no problem\, as we are now indoors. \nUse the QR code to sign up (or the link below) and come and have some fun\, and play Rounders like you did at schoolhttps://www.roundersengland.co.uk/rounders…/play-rounders/
URL:https://onechippenham.org.uk/event/play-rounders/2025-12-01/
LOCATION:Hardenhuish School\, Hardenhuish Lane\, Chippenham\, Wiltshire\, SN14 6RJ\, United Kingdom
ATTACH;FMTTYPE=image/jpeg:https://onechippenham.org.uk/wp-content/uploads/2025/10/Play-rounders.jpg
ORGANIZER;CN="Play Rounders":MAILTO:Nick Jackson
END:VEVENT
BEGIN:VEVENT
DTSTART;TZID=Europe/London:20251201T193000
DTEND;TZID=Europe/London:20251201T210000
DTSTAMP:20260426T001310
CREATED:20250915T093306Z
LAST-MODIFIED:20250915T093306Z
UID:47506-1764617400-1764622800@onechippenham.org.uk
SUMMARY:Improvers Acting
DESCRIPTION:FOR AGES 18+ \nDrama Workshops with their basis in improvisation and devising\, but including script. \n‘The most fun I have all week’ \nMondays in 5 week blocks at the Cause Arts Centre\, Causeway Chippenham\nImprovers 7.30 – 9pm (Beginners 6 -7.30pm) \nFor those who’ve been coming to us for a while\, or who like to move a bit faster\, this session is for you. \nCome and join a lovely bunch of local budding thespians\, who like to mess about\, play games\, take part in drama exercises and generally have fun while learning how to think on the spot\, make up scenes and not always be restricted by the script. \nYou’ll explore scenes\, develop strong characters then improvise the content with some idea of the outcomes – Mike Leigh style. \nWe’ll also be developing some scenes and creating longer pieces\, so be prepared. We’d like to find opportunities to perform outside for those of you who are keen. \nTerm 1: Monday 22nd September – October 20th 2025\nTerm 2: Monday November 3rd – December 1st 2025\nTerm 3: Monday 5th January – Feb 2nd 2026\nTerm 4: Monday 23rd February – March 23rd 2026\nTerm 5: Monday April 13th – May 18th 2026\nTerm 6: Monday June 1st – June 29th 2026 \n(Thursday evening Improv Slams also running at the Old Road Tavern 7.30 – 9pm £12 drop in on second Thursday of the month. No booking needed )
URL:https://onechippenham.org.uk/event/improvers-acting/2025-12-01/
LOCATION:The Cause Music and Arts Centre\, 42 The Causeway\, Chippenham\, Wiltshire\, SN15 3DD\, United Kingdom
CATEGORIES:Drama
ATTACH;FMTTYPE=image/jpeg:https://onechippenham.org.uk/wp-content/uploads/2025/09/Beginners-Acting-1.jpg
ORGANIZER;CN="Rag and Bone Arts CIC":MAILTO:ragandbonearts@gmail.com
END:VEVENT
END:VCALENDAR