BEGIN:VCALENDAR
VERSION:2.0
PRODID:-//One Chippenham - ECPv6.15.20//NONSGML v1.0//EN
CALSCALE:GREGORIAN
METHOD:PUBLISH
X-WR-CALNAME:One Chippenham
X-ORIGINAL-URL:https://onechippenham.org.uk
X-WR-CALDESC:Events for One Chippenham
REFRESH-INTERVAL;VALUE=DURATION:PT1H
X-Robots-Tag:noindex
X-PUBLISHED-TTL:PT1H
BEGIN:VTIMEZONE
TZID:Europe/London
BEGIN:DAYLIGHT
TZOFFSETFROM:+0000
TZOFFSETTO:+0100
TZNAME:BST
DTSTART:20240331T010000
END:DAYLIGHT
BEGIN:STANDARD
TZOFFSETFROM:+0100
TZOFFSETTO:+0000
TZNAME:GMT
DTSTART:20241027T010000
END:STANDARD
BEGIN:DAYLIGHT
TZOFFSETFROM:+0000
TZOFFSETTO:+0100
TZNAME:BST
DTSTART:20250330T010000
END:DAYLIGHT
BEGIN:STANDARD
TZOFFSETFROM:+0100
TZOFFSETTO:+0000
TZNAME:GMT
DTSTART:20251026T010000
END:STANDARD
BEGIN:DAYLIGHT
TZOFFSETFROM:+0000
TZOFFSETTO:+0100
TZNAME:BST
DTSTART:20260329T010000
END:DAYLIGHT
BEGIN:STANDARD
TZOFFSETFROM:+0100
TZOFFSETTO:+0000
TZNAME:GMT
DTSTART:20261025T010000
END:STANDARD
END:VTIMEZONE
BEGIN:VEVENT
DTSTART;VALUE=DATE:20251206
DTEND;VALUE=DATE:20251207
DTSTAMP:20260424T073210
CREATED:20251111T131356Z
LAST-MODIFIED:20251111T131356Z
UID:52630-1764979200-1765065599@onechippenham.org.uk
SUMMARY:Teach the Children Well
DESCRIPTION:Santa post service run by the Hub that guarantees a response from ‘Santa’ in return for the child buying a toy for a child who is not as lucky as them. \n\n9am until 3pm weekdays at Chippenham Community Hub between 10th and 28th November\nEmery Gate Christmas Market – 29th November\, 6th and 13th December\n\n 
URL:https://onechippenham.org.uk/event/teach-the-children-well-2/2025-12-06/
LOCATION:Emery Gate shopping centre\, Emery Gate shopping centre\, Chippenham\, Wiltshire\, SN15 3JP
CATEGORIES:Children,Christmas
ATTACH;FMTTYPE=image/jpeg:https://onechippenham.org.uk/wp-content/uploads/2025/10/IMG_5360.jpeg
ORGANIZER;CN="Chippenham Community Hub":MAILTO:chippenhamcommunityecohub@gmail.com
END:VEVENT
BEGIN:VEVENT
DTSTART;TZID=Europe/London:20251206T100000
DTEND;TZID=Europe/London:20251206T170000
DTSTAMP:20260424T073210
CREATED:20251121T083338Z
LAST-MODIFIED:20251121T083338Z
UID:53050-1765015200-1765040400@onechippenham.org.uk
SUMMARY:Emery Gate Christmas Market
DESCRIPTION:Get ready to kick off the festive season in style! Our indoor Christmas Market makes its debut in the former Tesco unit at Emery Gate\, bringing loads of seasonal cheer straight to the heart of Chippenham. \nWhat’s on: \n\nBrowse a wonderful selection of stalls from local traders offering: art & prints\, books & bookmarks\, handmade keyrings\, plants & home décor\, antiques & retro collectibles\, quilts & cushions\, jewellery\, crocheted items\, perfumes & fragrances\, second-hand bric-a-brac and vintage finds\, cakes & bakes\, sweet treats\, locally produced rum & snacks.• Mulled wine and Christmas bites to get you in the mood.\nFamily fun fair rides including bumper cars and tea-cups.\nDon’t miss a visit to Father Christmas in our Christmas Grotto: 11:00am-4:00pm. Each child will receive a small gift. Entry to the Grotto: £3.50 per child (card/contactless only).\n\nDetails & Tips: \n\nEntry to the Christmas Market is free.\nRides & Grotto incur additional costs. .\n\nWe’ll see you at Emery Gate for the festive fun!
URL:https://onechippenham.org.uk/event/emery-gate-christmas-market/2025-12-06/
LOCATION:Emery Gate shopping centre\, Emery Gate shopping centre\, Chippenham\, Wiltshire\, SN15 3JP
CATEGORIES:Christmas,Family Friendly,Market
ATTACH;FMTTYPE=image/jpeg:https://onechippenham.org.uk/wp-content/uploads/2025/11/IMG_1883.jpeg
END:VEVENT
BEGIN:VEVENT
DTSTART;TZID=Europe/London:20251206T143000
DTEND;TZID=Europe/London:20251206T163000
DTSTAMP:20260424T073210
CREATED:20251112T140014Z
LAST-MODIFIED:20251112T140206Z
UID:52797-1765031400-1765038600@onechippenham.org.uk
SUMMARY:Red Riding Hood
DESCRIPTION:Get ready for a festive treat packed with hilarious antics\, toe-tapping tunes\, dazzling costumes\, and all the traditional panto magic you know and love. Join our brave Red Riding Hood as she ventures through the woods\, encounters a wickedly wonderful wolf\, and maybe even gets some unexpected help along the way! \nThis year’s production promises to be a fun-filled adventure for the whole family. Expect plenty of audience participation\, silly jokes\, and heartwarming moments that will leave you with a smile on your face long after the curtain falls. \n\nCatch Red Riding Hood at Heddington Village Hall on: \n\nWednesday 3rd\, Thursday 4th\, Friday 5th December at 7:30pm\n& Saturday 6th December at 2:30pm & 7:30pm\n\n\nTickets\n\nTickets are available from Ticket Source here  – make sure to book early to avoid disappointment\nHowever\, we understand not everyone is able to use online purchasing\, so please feel to email us or call our dedicated HADS Phone Number – 07395 439408  if you have any questions or want to discuss a different method of purchasing tickets. Please leave a message and we will get back to you as soon as we can. The phone is manned by volunteers so please be patient with us.\n\n\nFollow our Facebook page / instagram for sneak peeks\, cast announcements\, and all the latest news. We can’t wait to see you there for a howling good time!\n\nWebsite: heddingtonamdram.org.uk\n\n#HADS #Panto #RedRidingHood #Heddington #VillageHall #Christmas2025 #FamilyFun #AmDram #Calne #Wiltshire #Chippenham
URL:https://onechippenham.org.uk/event/red-riding-hood/2025-12-06/
LOCATION:Heddington Village Hall\, Charles Willis Hall\, Church Road\, Heddington\, SN11 0PJ
CATEGORIES:Christmas,Family Friendly,Performance
ATTACH;FMTTYPE=image/jpeg:https://onechippenham.org.uk/wp-content/uploads/2025/11/Red-Riding-Hood-Panto.jpg
END:VEVENT
BEGIN:VEVENT
DTSTART;TZID=Europe/London:20251206T193000
DTEND;TZID=Europe/London:20251206T213000
DTSTAMP:20260424T073210
CREATED:20251112T140014Z
LAST-MODIFIED:20251112T140208Z
UID:52798-1765049400-1765056600@onechippenham.org.uk
SUMMARY:Red Riding Hood
DESCRIPTION:Get ready for a festive treat packed with hilarious antics\, toe-tapping tunes\, dazzling costumes\, and all the traditional panto magic you know and love. Join our brave Red Riding Hood as she ventures through the woods\, encounters a wickedly wonderful wolf\, and maybe even gets some unexpected help along the way! \nThis year’s production promises to be a fun-filled adventure for the whole family. Expect plenty of audience participation\, silly jokes\, and heartwarming moments that will leave you with a smile on your face long after the curtain falls. \n\nCatch Red Riding Hood at Heddington Village Hall on: \n\nWednesday 3rd\, Thursday 4th\, Friday 5th December at 7:30pm\n& Saturday 6th December at 2:30pm & 7:30pm\n\n\nTickets\n\nTickets are available from Ticket Source here  – make sure to book early to avoid disappointment\nHowever\, we understand not everyone is able to use online purchasing\, so please feel to email us or call our dedicated HADS Phone Number – 07395 439408  if you have any questions or want to discuss a different method of purchasing tickets. Please leave a message and we will get back to you as soon as we can. The phone is manned by volunteers so please be patient with us.\n\n\nFollow our Facebook page / instagram for sneak peeks\, cast announcements\, and all the latest news. We can’t wait to see you there for a howling good time!\n\nWebsite: heddingtonamdram.org.uk\n\n#HADS #Panto #RedRidingHood #Heddington #VillageHall #Christmas2025 #FamilyFun #AmDram #Calne #Wiltshire #Chippenham
URL:https://onechippenham.org.uk/event/red-riding-hood/2025-12-06/2/
LOCATION:Heddington Village Hall\, Charles Willis Hall\, Church Road\, Heddington\, SN11 0PJ
CATEGORIES:Christmas,Family Friendly,Performance
ATTACH;FMTTYPE=image/jpeg:https://onechippenham.org.uk/wp-content/uploads/2025/11/Red-Riding-Hood-Panto.jpg
END:VEVENT
END:VCALENDAR