BEGIN:VCALENDAR
VERSION:2.0
PRODID:-//One Chippenham - ECPv6.15.20//NONSGML v1.0//EN
CALSCALE:GREGORIAN
METHOD:PUBLISH
X-WR-CALNAME:One Chippenham
X-ORIGINAL-URL:https://onechippenham.org.uk
X-WR-CALDESC:Events for One Chippenham
REFRESH-INTERVAL;VALUE=DURATION:PT1H
X-Robots-Tag:noindex
X-PUBLISHED-TTL:PT1H
BEGIN:VTIMEZONE
TZID:Europe/London
BEGIN:DAYLIGHT
TZOFFSETFROM:+0000
TZOFFSETTO:+0100
TZNAME:BST
DTSTART:20240331T010000
END:DAYLIGHT
BEGIN:STANDARD
TZOFFSETFROM:+0100
TZOFFSETTO:+0000
TZNAME:GMT
DTSTART:20241027T010000
END:STANDARD
BEGIN:DAYLIGHT
TZOFFSETFROM:+0000
TZOFFSETTO:+0100
TZNAME:BST
DTSTART:20250330T010000
END:DAYLIGHT
BEGIN:STANDARD
TZOFFSETFROM:+0100
TZOFFSETTO:+0000
TZNAME:GMT
DTSTART:20251026T010000
END:STANDARD
BEGIN:DAYLIGHT
TZOFFSETFROM:+0000
TZOFFSETTO:+0100
TZNAME:BST
DTSTART:20260329T010000
END:DAYLIGHT
BEGIN:STANDARD
TZOFFSETFROM:+0100
TZOFFSETTO:+0000
TZNAME:GMT
DTSTART:20261025T010000
END:STANDARD
END:VTIMEZONE
BEGIN:VEVENT
DTSTART;TZID=Europe/London:20251211T173000
DTEND;TZID=Europe/London:20251211T181500
DTSTAMP:20260422T122446
CREATED:20251112T123136Z
LAST-MODIFIED:20251209T102924Z
UID:52769-1765474200-1765476900@onechippenham.org.uk
SUMMARY:Dog Training Classes
DESCRIPTION:Looking for kind\, calm\, and effective dog training in Chippenham?\n\nI’m Zuzana from Canine Dreams\, a qualified\, force-free dog trainer passionate about helping dogs and their people feel calm and confident together.\n\nI offer small\, structured classes and 1–1 sessions in Chippenham\, including:\n\nCalm Start Puppy Programme – for puppies up to 6 months\, teaching confidence\, recall\, and calm focus (not just socialisation!)\nAdolescent & Basic Obedience Classes – for dogs who’ve hit the “teenage” stage or need to refresh recall\, lead walking\, and manners\n1–1 Training Sessions – personalised support for specific behaviours or reactivity\, at your pace\n\n\nReward-based • Kind • Structured • Real-life results\n\n\nWebsite: caninedreamswilts.com\nEmail: canine.dreams@outlook.com
URL:https://onechippenham.org.uk/event/dog-training-classes/2025-12-11/
LOCATION:Pewsham Community Centre\, Lodge Road\, Chippenham\, SN5 3SY
ATTACH;FMTTYPE=image/png:https://onechippenham.org.uk/wp-content/uploads/2025/11/Canine-Dreams-1.png
END:VEVENT
END:VCALENDAR