BEGIN:VCALENDAR
VERSION:2.0
PRODID:-//One Chippenham - ECPv6.15.20//NONSGML v1.0//EN
CALSCALE:GREGORIAN
METHOD:PUBLISH
X-ORIGINAL-URL:https://onechippenham.org.uk
X-WR-CALDESC:Events for One Chippenham
REFRESH-INTERVAL;VALUE=DURATION:PT1H
X-Robots-Tag:noindex
X-PUBLISHED-TTL:PT1H
BEGIN:VTIMEZONE
TZID:Europe/London
BEGIN:DAYLIGHT
TZOFFSETFROM:+0000
TZOFFSETTO:+0100
TZNAME:BST
DTSTART:20240331T010000
END:DAYLIGHT
BEGIN:STANDARD
TZOFFSETFROM:+0100
TZOFFSETTO:+0000
TZNAME:GMT
DTSTART:20241027T010000
END:STANDARD
BEGIN:DAYLIGHT
TZOFFSETFROM:+0000
TZOFFSETTO:+0100
TZNAME:BST
DTSTART:20250330T010000
END:DAYLIGHT
BEGIN:STANDARD
TZOFFSETFROM:+0100
TZOFFSETTO:+0000
TZNAME:GMT
DTSTART:20251026T010000
END:STANDARD
BEGIN:DAYLIGHT
TZOFFSETFROM:+0000
TZOFFSETTO:+0100
TZNAME:BST
DTSTART:20260329T010000
END:DAYLIGHT
BEGIN:STANDARD
TZOFFSETFROM:+0100
TZOFFSETTO:+0000
TZNAME:GMT
DTSTART:20261025T010000
END:STANDARD
BEGIN:DAYLIGHT
TZOFFSETFROM:+0000
TZOFFSETTO:+0100
TZNAME:BST
DTSTART:20270328T010000
END:DAYLIGHT
BEGIN:STANDARD
TZOFFSETFROM:+0100
TZOFFSETTO:+0000
TZNAME:GMT
DTSTART:20271031T010000
END:STANDARD
END:VTIMEZONE
BEGIN:VEVENT
DTSTART;TZID=Europe/London:20251115T100000
DTEND;TZID=Europe/London:20260221T160000
DTSTAMP:20260426T001310
CREATED:20251010T083359Z
LAST-MODIFIED:20251010T083359Z
UID:51091-1763200800-1771689600@onechippenham.org.uk
SUMMARY:Subversive Forms: Revolutionary approaches to clay
DESCRIPTION:Featuring artworks by some of the leading sculptors and innovators working with ceramics in the UK today\, join us for our next exhibition ‘Subversive Forms: Revolutionary approaches to clay’. \n‘Subversive Forms’ will shine a spotlight on contemporary artists who push the boundaries of possibility with clay. Each selected artist disrupts and manipulates traditional ceramic preconceptions\, creating enigmatic artworks that push the medium beyond the functional\, and using clay as a non-apologetic material for sculpture. \nThe exhibition features work by the following artists: \nDan Allen\, Felicity Aylieff\, Kelly Allsopp\, Halima Cassell\, Matthew Chambers\, Claire Curneen\, Richard Deacon\, Laura Ford\, Keith Harrison\, Mimi Joung\, Jonathan Keep\, Nicholas Lees\, Claire Loder\, Sam Lucas\, Peter Randall Page\, Sarah Purvey\, Matt Smith\, Jo Taylor\, Annie Turner\, Patricia Volk\, and Maria Wodjat. \n📅 Saturday 15 November – Saturday 21 February\n⏲️ Monday-Saturday\, 10am-4pm\n🎟️ Free entry \nFind out more about the some of the artists featured in this exhibition\, at our special ceramics symposium\, being held at Chippenham’s Town Hall in February.
URL:https://onechippenham.org.uk/event/subversive-forms-revolutionary-approaches-to-clay/
LOCATION:Chippenham Museum\, 9-10 Market Pl\, Chippenham\, SN15 3HF\, United Kingdom
CATEGORIES:Arts,Exhibition
ATTACH;FMTTYPE=image/png:https://onechippenham.org.uk/wp-content/uploads/2025/10/Exhibition-Poster-CTC-Whats-On.png
ORGANIZER;CN="Chippenham Museum":MAILTO:heritage@chippenham.gov.uk
END:VEVENT
BEGIN:VEVENT
DTSTART;TZID=Europe/London:20251220T100000
DTEND;TZID=Europe/London:20251220T170000
DTSTAMP:20260426T001310
CREATED:20251121T083338Z
LAST-MODIFIED:20251121T083338Z
UID:53052-1766224800-1766250000@onechippenham.org.uk
SUMMARY:Emery Gate Christmas Market
DESCRIPTION:Get ready to kick off the festive season in style! Our indoor Christmas Market makes its debut in the former Tesco unit at Emery Gate\, bringing loads of seasonal cheer straight to the heart of Chippenham. \nWhat’s on: \n\nBrowse a wonderful selection of stalls from local traders offering: art & prints\, books & bookmarks\, handmade keyrings\, plants & home décor\, antiques & retro collectibles\, quilts & cushions\, jewellery\, crocheted items\, perfumes & fragrances\, second-hand bric-a-brac and vintage finds\, cakes & bakes\, sweet treats\, locally produced rum & snacks.• Mulled wine and Christmas bites to get you in the mood.\nFamily fun fair rides including bumper cars and tea-cups.\nDon’t miss a visit to Father Christmas in our Christmas Grotto: 11:00am-4:00pm. Each child will receive a small gift. Entry to the Grotto: £3.50 per child (card/contactless only).\n\nDetails & Tips: \n\nEntry to the Christmas Market is free.\nRides & Grotto incur additional costs. .\n\nWe’ll see you at Emery Gate for the festive fun!
URL:https://onechippenham.org.uk/event/emery-gate-christmas-market/2025-12-20/
LOCATION:Emery Gate shopping centre\, Emery Gate shopping centre\, Chippenham\, Wiltshire\, SN15 3JP
CATEGORIES:Christmas,Family Friendly,Market
ATTACH;FMTTYPE=image/jpeg:https://onechippenham.org.uk/wp-content/uploads/2025/11/IMG_1883.jpeg
END:VEVENT
BEGIN:VEVENT
DTSTART;TZID=Europe/London:20251220T103000
DTEND;TZID=Europe/London:20251220T123000
DTSTAMP:20260426T001310
CREATED:20251218T122533Z
LAST-MODIFIED:20251218T123140Z
UID:54347-1766226600-1766233800@onechippenham.org.uk
SUMMARY:Christmas Messy Church at Salvation Army
DESCRIPTION:CHRISTMAS MESSY CHURCH at Salvation Army \n✨ Sensory Play for Little Ones\n📸 Christmas Backdrop to take photos by\n☕ Coffee & Mince Pies\n🎨 Crafts • Messy Play • Festive Fun \nA relaxed Christmas Community Coffee Morning\nfor the whole family\n(Children must be accompanied by an adult) \n🗓 Saturday 20 December 2025\n⏰ 10:30am – 12:30pm \n📍 The Salvation Army\nFoghamshire\, Chippenham • SN15 1HB
URL:https://onechippenham.org.uk/event/christmas-messy-church-at-salvation-army/
LOCATION:Salvation Army\, Foghamshire\, Foghamshire\, Chippenham\, Wiltshire\, Sn15 1hb\, United Kingdom
CATEGORIES:Arts,Autism friendly,Christmas,Church,Coffee morning,Community,Crafts,Family,Family Friendly,Family Fun Day,Food and Drink
ATTACH;FMTTYPE=image/jpeg:https://onechippenham.org.uk/wp-content/uploads/2025/12/597660657_1293300902835221_174098461594224349_n.jpg
ORGANIZER;CN="salvation army":MAILTO:chippenham@salvationarmy.org.uk
END:VEVENT
BEGIN:VEVENT
DTSTART;TZID=Europe/London:20251220T110000
DTEND;TZID=Europe/London:20251220T130000
DTSTAMP:20260426T001310
CREATED:20251203T155443Z
LAST-MODIFIED:20251203T162618Z
UID:54038-1766228400-1766235600@onechippenham.org.uk
SUMMARY:Free Community Cafe at Station Hill Baptist Church
DESCRIPTION:Join us Every Saturday\, 11am-1pm! \n☕ Pop into our cozy cafe. Kids & adults welcome! \n🍰 Grab a cake\, sip a cuppa in peace\, or get creative with some crafts! \nWe’re also here to provide prayer or a listening ear\, just let one of our volunteers know. \n🎉 All welcome\, always free! 🎉
URL:https://onechippenham.org.uk/event/free-community-cafe-at-station-hill-baptist-church/2025-12-20/
LOCATION:Station Hill Baptist Church\, SN15 1EG
CATEGORIES:Autism friendly,Church,Coffee morning,Community,Crafts,Family Friendly,Food and Drink,Warm space
ATTACH;FMTTYPE=image/png:https://onechippenham.org.uk/wp-content/uploads/2025/12/IMG_9885.png
ORGANIZER;CN="liam berry":MAILTO:extremelyberry@icloud.com
END:VEVENT
BEGIN:VEVENT
DTSTART;TZID=Europe/London:20251220T150000
DTEND;TZID=Europe/London:20251220T150000
DTSTAMP:20260426T001310
CREATED:20251125T232934Z
LAST-MODIFIED:20251125T232934Z
UID:53492-1766242800-1766242800@onechippenham.org.uk
SUMMARY:Carols\, Cake and a Cuppa
DESCRIPTION:Tickets are now available for our Carols\, Cake and a Cuppa concert\, which is at St Andrew’s Church at 3pm on Saturday December 20th. \nThis was a very popular and well attended event last year. The younger audience members loved taking part in Jingle Bells\, and there will be another opportunity to get involved this year! \n\nEvent Details\nDoors Open at 2:30PM\nStarts at 3:00PM \nTickets: Adult (18 & over) £11.05/U18s £5.75 and U12s FREE \nLocation \n\nSt Andrews Church Chippenham\, Chippenham\, SN15 3HT\n\nWe are always looking for new choir members\, especially tenors and basses\, to join us and have a rewarding and (most of all) fun time singing together.  The ability to read music is helpful\, but not necessary\, as sound files are provided to help you learn your part.  And there are no auditions.  If you’re interested\, please contact us!
URL:https://onechippenham.org.uk/event/carols-cake-and-a-cuppa-2/
LOCATION:St Andrew’s Church\, St Mary’s Street\, Chippenham\, SN15 3JN\, United Kingdom
ATTACH;FMTTYPE=image/jpeg:https://onechippenham.org.uk/wp-content/uploads/2025/11/Carols-Cake-and-a-Cuppa-Poster.jpeg
ORGANIZER;CN="The Village Singers":MAILTO:info@villagesingers.co.uk
END:VEVENT
BEGIN:VEVENT
DTSTART;TZID=Europe/London:20251220T190000
DTEND;TZID=Europe/London:20251220T220000
DTSTAMP:20260426T001310
CREATED:20251204T121718Z
LAST-MODIFIED:20251204T121718Z
UID:54093-1766257200-1766268000@onechippenham.org.uk
SUMMARY:Kandu Kristmas Kracker
DESCRIPTION:Come along and join in the Christmas celebrations with the performances from Oli Hounsel\, young people from Kandu Arts and others
URL:https://onechippenham.org.uk/event/kandu-kristmas-kracker/
LOCATION:The Rotary Club\, Station Hill\, Chippenham
ATTACH;FMTTYPE=image/jpeg:https://onechippenham.org.uk/wp-content/uploads/2025/12/1000086932.jpg
ORGANIZER;CN="Kandu Arts Community Projects CIC":MAILTO:office@kandu-arts.com
END:VEVENT
BEGIN:VEVENT
DTSTART;TZID=Europe/London:20251220T193000
DTEND;TZID=Europe/London:20251220T213000
DTSTAMP:20260426T001310
CREATED:20250905T100105Z
LAST-MODIFIED:20250905T100105Z
UID:46410-1766259000-1766266200@onechippenham.org.uk
SUMMARY:Chippenham Male Voice Choir presents Christmas Cracker
DESCRIPTION:A Christmas celebration with Chippenham Male Voice Choir\, Chippenham Town Band and Mezzo-soprano Marie Elliott. \nTickets: £15 \nAge Restrictions: None \nPlease contact the venue for any access requirements. \nTickets are also available through our Box Office on 01249 446699\, from the Neeld Box Office or at the Town Hall. \nTickets are non-refundable unless this event is cancelled or postponed.
URL:https://onechippenham.org.uk/event/chippenham-male-voice-choir-presents-christmas-cracker/
LOCATION:The Neeld
CATEGORIES:Music
ATTACH;FMTTYPE=image/jpeg:https://onechippenham.org.uk/wp-content/uploads/2025/09/Chip.-Male-Voice-Choir-Square-Crop-.jpg
END:VEVENT
END:VCALENDAR