BEGIN:VCALENDAR
VERSION:2.0
PRODID:-//One Chippenham - ECPv6.15.20//NONSGML v1.0//EN
CALSCALE:GREGORIAN
METHOD:PUBLISH
X-WR-CALNAME:One Chippenham
X-ORIGINAL-URL:https://onechippenham.org.uk
X-WR-CALDESC:Events for One Chippenham
REFRESH-INTERVAL;VALUE=DURATION:PT1H
X-Robots-Tag:noindex
X-PUBLISHED-TTL:PT1H
BEGIN:VTIMEZONE
TZID:Europe/London
BEGIN:DAYLIGHT
TZOFFSETFROM:+0000
TZOFFSETTO:+0100
TZNAME:BST
DTSTART:20250330T010000
END:DAYLIGHT
BEGIN:STANDARD
TZOFFSETFROM:+0100
TZOFFSETTO:+0000
TZNAME:GMT
DTSTART:20251026T010000
END:STANDARD
BEGIN:DAYLIGHT
TZOFFSETFROM:+0000
TZOFFSETTO:+0100
TZNAME:BST
DTSTART:20260329T010000
END:DAYLIGHT
BEGIN:STANDARD
TZOFFSETFROM:+0100
TZOFFSETTO:+0000
TZNAME:GMT
DTSTART:20261025T010000
END:STANDARD
BEGIN:DAYLIGHT
TZOFFSETFROM:+0000
TZOFFSETTO:+0100
TZNAME:BST
DTSTART:20270328T010000
END:DAYLIGHT
BEGIN:STANDARD
TZOFFSETFROM:+0100
TZOFFSETTO:+0000
TZNAME:GMT
DTSTART:20271031T010000
END:STANDARD
END:VTIMEZONE
BEGIN:VEVENT
DTSTART;TZID=Europe/London:20260422T100000
DTEND;TZID=Europe/London:20260422T160000
DTSTAMP:20260423T130114
CREATED:20260224T111053Z
LAST-MODIFIED:20260224T111053Z
UID:57219-1776852000-1776873600@onechippenham.org.uk
SUMMARY:Lady Chatterley’s Cover: The Book Designs of Stephen Russ
DESCRIPTION:The post-war book designs of artist and teacher\, Stephen Russ\, are coming to life at Chippenham Museum. \nFrom the forties to the seventies\, Russ produced dozens of dust jackets\, from striking first editions of Graham Greene at Bodley Head to a wide range of titles at Collins\, including nature books and the famous Collins Crime Club. \nHe is perhaps best known for his work with Penguin\, designing covers for the main orange series\, the lesser-known music scores\, and the highly collectible Penguin Poets series. His phoenix motif for DH Lawrence’s Lady Chatterley’s Lover became famous during the 1960 obscenity trial and featured in the marketing that helped make the book a bestseller. \nThe exhibition also celebrates Russ’s thirty-year career as a tutor at the renowned Bath Academy of Art in Corsham\, brought together with the generous support of the Russ family and loans from the Penguin Archive and the University of Bristol.
URL:https://onechippenham.org.uk/event/lady-chatterleys-cover-the-book-designs-of-stephen-russ/2026-04-22/
LOCATION:Chippenham Museum\, 9-10 Market Pl\, Chippenham\, SN15 3HF\, United Kingdom
CATEGORIES:Arts,Books/poetry,Exhibition,Museum,Visual Arts
ATTACH;FMTTYPE=image/jpeg:https://onechippenham.org.uk/wp-content/uploads/2026/02/CTC-Whats-On-1.jpg
ORGANIZER;CN="Chippenham Museum":MAILTO:heritage@chippenham.gov.uk
END:VEVENT
BEGIN:VEVENT
DTSTART;TZID=Europe/London:20260422T140000
DTEND;TZID=Europe/London:20260422T153000
DTSTAMP:20260423T130114
CREATED:20251223T095049Z
LAST-MODIFIED:20251223T100755Z
UID:54563-1776866400-1776871800@onechippenham.org.uk
SUMMARY:Beyond Dementia\, Art Group in Chippenham
DESCRIPTION:Chippenham Art Group meets monthly on Wednesdays in St Paul’s Church Hall\, Greenway Lane\, Chippenham. It’s led by artist Fran Young and organised by our experienced community services coordinator Pam Ollis. \nProjects ranging from painting and drawing to collage\, printing\, crafts\, clay modelling and more. We work at a leisurely pace with plenty of time for conversation and connection. No previous experience of art is necessary and everyone works at their own pace. People can also work on their own projects and develop their own ideas. \nFamily carers are welcome at the group as full members and encouraged to join in to create their own pieces of art. \nIf you’d like to come along as a group member\, or for more information\, please call Pam on 01380 739055\, or to register your interest please use the form below. \nThis group is kindly part-funded by Chippenham Borough Lands Charity. Please note\, to help towards our costs and materials we ask everyone to pay £6 ‘on the door’ (or you can use our flexible Pay what you Can scheme). \nPlease register your interest via the Beyond Dementia website
URL:https://onechippenham.org.uk/event/beyond-dementia-art-group-in-chippenham/2026-04-22/
LOCATION:SN15 1PS\, St Paul's Church Hall\, Greenway Lane\, Malmesbury Road\, Chippenham\, Wiltshire\, SN151PS\, United Kingdom
CATEGORIES:Arts,Charity,Community,Crafts,Support group
ATTACH;FMTTYPE=image/jpeg:https://onechippenham.org.uk/wp-content/uploads/2025/12/9-rotated.jpg
END:VEVENT
BEGIN:VEVENT
DTSTART;TZID=Europe/London:20260422T173000
DTEND;TZID=Europe/London:20260422T190000
DTSTAMP:20260423T130114
CREATED:20250915T092629Z
LAST-MODIFIED:20250915T092629Z
UID:47958-1776879000-1776884400@onechippenham.org.uk
SUMMARY:Youth Art & Design
DESCRIPTION:Art & Design sessions for 13-17 year olds in 10 week blocks. \nFollowing on from our brilliant year of designing for the Mayor’s Ball\, and creating a beautiful colour wall for Chippenham Library\, we’re ready to go again and create more original art work to adorn our lovely town. \nTaught by experienced local artist and set designer\, Charlie\, supported by local seamstress\, TA and artist Lottie Bywaters. \nListening to music and trying out each other’s ideas while having a cup of tea and a biscuit is all part of the experience. \nTerm 1: September 17th – October 15th/ November 5th – Dec 3rd 2025 (Followed by Youth Club)\nTerm 2: January 7th – Feb 4th 2026/Feb 25th – March 25th 2026 (Followed by Youth Club)\nTerm 3: April 15th – May 13th / June 3rd – July 1st 2026 \nCome and join us to meet other lovely creatives in the artisan quarter of Chippenham. \nSubsidised by Wiltshire Council’s Chippenham Area board and Kington Langley Arts Society. Helping us keep our sessions well resourced and our staff:student ratio high\, to support those attending. With huge thanks. \nWe look forward to meeting you.
URL:https://onechippenham.org.uk/event/youth-art-design/2026-04-22/
LOCATION:St Paul’s Church Hall\, Malmesbury Road\, Chippenham\, SN15 1PS
CATEGORIES:Visual Arts
ATTACH;FMTTYPE=image/jpeg:https://onechippenham.org.uk/wp-content/uploads/2025/09/IMG_6128.jpeg
ORGANIZER;CN="Rag and Bone Arts CIC":MAILTO:ragandbonearts@gmail.com
END:VEVENT
BEGIN:VEVENT
DTSTART;TZID=Europe/London:20260422T173000
DTEND;TZID=Europe/London:20260422T190000
DTSTAMP:20260423T130114
CREATED:20250915T094102Z
LAST-MODIFIED:20251201T104844Z
UID:48108-1776879000-1776884400@onechippenham.org.uk
SUMMARY:Youth Acting Improvisation
DESCRIPTION:For ages 12+\nYou can do art and design or acting improvisation \nDelivered in 10 week blocks \nTerm 1: September 17th – October 15th/ November 5th – Dec 3rd 2025 (Followed by Youth Club)\nTerm 2: January 7th – Feb 4th 2026/Feb 25th – March 25th 2026 (Followed by Youth Club)\nTerm 3: April 15th – May 13th / June 3rd – July 1st 2026 \nWe won’t be doing shows in this session\, but honing our improvisation skills and maybe doing a gig to a paying audience\, for those who want to take this leap. If you’re keen and able\, you’ll be asked to join our Saturday Theatre Company to work with the adults. \nTaught by professional actor Rebecca Osborne. Come along and learn how to think on your feet\, respond and listen and make up scenes using just your brilliant mind and spontaneous ideas. \nDo the first session before paying if you like – just click ‘Book Now’ above and choose ‘Trial Session’. \nSubsidised by Wiltshire Councils Chippenham Area board . Helping us keep our sessions well resourced and our staff to student ratio high\, to fully support those attending. \nWith huge thanks.
URL:https://onechippenham.org.uk/event/youth-acting-improvisation/2026-04-22/
LOCATION:St Paul’s Church Hall\, Malmesbury Road\, Chippenham\, SN15 1PS
CATEGORIES:Theatre,Workshop
ATTACH;FMTTYPE=image/jpeg:https://onechippenham.org.uk/wp-content/uploads/2025/09/Improv.jpg
ORGANIZER;CN="Rag and Bone Arts CIC":MAILTO:ragandbonearts@gmail.com
END:VEVENT
BEGIN:VEVENT
DTSTART;TZID=Europe/London:20260422T190000
DTEND;TZID=Europe/London:20260422T210000
DTSTAMP:20260423T130114
CREATED:20260112T094046Z
LAST-MODIFIED:20260112T094046Z
UID:54996-1776884400-1776891600@onechippenham.org.uk
SUMMARY:Man Down Chippenham Group Meeting
DESCRIPTION:Man Down is a men’s (18+) group dedicated to removing the stigma and getting men talking. \nWe offer peer support from lived experiences\, we are respectful\, safe\, non-judgmental\, supportive\, and completely confidential. \nJust turn up\, it’s free to attend\, no need to book\, listen or join in and share\, it’s up to you\, no pressure. \nEvery city\, Every town\, Every man \nMore info: \nWebsite: mandown.org \nMan Down Wiltshire Facebook page \n 
URL:https://onechippenham.org.uk/event/man-down-chippenham-group-meeting/2026-04-22/
LOCATION:The Olympiad
CATEGORIES:Adults,Support,Support group
ATTACH;FMTTYPE=image/jpeg:https://onechippenham.org.uk/wp-content/uploads/2026/01/IMG_3833.jpg
END:VEVENT
BEGIN:VEVENT
DTSTART;TZID=Europe/London:20260422T191500
DTEND;TZID=Europe/London:20260422T204500
DTSTAMP:20260423T130114
CREATED:20260409T091449Z
LAST-MODIFIED:20260409T091449Z
UID:60581-1776885300-1776890700@onechippenham.org.uk
SUMMARY:Rag & Bone Youth Theatre (Re Launch)
DESCRIPTION:Rag & Bone Youth Theatre is BACK! And we’re going to get PHYSICAL!! \nHow it works and what we make will depend on your brilliant ideas and immense talent.\nFor ages 13-20 \nIt’ll be led by Physical Theatre practitioners and CIC Directors Tamsin and Laura. \nIn the past we’ve re-worked traditional stories with our own unique twist\, but we might make something original. It’s totally up to you. \nPlease wear loose\, comfortable clothes that you can move easily in as we will be moving a lot every week.\nPERFORMANCE 25th November \n£55 for the whole project or £3 per week with huge thanks to the Wiltshire Community Foundation.\nSt Paul’s Church Hall\, Malmesbury Road\, Chippenham\, Wiltshire\, SN15 1PS
URL:https://onechippenham.org.uk/event/rag-bone-youth-theatre-re-launch-2/2026-04-22/
LOCATION:St Pauls church hall\, Malmesbury rd\, Malmesbury Rd\, Chippenham\, SN15 1PW\, United Kingdom
CATEGORIES:Theatre
ATTACH;FMTTYPE=image/jpeg:https://onechippenham.org.uk/wp-content/uploads/2026/03/RByoutharts.jpg
ORGANIZER;CN="Rag and Bone Arts CIC":MAILTO:ragandbonearts@gmail.com
END:VEVENT
BEGIN:VEVENT
DTSTART;TZID=Europe/London:20260422T193000
DTEND;TZID=Europe/London:20260422T223000
DTSTAMP:20260423T130114
CREATED:20260401T134348Z
LAST-MODIFIED:20260401T134348Z
UID:60230-1776886200-1776897000@onechippenham.org.uk
SUMMARY:April 22nd 2026 Waverley Album Listening Party Fundraiser With Free Live Music From Nuala Honan
DESCRIPTION:A monthly music fundraiser event for Dorothy House Hospice\, now celebrating its 50th anniversary\, featuring classic album playback using donated hi-fi equipment and occasional live music. \nOriginally from rural outback Australia\, Nuala Honan was awarded the South Australian Music Industry Award for Most Outstanding Female Vocalist before moving to England (aged just 19) to be closer to her family’s Irish musical heritage and an adventurous music scene. Now part of Bristol’s vibrant music community\, she has previously performed for us at The Waverley alongside Samuel Fox (aka Mossfellow) at our 1st anniversary event in August 2025. She returns to showcase her own 2020 album ‘Doubt & Reckoning’\, chosen by BBC6Music as ‘Album Of The Day’ back then and supported by DJs Lauren Laverne and Tom Robinson. We will listen to the album in full on vinyl and Nuala will perform some tracks from this live along with some new work-in-progress songs destined for a new album. Nuala will be happy to discuss her music and will have copies of her album to purchase. \nAlongside this Nuala chose Jeff Buckley’s 1994 debut and only studio album ‘Grace’ for us to listen to and discuss – a truly classic\, if perhaps tragic\, record. Jeff was the subject of a celebrated 2025 documentary film ‘It’s Never Over\, Jeff Buckley.’ \nWe will finish the evening by remembering the music of Prince\, who left us 10 years ago on April 21st\, 2016\, by playing a couple of tracks from his 1991 multi-platinum hit double-LP ‘Diamonds & Pearls.’ \nAs usual all are welcome to this event\, which is FREE to attend\, but voluntary donations to the work of the Hospice are of course very much appreciated. \nFor further details contact albumlisteningevent@gmail.com
URL:https://onechippenham.org.uk/event/april-22nd-2026-waverley-album-listening-party-fundraiser-with-free-live-music-from-nuala-honan/
LOCATION:The Waverley\, Chippenham\, United Kingdom
CATEGORIES:Music
ATTACH;FMTTYPE=image/jpeg:https://onechippenham.org.uk/wp-content/uploads/2026/04/Captureapr3.jpg
END:VEVENT
END:VCALENDAR