BEGIN:VCALENDAR
VERSION:2.0
PRODID:-//One Chippenham - ECPv6.15.20//NONSGML v1.0//EN
CALSCALE:GREGORIAN
METHOD:PUBLISH
X-ORIGINAL-URL:https://onechippenham.org.uk
X-WR-CALDESC:Events for One Chippenham
REFRESH-INTERVAL;VALUE=DURATION:PT1H
X-Robots-Tag:noindex
X-PUBLISHED-TTL:PT1H
BEGIN:VTIMEZONE
TZID:Europe/London
BEGIN:DAYLIGHT
TZOFFSETFROM:+0000
TZOFFSETTO:+0100
TZNAME:BST
DTSTART:20230326T010000
END:DAYLIGHT
BEGIN:STANDARD
TZOFFSETFROM:+0100
TZOFFSETTO:+0000
TZNAME:GMT
DTSTART:20231029T010000
END:STANDARD
BEGIN:DAYLIGHT
TZOFFSETFROM:+0000
TZOFFSETTO:+0100
TZNAME:BST
DTSTART:20240331T010000
END:DAYLIGHT
BEGIN:STANDARD
TZOFFSETFROM:+0100
TZOFFSETTO:+0000
TZNAME:GMT
DTSTART:20241027T010000
END:STANDARD
BEGIN:DAYLIGHT
TZOFFSETFROM:+0000
TZOFFSETTO:+0100
TZNAME:BST
DTSTART:20250330T010000
END:DAYLIGHT
BEGIN:STANDARD
TZOFFSETFROM:+0100
TZOFFSETTO:+0000
TZNAME:GMT
DTSTART:20251026T010000
END:STANDARD
END:VTIMEZONE
BEGIN:VEVENT
DTSTART;TZID=Europe/London:20240305T093000
DTEND;TZID=Europe/London:20240305T113000
DTSTAMP:20260423T140804
CREATED:20240303T202547Z
LAST-MODIFIED:20240303T202547Z
UID:27998-1709631000-1709638200@onechippenham.org.uk
SUMMARY:Beginners Arts workshops
DESCRIPTION:Join Charlie for another of our incredibly popular 6 week courses in everything from portraiture to colour for the beginner\, or someone who wants to work at a slower pace (check our website for details of the next 6 weeks). \nA beautiful venue\, experienced tutor and fresh coffee – come and indulge with other lovely local budding artists. \nEnjoy learning from a passionate and experienced artist and make some new friends along the way. \nPlease book in via the website\, then pay by balance transfer to keep our costs affordable for you – www.ragandbonearts.com \n£96 for 6 weeks – all materials\, coffee\, tea and biscuits supplied (donations tin available to help with refreshments) \nWe look forward to meeting you in February 2024. Feel free to get in touch with any questions.
URL:https://onechippenham.org.uk/event/beginners-arts-workshops/2024-03-05/
LOCATION:The Cause Music and Arts Centre\, 42 The Causeway\, Chippenham\, Wiltshire\, SN15 3DD\, United Kingdom
CATEGORIES:Adults,Arts,Visual Arts,Workshop
ATTACH;FMTTYPE=image/jpeg:https://onechippenham.org.uk/wp-content/uploads/2024/02/Colour-photo-.jpeg
ORGANIZER;CN="Rag and Bone Arts CIC":MAILTO:ragandbonearts@gmail.com
END:VEVENT
BEGIN:VEVENT
DTSTART;TZID=Europe/London:20240312T193000
DTEND;TZID=Europe/London:20240312T213000
DTSTAMP:20260423T140804
CREATED:20240303T204556Z
LAST-MODIFIED:20240303T204556Z
UID:28108-1710271800-1710279000@onechippenham.org.uk
SUMMARY:Sahara Sisters - Free Open Class
DESCRIPTION:The Sahara Sisters bellydancing group are holding a FREE Open Class on Tuesday 12th March in the King Alfred Hall from 7.30-9.30pm. \nThis is to celebrate International Women’s Day\, and is in association with She Can Be Active\, which is a fantastic organisation aimed at getting more women into a wider range of fitness activities without fear of judgement.
URL:https://onechippenham.org.uk/event/sahara-sisters-free-open-class/
LOCATION:King Alfred Hall\, Market Place\, Chippenham\, SN15 3HT
CATEGORIES:Adults,Arts,Dance
ATTACH;FMTTYPE=image/jpeg:https://onechippenham.org.uk/wp-content/uploads/2024/03/IMG_1475.jpeg
END:VEVENT
BEGIN:VEVENT
DTSTART;TZID=Europe/London:20240315T123000
DTEND;TZID=Europe/London:20240315T143000
DTSTAMP:20260423T140804
CREATED:20240316T045206Z
LAST-MODIFIED:20240419T073759Z
UID:28341-1710505800-1710513000@onechippenham.org.uk
SUMMARY:Fish & Chip Club
DESCRIPTION:Don’t dine alone\, come and join us on the third Friday of every month for Fish & Chip Club at 12:30pm. No charge. Join us for an afternoon of great food and socialising. \nTo book and for more information please contact  CepenLodge@barchester.com or call 01249 707280.
URL:https://onechippenham.org.uk/event/fish-chip-club/2024-03-15/
LOCATION:Cepen Lodge Care Home
CATEGORIES:Adults,Community,Food and Drink,Networking,Over 60's
ATTACH;FMTTYPE=image/jpeg:https://onechippenham.org.uk/wp-content/uploads/2024/03/122678_108837__15_03_2024.jpeg
END:VEVENT
BEGIN:VEVENT
DTSTART;TZID=Europe/London:20240321T143000
DTEND;TZID=Europe/London:20240321T163000
DTSTAMP:20260423T140804
CREATED:20240320T153533Z
LAST-MODIFIED:20240320T153533Z
UID:28307-1711031400-1711038600@onechippenham.org.uk
SUMMARY:Baking Club
DESCRIPTION:Cepen Lodge are opening their doors to the local community to invite older people to join us for our fortnightly baking club! Starting Thursday 21st March\, and running every other Thursday – come and join our residents to bake some delicious treats and enjoy refreshments with us. A great opportunity to socialise and network.
URL:https://onechippenham.org.uk/event/baking-club/2024-03-21/
LOCATION:Cepen Lodge Care Home
CATEGORIES:Adults,Community,Food and Drink,Networking,Over 60's
ATTACH;FMTTYPE=image/jpeg:https://onechippenham.org.uk/wp-content/uploads/2024/03/122022_107581__15_03_2024.jpeg
END:VEVENT
BEGIN:VEVENT
DTSTART;TZID=Europe/London:20240326T110000
DTEND;TZID=Europe/London:20240326T120000
DTSTAMP:20260423T140804
CREATED:20240320T152453Z
LAST-MODIFIED:20240821T093031Z
UID:28324-1711450800-1711454400@onechippenham.org.uk
SUMMARY:Flower Arranging Class
DESCRIPTION:Cepen Lodge Care Home are inviting the local community to join us for a morning flower arranging with our residents\, refreshments will be provided. Come and join us for a lovely morning socialising and networking with others.
URL:https://onechippenham.org.uk/event/flower-arranging-class/2024-03-26/
LOCATION:Cepen Lodge Care Home
CATEGORIES:Adults,Community,Flower Arranging,Networking,Over 60's
ATTACH;FMTTYPE=image/png:https://onechippenham.org.uk/wp-content/uploads/2024/03/Flower-arranging-at-Depend-Lodge.png
END:VEVENT
END:VCALENDAR