BEGIN:VCALENDAR
VERSION:2.0
PRODID:-//One Chippenham - ECPv6.15.20//NONSGML v1.0//EN
CALSCALE:GREGORIAN
METHOD:PUBLISH
X-WR-CALNAME:One Chippenham
X-ORIGINAL-URL:https://onechippenham.org.uk
X-WR-CALDESC:Events for One Chippenham
REFRESH-INTERVAL;VALUE=DURATION:PT1H
X-Robots-Tag:noindex
X-PUBLISHED-TTL:PT1H
BEGIN:VTIMEZONE
TZID:Europe/London
BEGIN:DAYLIGHT
TZOFFSETFROM:+0000
TZOFFSETTO:+0100
TZNAME:BST
DTSTART:20220327T010000
END:DAYLIGHT
BEGIN:STANDARD
TZOFFSETFROM:+0100
TZOFFSETTO:+0000
TZNAME:GMT
DTSTART:20221030T010000
END:STANDARD
BEGIN:DAYLIGHT
TZOFFSETFROM:+0000
TZOFFSETTO:+0100
TZNAME:BST
DTSTART:20230326T010000
END:DAYLIGHT
BEGIN:STANDARD
TZOFFSETFROM:+0100
TZOFFSETTO:+0000
TZNAME:GMT
DTSTART:20231029T010000
END:STANDARD
BEGIN:DAYLIGHT
TZOFFSETFROM:+0000
TZOFFSETTO:+0100
TZNAME:BST
DTSTART:20240331T010000
END:DAYLIGHT
BEGIN:STANDARD
TZOFFSETFROM:+0100
TZOFFSETTO:+0000
TZNAME:GMT
DTSTART:20241027T010000
END:STANDARD
END:VTIMEZONE
BEGIN:VEVENT
DTSTART;TZID=Europe/London:20230722T200000
DTEND;TZID=Europe/London:20230723T010000
DTSTAMP:20260421T185629
CREATED:20230708T071732Z
LAST-MODIFIED:20230708T071732Z
UID:14264-1690056000-1690074000@onechippenham.org.uk
SUMMARY:Yanni’s All White Summer Party
DESCRIPTION:Chippenham…❕A R E Y O U R E A D Y❕ \nDress to impress at Yanni’s All White Summer Party 🤍 \nThere’ll be bangers all night long and we’ll be keeping the jerk pan going even after the restaurant has closed to satisfy those taste buds. \nGrab your tickets now from https://thelittleboxoffice.com/neeld/book/event/184247 but if you’re a VIP and want the pro experience then book yourself a VIP table for 5 at https://thelittleboxoffice.com/neeld/event/view/184238 \nDoing summer right ☀️ gotta be all white 🤍
URL:https://onechippenham.org.uk/event/yannis-all-white-summer-party/
LOCATION:The Neeld
CATEGORIES:Adults,Music
ATTACH;FMTTYPE=image/jpeg:https://onechippenham.org.uk/wp-content/uploads/2023/07/7ED0F9EF-E24F-4F67-A345-09E555C04855.jpeg
END:VEVENT
END:VCALENDAR