BEGIN:VCALENDAR
VERSION:2.0
PRODID:-//One Chippenham - ECPv6.15.20//NONSGML v1.0//EN
CALSCALE:GREGORIAN
METHOD:PUBLISH
X-WR-CALNAME:One Chippenham
X-ORIGINAL-URL:https://onechippenham.org.uk
X-WR-CALDESC:Events for One Chippenham
REFRESH-INTERVAL;VALUE=DURATION:PT1H
X-Robots-Tag:noindex
X-PUBLISHED-TTL:PT1H
BEGIN:VTIMEZONE
TZID:Europe/London
BEGIN:DAYLIGHT
TZOFFSETFROM:+0000
TZOFFSETTO:+0100
TZNAME:BST
DTSTART:20230326T010000
END:DAYLIGHT
BEGIN:STANDARD
TZOFFSETFROM:+0100
TZOFFSETTO:+0000
TZNAME:GMT
DTSTART:20231029T010000
END:STANDARD
BEGIN:DAYLIGHT
TZOFFSETFROM:+0000
TZOFFSETTO:+0100
TZNAME:BST
DTSTART:20240331T010000
END:DAYLIGHT
BEGIN:STANDARD
TZOFFSETFROM:+0100
TZOFFSETTO:+0000
TZNAME:GMT
DTSTART:20241027T010000
END:STANDARD
BEGIN:DAYLIGHT
TZOFFSETFROM:+0000
TZOFFSETTO:+0100
TZNAME:BST
DTSTART:20250330T010000
END:DAYLIGHT
BEGIN:STANDARD
TZOFFSETFROM:+0100
TZOFFSETTO:+0000
TZNAME:GMT
DTSTART:20251026T010000
END:STANDARD
END:VTIMEZONE
BEGIN:VEVENT
DTSTART;TZID=Europe/London:20240516T100000
DTEND;TZID=Europe/London:20240516T120000
DTSTAMP:20260422T173227
CREATED:20240130T074539Z
LAST-MODIFIED:20240212T150035Z
UID:26368-1715853600-1715860800@onechippenham.org.uk
SUMMARY:Senior Friendship Group
DESCRIPTION:A weekly friendship group for Senior Members at the Chippenham Community Hub. Lots of laughter\, fun and games with Bingo\, quizzes and lots of biscuits\, tea and coffee and chatter.
URL:https://onechippenham.org.uk/event/senior-friendship-group/2024-05-16/
LOCATION:23 Borough Parade\, Chippenham\, Wiltshire\,  SN15 3WL\, Unit 23\, Chippenham\, SN15 3WL\, United Kingdom
CATEGORIES:Adults,Community,Over 60's,Wellbeing
ATTACH;FMTTYPE=image/jpeg:https://onechippenham.org.uk/wp-content/uploads/2024/01/Seniors-Group.jpg
ORGANIZER;CN="Chippenham Community Hub":MAILTO:chippenhamcommunityecohub@gmail.com
END:VEVENT
BEGIN:VEVENT
DTSTART;TZID=Europe/London:20240516T143000
DTEND;TZID=Europe/London:20240516T163000
DTSTAMP:20260422T173227
CREATED:20240320T153536Z
LAST-MODIFIED:20240320T153536Z
UID:28311-1715869800-1715877000@onechippenham.org.uk
SUMMARY:Baking Club
DESCRIPTION:Cepen Lodge are opening their doors to the local community to invite older people to join us for our fortnightly baking club! Starting Thursday 21st March\, and running every other Thursday – come and join our residents to bake some delicious treats and enjoy refreshments with us. A great opportunity to socialise and network.
URL:https://onechippenham.org.uk/event/baking-club/2024-05-16/
LOCATION:Cepen Lodge Care Home
CATEGORIES:Adults,Community,Food and Drink,Networking,Over 60's
ATTACH;FMTTYPE=image/jpeg:https://onechippenham.org.uk/wp-content/uploads/2024/03/122022_107581__15_03_2024.jpeg
END:VEVENT
BEGIN:VEVENT
DTSTART;TZID=Europe/London:20240516T200000
DTEND;TZID=Europe/London:20240516T213000
DTSTAMP:20260422T173227
CREATED:20231208T180432Z
LAST-MODIFIED:20231208T180432Z
UID:24614-1715889600-1715895000@onechippenham.org.uk
SUMMARY:PSG Choirs
DESCRIPTION:This lively and popular choir meet on Thursday’s at 8:30pm at the King Alfred Hall. We sing a wide range of Pop\, Soul and Gospel arrangements. New members are always welcome. Please get in touch if you would like to come along to a free taster session. \nFind out more – www.psgchoirs.co.uk \n 
URL:https://onechippenham.org.uk/event/psg-choirs/2024-05-16/
LOCATION:King Alfred Hall\, Market Place\, Chippenham\, SN15 3HT
CATEGORIES:Adults,Arts,Music,Singing
ATTACH;FMTTYPE=image/png:https://onechippenham.org.uk/wp-content/uploads/2023/12/4.png
END:VEVENT
END:VCALENDAR