BEGIN:VCALENDAR
VERSION:2.0
PRODID:-//One Chippenham - ECPv6.15.20//NONSGML v1.0//EN
CALSCALE:GREGORIAN
METHOD:PUBLISH
X-WR-CALNAME:One Chippenham
X-ORIGINAL-URL:https://onechippenham.org.uk
X-WR-CALDESC:Events for One Chippenham
REFRESH-INTERVAL;VALUE=DURATION:PT1H
X-Robots-Tag:noindex
X-PUBLISHED-TTL:PT1H
BEGIN:VTIMEZONE
TZID:Europe/London
BEGIN:DAYLIGHT
TZOFFSETFROM:+0000
TZOFFSETTO:+0100
TZNAME:BST
DTSTART:20230326T010000
END:DAYLIGHT
BEGIN:STANDARD
TZOFFSETFROM:+0100
TZOFFSETTO:+0000
TZNAME:GMT
DTSTART:20231029T010000
END:STANDARD
BEGIN:DAYLIGHT
TZOFFSETFROM:+0000
TZOFFSETTO:+0100
TZNAME:BST
DTSTART:20240331T010000
END:DAYLIGHT
BEGIN:STANDARD
TZOFFSETFROM:+0100
TZOFFSETTO:+0000
TZNAME:GMT
DTSTART:20241027T010000
END:STANDARD
BEGIN:DAYLIGHT
TZOFFSETFROM:+0000
TZOFFSETTO:+0100
TZNAME:BST
DTSTART:20250330T010000
END:DAYLIGHT
BEGIN:STANDARD
TZOFFSETFROM:+0100
TZOFFSETTO:+0000
TZNAME:GMT
DTSTART:20251026T010000
END:STANDARD
END:VTIMEZONE
BEGIN:VEVENT
DTSTART;TZID=Europe/London:20240531T110000
DTEND;TZID=Europe/London:20240531T110000
DTSTAMP:20260422T152734
CREATED:20240520T092843Z
LAST-MODIFIED:20240520T093312Z
UID:30484-1717153200-1717153200@onechippenham.org.uk
SUMMARY:Dementia Café at Cepen Lodge Care Home
DESCRIPTION:Cepen Lodge care home\, in Chippenham have invited members of the local community to their monthly dementia café. \nThe first session starting on the 31st May 2024 will be hosted in conjunction with Chippenham Police\, who will be joining to discuss the Herbert Protocol and offer dementia wristbands to the community to support those who may leave their homes and get lost. \nTaking place on the last Friday of every month at 11am\, guests will have a chance to meet other carers supporting others living with dementia. Free to all\, the dementia café at the home provides small respite and social support. \nDuring the care group session\, guests will also have a chance to meet the team at the home\, to discuss any questions they might have about care. \nSenior General Manager Jade said: “We’re really looking forward to making more friends in our local community. The condition itself can be quite lonely and frightening\, and the more support we can provide to each other\, the better. If anyone is unable to make it on the day but would like to pop in for a tour and a cup of tea\, our doors are always open.” \nCepen Lodge care home is run by Barchester Healthcare\, one of the UK’s largest care providers\, which is committed to delivering high-quality care across its care homes and hospitals. Cepen Lodge provides residential care and dementia care for 63 residents from respite care to long term stays. \n 
URL:https://onechippenham.org.uk/event/dementia-cafe-at-cepen-lodge-care-home/2024-05-31/
LOCATION:Cepen Lodge Care Home
CATEGORIES:Adults,Community,Support group
ATTACH;FMTTYPE=image/jpeg:https://onechippenham.org.uk/wp-content/uploads/2024/05/2024-05-03_6634abd967e00_125020_113236_26_04_2024.jpeg
END:VEVENT
BEGIN:VEVENT
DTSTART;TZID=Europe/London:20240531T183000
DTEND;TZID=Europe/London:20240531T220000
DTSTAMP:20260422T152734
CREATED:20240529T152540Z
LAST-MODIFIED:20240529T152641Z
UID:30631-1717180200-1717192800@onechippenham.org.uk
SUMMARY:Glitz and Glam - Fundraising Night for Chippenham Pride
DESCRIPTION:Join us for a night of Glitz and Glam at The Cellar by Wine Monkey in Chippenham this Friday 31st May! \nWe have a fun quiz hosted by Chippenham’s own Glamour-puss Sheila Tackya\, live music from ZambaLando 🎶 lots of opportunities to win prizes and of course Wine Monkey’s fabulous array of fine wine\, delicious nibbles and fizz! 🥂 So come dressed to the nines in your glad-rags n’ sparkles and join us for a shimmy\, some fizz and fun! Entry to the venue is free. \n⭐ Quiz is £3 per person (Starts at 7pm)\n⭐ Games and raffle with prizes are priced individually\n⭐ Cash and Card payments accepted\n⭐ Under 18’s welcome if accompanied by an adult\, but must leave the premises by 9pm in line with licensing laws \nFundraising for Chippenham Pride 2024. \n#Chippenham #LoveWhereYouLive #Community #WhatsOn #Events #LGBTplus #BeAnAlly #LiveMusic
URL:https://onechippenham.org.uk/event/glitz-and-glam-fundraising-night-for-chippenham-pride/
LOCATION:The Cellar by Wine Monkey\, 20 Borough Parade\, Chippenham\, SN15 3WL\, United Kingdom
CATEGORIES:Adults,Games,Music,Quiz,Young adults
ATTACH;FMTTYPE=image/jpeg:https://onechippenham.org.uk/wp-content/uploads/2024/05/Screenshot_20240528-195832_Gallery.jpg
END:VEVENT
END:VCALENDAR