BEGIN:VCALENDAR
VERSION:2.0
PRODID:-//One Chippenham - ECPv6.15.20//NONSGML v1.0//EN
CALSCALE:GREGORIAN
METHOD:PUBLISH
X-WR-CALNAME:One Chippenham
X-ORIGINAL-URL:https://onechippenham.org.uk
X-WR-CALDESC:Events for One Chippenham
REFRESH-INTERVAL;VALUE=DURATION:PT1H
X-Robots-Tag:noindex
X-PUBLISHED-TTL:PT1H
BEGIN:VTIMEZONE
TZID:Europe/London
BEGIN:DAYLIGHT
TZOFFSETFROM:+0000
TZOFFSETTO:+0100
TZNAME:BST
DTSTART:20230326T010000
END:DAYLIGHT
BEGIN:STANDARD
TZOFFSETFROM:+0100
TZOFFSETTO:+0000
TZNAME:GMT
DTSTART:20231029T010000
END:STANDARD
BEGIN:DAYLIGHT
TZOFFSETFROM:+0000
TZOFFSETTO:+0100
TZNAME:BST
DTSTART:20240331T010000
END:DAYLIGHT
BEGIN:STANDARD
TZOFFSETFROM:+0100
TZOFFSETTO:+0000
TZNAME:GMT
DTSTART:20241027T010000
END:STANDARD
BEGIN:DAYLIGHT
TZOFFSETFROM:+0000
TZOFFSETTO:+0100
TZNAME:BST
DTSTART:20250330T010000
END:DAYLIGHT
BEGIN:STANDARD
TZOFFSETFROM:+0100
TZOFFSETTO:+0000
TZNAME:GMT
DTSTART:20251026T010000
END:STANDARD
END:VTIMEZONE
BEGIN:VEVENT
DTSTART;TZID=Europe/London:20241202T120000
DTEND;TZID=Europe/London:20241202T130000
DTSTAMP:20260420T005117
CREATED:20240821T092646Z
LAST-MODIFIED:20241007T083245Z
UID:32389-1733140800-1733144400@onechippenham.org.uk
SUMMARY:Sparkly Lite singing group
DESCRIPTION:Sparkly Singers is the award-winning Wiltshire-based choir experience\, founded with the simple aim of bringing the joy and benefits of group singing to everyone\, regardless of age\, experience or ability. \nLaunched in September 2023\, our ‘lighter’ daytime sessions are perfect for anyone who just fancies popping out for an hour or so each week to meet new people and sing a fabulous selection of feel-good songs.\nNo part-singing\, no practising\, no performing in public – just turn up each week at our brand new venue in Chippenham and sing! \nSo if you love the idea of simply singing for the fun of it\, why not come along to one of our FREE taster sessions and see what we’re all about.
URL:https://onechippenham.org.uk/event/sparkly-lite-singing-group/2024-12-02/
LOCATION:Pewsham Community Centre\, Lodge Road\, Chippenham\, SN5 3SY
CATEGORIES:Adults,Choir,Community,Music,Performing Arts,Singing
ATTACH;FMTTYPE=image/png:https://onechippenham.org.uk/wp-content/uploads/2024/08/Concise-Lite-graphic-for-One-Chippenhams-event-calendar-Autumn-2024.png
ORGANIZER;CN="Sparkly Singers":MAILTO:hello@sparklysingers.co.uk
END:VEVENT
BEGIN:VEVENT
DTSTART;TZID=Europe/London:20241202T143000
DTEND;TZID=Europe/London:20241202T160000
DTSTAMP:20260420T005117
CREATED:20241117T095541Z
LAST-MODIFIED:20241117T095541Z
UID:36100-1733149800-1733155200@onechippenham.org.uk
SUMMARY:Grief Encounters\, a talk by Nigel Linacre
DESCRIPTION:Most of us will be unprepared for grief. Nigel will share his journey after his son’s death\, with lyrics and verse from the Grief Opera\, Love Goes On\, as featured on BBC and ITV. There will be an opportunity to share and ask questions. \nThis is a free event\, but space is limited\, so please book in advance. \nThere will be CDs available to purchase and a collection for the charity Suicide & Co. \nTo reserve a place or for more information\, pop in or call us on 01249 650536
URL:https://onechippenham.org.uk/event/grief-encounters-a-talk-by-nigel-linacre/
LOCATION:Chippenham Library
CATEGORIES:Adults,Community,Talks & lectures,Wellbeing
ATTACH;FMTTYPE=image/jpeg:https://onechippenham.org.uk/wp-content/uploads/2024/11/NigelDec24FB.jpg
END:VEVENT
BEGIN:VEVENT
DTSTART;TZID=Europe/London:20241202T193000
DTEND;TZID=Europe/London:20241202T193000
DTSTAMP:20260420T005117
CREATED:20241120T204158Z
LAST-MODIFIED:20241120T204158Z
UID:36346-1733167800-1733167800@onechippenham.org.uk
SUMMARY:Chippenham Flower Club Christmas Open Evening
DESCRIPTION:A Spectacular treat awaits: \nCome and see Nick Grounds – a Nafas National Demonstrator as he \nJINGLES A PARTRIDGE WITH TINSEL! \nWe also have local craft stalls\, a tombola\, festive refreshments and more. A perfect way to start your Christmas festivities. \nDon’t forget the Raffle where you could win one of Nick’s amazing creations. \nDoors open at 6.45pm for a 7.30 pm start. \nMembers: £10.00 & Visitors: £15.00 in advance. \nAll tickets £18.00 on the door. \n– Visit our website www.ChippenhamFlowerClub.co.uk for tickets\n– Email Elizabeth@Stonehayes.com for more information.
URL:https://onechippenham.org.uk/event/chippenham-flower-club-christmas-open-evening/
LOCATION:Sheldon School Dance Studio\, Sheldon School\, Hardenhuish Lane\, Chippenham\, Wiltshire\, SN14 6HJ\, United Kingdom
CATEGORIES:Adults,Christmas,Flower Arranging
ATTACH;FMTTYPE=image/jpeg:https://onechippenham.org.uk/wp-content/uploads/2024/11/IMG_3047.jpeg
ORGANIZER;CN="Chippenham Flower Club":MAILTO:elizabeth@stonehayes.com
END:VEVENT
END:VCALENDAR