BEGIN:VCALENDAR
VERSION:2.0
PRODID:-//One Chippenham - ECPv6.15.20//NONSGML v1.0//EN
CALSCALE:GREGORIAN
METHOD:PUBLISH
X-WR-CALNAME:One Chippenham
X-ORIGINAL-URL:https://onechippenham.org.uk
X-WR-CALDESC:Events for One Chippenham
REFRESH-INTERVAL;VALUE=DURATION:PT1H
X-Robots-Tag:noindex
X-PUBLISHED-TTL:PT1H
BEGIN:VTIMEZONE
TZID:Europe/London
BEGIN:DAYLIGHT
TZOFFSETFROM:+0000
TZOFFSETTO:+0100
TZNAME:BST
DTSTART:20220327T010000
END:DAYLIGHT
BEGIN:STANDARD
TZOFFSETFROM:+0100
TZOFFSETTO:+0000
TZNAME:GMT
DTSTART:20221030T010000
END:STANDARD
BEGIN:DAYLIGHT
TZOFFSETFROM:+0000
TZOFFSETTO:+0100
TZNAME:BST
DTSTART:20230326T010000
END:DAYLIGHT
BEGIN:STANDARD
TZOFFSETFROM:+0100
TZOFFSETTO:+0000
TZNAME:GMT
DTSTART:20231029T010000
END:STANDARD
BEGIN:DAYLIGHT
TZOFFSETFROM:+0000
TZOFFSETTO:+0100
TZNAME:BST
DTSTART:20240331T010000
END:DAYLIGHT
BEGIN:STANDARD
TZOFFSETFROM:+0100
TZOFFSETTO:+0000
TZNAME:GMT
DTSTART:20241027T010000
END:STANDARD
END:VTIMEZONE
BEGIN:VEVENT
DTSTART;TZID=Europe/London:20230415T193000
DTEND;TZID=Europe/London:20230415T193000
DTSTAMP:20260421T015000
CREATED:20230218T064518Z
LAST-MODIFIED:20230218T064518Z
UID:11729-1681587000-1681587000@onechippenham.org.uk
SUMMARY:Chippenham Lions Club Auction of Promises
DESCRIPTION:The Chippenham Lions Club Auction of Promises will take place on Saturday 15th April at Sutton Benger Village Hall. \nEvent attendees can bid for a range of fantastic items which can be found in the online catalogue on the Chippenham Lions website. \nThis includes carriage driving\, a gypsy caravan experience\, golf and much more. Money raised through the event will support Youth Action Wiltshire Young Carers Service\, Julia’s House Children’s Hospice and other Lions charities.
URL:https://onechippenham.org.uk/event/chippenham-lions-club-auction-of-promises/
LOCATION:Sutton Benger Village Hall\, Chestnut Road\, Sutton Benger\, Chippenham\, SN15 4RP
CATEGORIES:Adults,Auction,Charity
ATTACH;FMTTYPE=image/jpeg:https://onechippenham.org.uk/wp-content/uploads/2023/02/29D4161E-15DD-4CE7-A45F-434AC11E1D0A.jpeg
END:VEVENT
END:VCALENDAR