BEGIN:VCALENDAR
VERSION:2.0
PRODID:-//One Chippenham - ECPv6.15.20//NONSGML v1.0//EN
CALSCALE:GREGORIAN
METHOD:PUBLISH
X-WR-CALNAME:One Chippenham
X-ORIGINAL-URL:https://onechippenham.org.uk
X-WR-CALDESC:Events for One Chippenham
REFRESH-INTERVAL;VALUE=DURATION:PT1H
X-Robots-Tag:noindex
X-PUBLISHED-TTL:PT1H
BEGIN:VTIMEZONE
TZID:Europe/London
BEGIN:DAYLIGHT
TZOFFSETFROM:+0000
TZOFFSETTO:+0100
TZNAME:BST
DTSTART:20220327T010000
END:DAYLIGHT
BEGIN:STANDARD
TZOFFSETFROM:+0100
TZOFFSETTO:+0000
TZNAME:GMT
DTSTART:20221030T010000
END:STANDARD
BEGIN:DAYLIGHT
TZOFFSETFROM:+0000
TZOFFSETTO:+0100
TZNAME:BST
DTSTART:20230326T010000
END:DAYLIGHT
BEGIN:STANDARD
TZOFFSETFROM:+0100
TZOFFSETTO:+0000
TZNAME:GMT
DTSTART:20231029T010000
END:STANDARD
BEGIN:DAYLIGHT
TZOFFSETFROM:+0000
TZOFFSETTO:+0100
TZNAME:BST
DTSTART:20240331T010000
END:DAYLIGHT
BEGIN:STANDARD
TZOFFSETFROM:+0100
TZOFFSETTO:+0000
TZNAME:GMT
DTSTART:20241027T010000
END:STANDARD
END:VTIMEZONE
BEGIN:VEVENT
DTSTART;TZID=Europe/London:20230504T173000
DTEND;TZID=Europe/London:20230504T200000
DTSTAMP:20260421T033532
CREATED:20230428T065059Z
LAST-MODIFIED:20230428T065657Z
UID:12903-1683221400-1683230400@onechippenham.org.uk
SUMMARY:Meet the Funder: Arts Council Project Funding and other local funders
DESCRIPTION:An opportunity to learn more about the National Lottery Project Grants application process and guidance with Declan Westwood\, Relationship Manager\, Arts Council England. \nDeclan will talk through Arts Council England’s open access funding scheme\, National Lottery Project Grants\, including what it funds\, how to apply\, and what happens to your application. \nFollowing an overview there will be time for a brief Q&A session. \nWe’ll also have short talks by some other local funders\, including about their funding for community groups\, charities and CIC’s. \n\n5.30 – 6.30pm Arts Council Project grant funding\n6.30 – 7pm Light refreshments\n7-8pm Other local funders including Chippenham Borough Lands Charity and Wiltshire Area Board\n\nTickets are free but limited. Please book via the event link below. \nThis event is being hosted by Chippenham Borough Lands Charity with thanks to Chippenham Town Council for use of their venue.
URL:https://onechippenham.org.uk/event/meet-the-funder-arts-council-funding-and-other-local-funders/
LOCATION:Chippenham Town Hall\, High Street\, Chippenham\, Afghanistan
CATEGORIES:Adults,Arts,Charity,Community,Networking,Performing Arts,Talks & lectures,Visual Arts
ATTACH;FMTTYPE=image/png:https://onechippenham.org.uk/wp-content/uploads/2023/04/2138F8FB-E7B4-4C33-BE9C-8F0C5F0C773D.png
ORGANIZER;CN="Chippenham Borough Lands Charity":MAILTO:admin@cblc.org.uk
END:VEVENT
BEGIN:VEVENT
DTSTART;TZID=Europe/London:20230507T093000
DTEND;TZID=Europe/London:20230507T103000
DTSTAMP:20260421T033532
CREATED:20230321T064925Z
LAST-MODIFIED:20230321T065042Z
UID:12521-1683451800-1683455400@onechippenham.org.uk
SUMMARY:Park Yoga Chippenham
DESCRIPTION:Come along to FREE Park Yoga at John Coles Park. Park Yoga is open to people of all ages\, backgrounds and abilities. Join your local yoga instructor\, Kyla\, for your weekly dose. No need to book – just turn up! \nEvery Sunday 9.30am – 10.30am\, from Sunday 7th May to Sunday 17th September 2023. \nThings to bring:\n– mat (or towel or blanket)\n– bottle of water\n– a friend \nPLEASE NOTE – all sessions are weather dependant. Be sure to keep an eye on the Park Yoga Facebook page regarding any cancellations (announced at least an hour before the start). We will go ahead in light rain. \n💚 If you would like to support the Park Yoga charity in whatever way you can\, you can:\n– Go online at www.parkyoga.co/donate \n– Text PARKYOGA to 70560 \nFind out more about Park Yoga Chippenham here. \n 
URL:https://onechippenham.org.uk/event/park-yoga-chippenham/2023-05-07/
LOCATION:John Coles Park\, John Coles Park\, Chippenham\, SN15 1NZ\, United Kingdom
CATEGORIES:Adults,Exercise,Family Friendly,Yoga
ATTACH;FMTTYPE=image/jpeg:https://onechippenham.org.uk/wp-content/uploads/2023/03/A29B874C-4291-4BA8-9A45-391CCDE6FB1A.jpeg
END:VEVENT
END:VCALENDAR