BEGIN:VCALENDAR
VERSION:2.0
PRODID:-//One Chippenham - ECPv6.15.20//NONSGML v1.0//EN
CALSCALE:GREGORIAN
METHOD:PUBLISH
X-ORIGINAL-URL:https://onechippenham.org.uk
X-WR-CALDESC:Events for One Chippenham
REFRESH-INTERVAL;VALUE=DURATION:PT1H
X-Robots-Tag:noindex
X-PUBLISHED-TTL:PT1H
BEGIN:VTIMEZONE
TZID:Europe/London
BEGIN:DAYLIGHT
TZOFFSETFROM:+0000
TZOFFSETTO:+0100
TZNAME:BST
DTSTART:20220327T010000
END:DAYLIGHT
BEGIN:STANDARD
TZOFFSETFROM:+0100
TZOFFSETTO:+0000
TZNAME:GMT
DTSTART:20221030T010000
END:STANDARD
BEGIN:DAYLIGHT
TZOFFSETFROM:+0000
TZOFFSETTO:+0100
TZNAME:BST
DTSTART:20230326T010000
END:DAYLIGHT
BEGIN:STANDARD
TZOFFSETFROM:+0100
TZOFFSETTO:+0000
TZNAME:GMT
DTSTART:20231029T010000
END:STANDARD
BEGIN:DAYLIGHT
TZOFFSETFROM:+0000
TZOFFSETTO:+0100
TZNAME:BST
DTSTART:20240331T010000
END:DAYLIGHT
BEGIN:STANDARD
TZOFFSETFROM:+0100
TZOFFSETTO:+0000
TZNAME:GMT
DTSTART:20241027T010000
END:STANDARD
END:VTIMEZONE
BEGIN:VEVENT
DTSTART;TZID=Europe/London:20230510T093000
DTEND;TZID=Europe/London:20230510T143000
DTSTAMP:20260421T061247
CREATED:20230416T074222Z
LAST-MODIFIED:20230416T074404Z
UID:12815-1683711000-1683729000@onechippenham.org.uk
SUMMARY:Digital Skills for Everday Life and Work Progression
DESCRIPTION:Would you like to improve your digital skills? Know someone who could benefit from a digital skills course? \nJoin us on every Wednesday for 3 weeks from 10 May\, 9:30am to 2:30pm\, and you will gain digital skills to help with everyday life including:\n👉 Learn how to find information online or complete simple personal or household tasks\n👉 Create and save documents\, images or video\n👉 Send online communications\n👉 Learn how to use digital devices safely and responsibly\n👉 Identify and respond to technical problems \n*This course is free to those who earn under a certain threshold or are on benefits. If you don’t meet eligibility criteria\, you can pay a fee of £75 per person to participate. \nGive us a call on 0845 345 2235 to find out more or click here
URL:https://onechippenham.org.uk/event/12815/
LOCATION:Wiltshire College\, Cocklesbury Lane\, Chippenham
CATEGORIES:Adults,Course,Education,Workshop
ATTACH;FMTTYPE=image/jpeg:https://onechippenham.org.uk/wp-content/uploads/2023/04/0C2159F9-D6B5-4FB0-AF7F-73A99CEFADE8.jpeg
END:VEVENT
BEGIN:VEVENT
DTSTART;TZID=Europe/London:20230512T181500
DTEND;TZID=Europe/London:20230512T181500
DTSTAMP:20260421T061247
CREATED:20230416T065543Z
LAST-MODIFIED:20230416T065543Z
UID:12812-1683915300-1683915300@onechippenham.org.uk
SUMMARY:Chippenham Harriers Beginners Course
DESCRIPTION:The Chippenham Harriers Beginners Course is returning on May 12th – a fully supported journey to 5K for all levels. \nIf you’re keen to give running a try\, returning to it after a break\, or would like some support progressing your running\, this course is for you. \nWe’ll have three different groups so you can choose a level that suits you\, and lots of support from our team of leaders throughout the course\, helping you progress towards your 5k goal (yes\, it is 100% achievable\, we promise!) \nFind out more and sign up here: https://www.chippenhamharriers.co.uk/beginners/ \nIf you have any questions\, drop us a message or email beginners@chippenhamharriers.co.uk and we’ll get back to you asap. We can’t wait to welcome you along!
URL:https://onechippenham.org.uk/event/chippenham-harriers-beginners-course/
LOCATION:Chippenham Sports Club
CATEGORIES:Adults,Exercise,Fitness
ATTACH;FMTTYPE=image/jpeg:https://onechippenham.org.uk/wp-content/uploads/2023/04/26A39296-76E4-46F9-B0C8-5C5CFEE15B12.jpeg
ORGANIZER;CN="Chippenham Harriers":MAILTO:riverrun@chippenhamharriersco.uk
END:VEVENT
END:VCALENDAR