BEGIN:VCALENDAR
VERSION:2.0
PRODID:-//One Chippenham - ECPv6.15.20//NONSGML v1.0//EN
CALSCALE:GREGORIAN
METHOD:PUBLISH
X-ORIGINAL-URL:https://onechippenham.org.uk
X-WR-CALDESC:Events for One Chippenham
REFRESH-INTERVAL;VALUE=DURATION:PT1H
X-Robots-Tag:noindex
X-PUBLISHED-TTL:PT1H
BEGIN:VTIMEZONE
TZID:Europe/London
BEGIN:DAYLIGHT
TZOFFSETFROM:+0000
TZOFFSETTO:+0100
TZNAME:BST
DTSTART:20220327T010000
END:DAYLIGHT
BEGIN:STANDARD
TZOFFSETFROM:+0100
TZOFFSETTO:+0000
TZNAME:GMT
DTSTART:20221030T010000
END:STANDARD
BEGIN:DAYLIGHT
TZOFFSETFROM:+0000
TZOFFSETTO:+0100
TZNAME:BST
DTSTART:20230326T010000
END:DAYLIGHT
BEGIN:STANDARD
TZOFFSETFROM:+0100
TZOFFSETTO:+0000
TZNAME:GMT
DTSTART:20231029T010000
END:STANDARD
BEGIN:DAYLIGHT
TZOFFSETFROM:+0000
TZOFFSETTO:+0100
TZNAME:BST
DTSTART:20240331T010000
END:DAYLIGHT
BEGIN:STANDARD
TZOFFSETFROM:+0100
TZOFFSETTO:+0000
TZNAME:GMT
DTSTART:20241027T010000
END:STANDARD
END:VTIMEZONE
BEGIN:VEVENT
DTSTART;TZID=Europe/London:20231003T150000
DTEND;TZID=Europe/London:20231003T190000
DTSTAMP:20260426T030213
CREATED:20230926T204916Z
LAST-MODIFIED:20230926T204916Z
UID:15651-1696345200-1696359600@onechippenham.org.uk
SUMMARY:Wiltshire Local Plan - Chippenham drop in event
DESCRIPTION:Have your say on the Wiltshire Local Plan\, with 16 drop-in events & an online event being held across the county. The Local Plan sets out the vision & framework for housing\, infrastructure & land for employment growth for the next 15 years. \nThe Chippenham drop-in event takes place from 3-7pm on Tuesday 3rd October at the Olympiad Leisure Centre\, Sadlers Mead\, Chippenham SN15 3PA \nFind out more: – https://www.wiltshire.gov.uk/article/8048/Current-consultation-Reg-19-autumn-2023 \n 
URL:https://onechippenham.org.uk/event/wiltshire-local-plan-chippenham-drop-in-event/
LOCATION:The Olympiad
CATEGORIES:Adults
ATTACH;FMTTYPE=image/jpeg:https://onechippenham.org.uk/wp-content/uploads/2023/09/382781766_713151180851836_7966465565888674885_n.jpg
ORGANIZER;CN="Wiltshire Council":MAILTO:mailto:customerservices@wiltshire.gov.uk
END:VEVENT
END:VCALENDAR