BEGIN:VCALENDAR
VERSION:2.0
PRODID:-//One Chippenham - ECPv6.15.20//NONSGML v1.0//EN
CALSCALE:GREGORIAN
METHOD:PUBLISH
X-WR-CALNAME:One Chippenham
X-ORIGINAL-URL:https://onechippenham.org.uk
X-WR-CALDESC:Events for One Chippenham
REFRESH-INTERVAL;VALUE=DURATION:PT1H
X-Robots-Tag:noindex
X-PUBLISHED-TTL:PT1H
BEGIN:VTIMEZONE
TZID:Europe/London
BEGIN:DAYLIGHT
TZOFFSETFROM:+0000
TZOFFSETTO:+0100
TZNAME:BST
DTSTART:20230326T010000
END:DAYLIGHT
BEGIN:STANDARD
TZOFFSETFROM:+0100
TZOFFSETTO:+0000
TZNAME:GMT
DTSTART:20231029T010000
END:STANDARD
BEGIN:DAYLIGHT
TZOFFSETFROM:+0000
TZOFFSETTO:+0100
TZNAME:BST
DTSTART:20240331T010000
END:DAYLIGHT
BEGIN:STANDARD
TZOFFSETFROM:+0100
TZOFFSETTO:+0000
TZNAME:GMT
DTSTART:20241027T010000
END:STANDARD
BEGIN:DAYLIGHT
TZOFFSETFROM:+0000
TZOFFSETTO:+0100
TZNAME:BST
DTSTART:20250330T010000
END:DAYLIGHT
BEGIN:STANDARD
TZOFFSETFROM:+0100
TZOFFSETTO:+0000
TZNAME:GMT
DTSTART:20251026T010000
END:STANDARD
END:VTIMEZONE
BEGIN:VEVENT
DTSTART;TZID=Europe/London:20240617T103000
DTEND;TZID=Europe/London:20240617T103000
DTSTAMP:20260422T012504
CREATED:20240607T115600Z
LAST-MODIFIED:20240616T084500Z
UID:30843-1718620200-1718620200@onechippenham.org.uk
SUMMARY:Wild Figures
DESCRIPTION:A free six-week programme to improve number skills\, wellbeing and connection to nature running every Monday from 17th June to 22nd July. \nWho is it for? \nThe programme is open to adults aged 19+ who have not yet achieve a Level 2 Maths qualification (GCSE Grade C/4 or equivalent) or who feel they are no longer working at this level. \n\nGain confidence with numbers\nImprove mental and physical wellbeing\nConnect with nature and learning new skills\nMeet new people in a safe and supportive environment\n\nWhat is provided? \n\nFree weekly group activities\nFree minibus pick up from Devizes and Chippenham\nFree hot lunch cooked over the campfire\, tea/coffee\, fruit and biscuits (please bring drinking water)\n\nFind out more \n\n\nFor more information and to apply\, please contact Wiltshire Wildlife Trust’s Wellbeing Team: \nCall: 07702 802 961 \nEmail: wellbeing@wiltshirewildlife.org \nVisit: www.wiltshirewildlife.org/wild-figures \n \n\n\n\n 
URL:https://onechippenham.org.uk/event/wild-figures/2024-06-17/
LOCATION:Wiltshire
CATEGORIES:Adults,Nature,Outdoor,Support,Wellbeing,Wildlife/nature,Young adults
ATTACH;FMTTYPE=image/png:https://onechippenham.org.uk/wp-content/uploads/2024/06/Wild-figures.png
END:VEVENT
BEGIN:VEVENT
DTSTART;TZID=Europe/London:20240618T020000
DTEND;TZID=Europe/London:20240618T153000
DTSTAMP:20260422T012504
CREATED:20240329T094256Z
LAST-MODIFIED:20240329T094256Z
UID:28887-1718676000-1718724600@onechippenham.org.uk
SUMMARY:Happy Cafe
DESCRIPTION:A Happy Café is one which has agreed to be part of the Happy Café Network\, which is being set up by members of the Action for Happiness movement. \nHappy Cafés provide a warm welcome for anyone interested in happiness and wellbeing\, encouraging people to meet together for a drink and friendly chat. \nYour local Happy Café is brought to you by the Wiltshire Mental Health Inclusion Service…. \nChippenham – Rivo Lounge every Tuesday 2-3.30pm \nContact David if you are interested or have any questions: 07483 913159 \n\nVisit Wiltshire Mental Health Inclusion Service online: \nrethink.org/wiltsmhis \nFacebook: WiltshireMHIS \nInstagram: wiltshire_mhis \n 
URL:https://onechippenham.org.uk/event/happy-cafe-2/2024-06-18/
LOCATION:The Rivo Lounge\, 2-4 The Bridge\, Chippenham\, SN151EX
CATEGORIES:Adults,Community,Support,Support group,Wellbeing
ATTACH;FMTTYPE=image/jpeg:https://onechippenham.org.uk/wp-content/uploads/2023/12/IMG_2634.jpeg
END:VEVENT
BEGIN:VEVENT
DTSTART;TZID=Europe/London:20240618T093000
DTEND;TZID=Europe/London:20240618T113000
DTSTAMP:20260422T012504
CREATED:20240303T202559Z
LAST-MODIFIED:20240303T202559Z
UID:28000-1718703000-1718710200@onechippenham.org.uk
SUMMARY:Beginners Arts workshops
DESCRIPTION:Join Charlie for another of our incredibly popular 6 week courses in everything from portraiture to colour for the beginner\, or someone who wants to work at a slower pace (check our website for details of the next 6 weeks). \nA beautiful venue\, experienced tutor and fresh coffee – come and indulge with other lovely local budding artists. \nEnjoy learning from a passionate and experienced artist and make some new friends along the way. \nPlease book in via the website\, then pay by balance transfer to keep our costs affordable for you – www.ragandbonearts.com \n£96 for 6 weeks – all materials\, coffee\, tea and biscuits supplied (donations tin available to help with refreshments) \nWe look forward to meeting you in February 2024. Feel free to get in touch with any questions.
URL:https://onechippenham.org.uk/event/beginners-arts-workshops/2024-06-18/
LOCATION:The Cause Music and Arts Centre\, 42 The Causeway\, Chippenham\, Wiltshire\, SN15 3DD\, United Kingdom
CATEGORIES:Adults,Arts,Visual Arts,Workshop
ATTACH;FMTTYPE=image/jpeg:https://onechippenham.org.uk/wp-content/uploads/2024/02/Colour-photo-.jpeg
ORGANIZER;CN="Rag and Bone Arts CIC":MAILTO:ragandbonearts@gmail.com
END:VEVENT
BEGIN:VEVENT
DTSTART;TZID=Europe/London:20240618T100000
DTEND;TZID=Europe/London:20240618T120000
DTSTAMP:20260422T012504
CREATED:20240521T133204Z
LAST-MODIFIED:20240521T133204Z
UID:30516-1718704800-1718712000@onechippenham.org.uk
SUMMARY:Trio of Free Confidence and Wellbeing Courses at Chippenham Community Hub
DESCRIPTION:Free Family and Community Learning courses at Chippenham Community Hub. Take little steps today for a happier tomorrow. \nExploring Positive Emotions  – Tuesday 11 June 10am – 12pm\nExplore Feelings. Manage negative emotions. Focus on the positive things in life. \nExploring Confidence in Communication – Tuesday 18 June 10am – 12pm\nFeel more confident talking about your needs and sharing feelings. \nExploring My Skills – Tuesday 25 June 10am – 12pm\nKnow your strengths and skills to choose goals and plan for the future. \nBooking closes one week before the course and eligibility criteria apply. Contact familyandcommunitylearning@wiltshire.gov.uk or call the team on 01225 770478 \n 
URL:https://onechippenham.org.uk/event/trio-of-free-confidence-and-wellbeing-courses-at-chippenham-community-hub/2024-06-18/
LOCATION:Chippenham Community Hub
CATEGORIES:Adults,Class,Community,Course,Support
ATTACH;FMTTYPE=image/png:https://onechippenham.org.uk/wp-content/uploads/2024/05/Exploring-courses.png
ORGANIZER;CN="Family and Community Learning":MAILTO:familyandcommunitylearning@wiltshire.gov.uk
END:VEVENT
BEGIN:VEVENT
DTSTART;TZID=Europe/London:20240618T110000
DTEND;TZID=Europe/London:20240618T120000
DTSTAMP:20260422T012504
CREATED:20240320T152453Z
LAST-MODIFIED:20240921T122301Z
UID:28330-1718708400-1718712000@onechippenham.org.uk
SUMMARY:Flower Arranging Class
DESCRIPTION:Cepen Lodge Care Home are inviting the local community to join us for a morning flower arranging with our residents\, refreshments will be provided. Come and join us for a lovely morning socialising and networking with others.
URL:https://onechippenham.org.uk/event/flower-arranging-class/2024-06-18/
LOCATION:Cepen Lodge Care Home
CATEGORIES:Adults,Community,Flower Arranging,Networking,Over 60's
ATTACH;FMTTYPE=image/png:https://onechippenham.org.uk/wp-content/uploads/2024/03/Flower-arranging-at-Depend-Lodge.png
END:VEVENT
BEGIN:VEVENT
DTSTART;TZID=Europe/London:20240618T190000
DTEND;TZID=Europe/London:20240618T190000
DTSTAMP:20260422T012504
CREATED:20240215T112337Z
LAST-MODIFIED:20240215T112337Z
UID:27756-1718737200-1718737200@onechippenham.org.uk
SUMMARY:Life Drawing
DESCRIPTION:‘The best life drawing class I’ve found in years’\nTuesday evenings – 7-9pm (also runs on Wednesday mornings 9.30 – 11.30am) Starting on January 2nd 2024!\n£99 for 6 weeks or £20 drop in – all materials\, coffee\, tea and biscuits included.\nA chance to indulge\, draw and to practice some essential drawing skills in a beautiful environment\, guided by someone with 30 years teaching experience. You’ll use a diverse range of styles and techniques that stretch you and keep you motivated to improve.\nAll while enjoying fresh coffee and meeting some other lovely local artists. You can work at your own pace and be left alone to draw if this is how you prefer to learn.\nWe look forward to meeting you.
URL:https://onechippenham.org.uk/event/life-drawing-4/2024-06-18/
LOCATION:Cause Arts Centre\, 42 The Causeway\, Chippenham\, Wiltshire\, SN15 3DD\, United Kingdom
CATEGORIES:Adults,Arts,Visual Arts
ATTACH;FMTTYPE=image/jpeg:https://onechippenham.org.uk/wp-content/uploads/2024/02/Life-Drawing-Tuesday-.jpeg
ORGANIZER;CN="Rag and Bone Arts CIC":MAILTO:ragandbonearts@gmail.com
END:VEVENT
BEGIN:VEVENT
DTSTART;TZID=Europe/London:20240620T100000
DTEND;TZID=Europe/London:20240620T120000
DTSTAMP:20260422T012504
CREATED:20240130T074539Z
LAST-MODIFIED:20240212T150036Z
UID:26373-1718877600-1718884800@onechippenham.org.uk
SUMMARY:Senior Friendship Group
DESCRIPTION:A weekly friendship group for Senior Members at the Chippenham Community Hub. Lots of laughter\, fun and games with Bingo\, quizzes and lots of biscuits\, tea and coffee and chatter.
URL:https://onechippenham.org.uk/event/senior-friendship-group/2024-06-20/
LOCATION:23 Borough Parade\, Chippenham\, Wiltshire\,  SN15 3WL\, Unit 23\, Chippenham\, SN15 3WL\, United Kingdom
CATEGORIES:Adults,Community,Over 60's,Wellbeing
ATTACH;FMTTYPE=image/jpeg:https://onechippenham.org.uk/wp-content/uploads/2024/01/Seniors-Group.jpg
ORGANIZER;CN="Chippenham Community Hub":MAILTO:chippenhamcommunityecohub@gmail.com
END:VEVENT
BEGIN:VEVENT
DTSTART;TZID=Europe/London:20240621T123000
DTEND;TZID=Europe/London:20240621T143000
DTSTAMP:20260422T012504
CREATED:20240316T045206Z
LAST-MODIFIED:20240419T073800Z
UID:28344-1718973000-1718980200@onechippenham.org.uk
SUMMARY:Fish & Chip Club
DESCRIPTION:Don’t dine alone\, come and join us on the third Friday of every month for Fish & Chip Club at 12:30pm. No charge. Join us for an afternoon of great food and socialising. \nTo book and for more information please contact  CepenLodge@barchester.com or call 01249 707280.
URL:https://onechippenham.org.uk/event/fish-chip-club/2024-06-21/
LOCATION:Cepen Lodge Care Home
CATEGORIES:Adults,Community,Food and Drink,Networking,Over 60's
ATTACH;FMTTYPE=image/jpeg:https://onechippenham.org.uk/wp-content/uploads/2024/03/122678_108837__15_03_2024.jpeg
END:VEVENT
END:VCALENDAR