BEGIN:VCALENDAR
VERSION:2.0
PRODID:-//One Chippenham - ECPv6.15.20//NONSGML v1.0//EN
CALSCALE:GREGORIAN
METHOD:PUBLISH
X-WR-CALNAME:One Chippenham
X-ORIGINAL-URL:https://onechippenham.org.uk
X-WR-CALDESC:Events for One Chippenham
REFRESH-INTERVAL;VALUE=DURATION:PT1H
X-Robots-Tag:noindex
X-PUBLISHED-TTL:PT1H
BEGIN:VTIMEZONE
TZID:Europe/London
BEGIN:DAYLIGHT
TZOFFSETFROM:+0000
TZOFFSETTO:+0100
TZNAME:BST
DTSTART:20230326T010000
END:DAYLIGHT
BEGIN:STANDARD
TZOFFSETFROM:+0100
TZOFFSETTO:+0000
TZNAME:GMT
DTSTART:20231029T010000
END:STANDARD
BEGIN:DAYLIGHT
TZOFFSETFROM:+0000
TZOFFSETTO:+0100
TZNAME:BST
DTSTART:20240331T010000
END:DAYLIGHT
BEGIN:STANDARD
TZOFFSETFROM:+0100
TZOFFSETTO:+0000
TZNAME:GMT
DTSTART:20241027T010000
END:STANDARD
BEGIN:DAYLIGHT
TZOFFSETFROM:+0000
TZOFFSETTO:+0100
TZNAME:BST
DTSTART:20250330T010000
END:DAYLIGHT
BEGIN:STANDARD
TZOFFSETFROM:+0100
TZOFFSETTO:+0000
TZNAME:GMT
DTSTART:20251026T010000
END:STANDARD
END:VTIMEZONE
BEGIN:VEVENT
DTSTART;TZID=Europe/London:20240827T110000
DTEND;TZID=Europe/London:20240827T120000
DTSTAMP:20260420T061456
CREATED:20240320T152453Z
LAST-MODIFIED:20240921T122305Z
UID:28545-1724756400-1724760000@onechippenham.org.uk
SUMMARY:Flower Arranging Class
DESCRIPTION:Cepen Lodge Care Home are inviting the local community to join us for a morning flower arranging with our residents\, refreshments will be provided. Come and join us for a lovely morning socialising and networking with others.
URL:https://onechippenham.org.uk/event/flower-arranging-class/2024-08-27/
LOCATION:Cepen Lodge Care Home
CATEGORIES:Adults,Community,Flower Arranging,Networking,Over 60's
ATTACH;FMTTYPE=image/png:https://onechippenham.org.uk/wp-content/uploads/2024/03/Flower-arranging-at-Depend-Lodge.png
END:VEVENT
BEGIN:VEVENT
DTSTART;TZID=Europe/London:20240830T110000
DTEND;TZID=Europe/London:20240830T110000
DTSTAMP:20260420T061456
CREATED:20240520T092843Z
LAST-MODIFIED:20240520T093314Z
UID:30487-1725015600-1725015600@onechippenham.org.uk
SUMMARY:Dementia Café at Cepen Lodge Care Home
DESCRIPTION:Cepen Lodge care home\, in Chippenham have invited members of the local community to their monthly dementia café. \nThe first session starting on the 31st May 2024 will be hosted in conjunction with Chippenham Police\, who will be joining to discuss the Herbert Protocol and offer dementia wristbands to the community to support those who may leave their homes and get lost. \nTaking place on the last Friday of every month at 11am\, guests will have a chance to meet other carers supporting others living with dementia. Free to all\, the dementia café at the home provides small respite and social support. \nDuring the care group session\, guests will also have a chance to meet the team at the home\, to discuss any questions they might have about care. \nSenior General Manager Jade said: “We’re really looking forward to making more friends in our local community. The condition itself can be quite lonely and frightening\, and the more support we can provide to each other\, the better. If anyone is unable to make it on the day but would like to pop in for a tour and a cup of tea\, our doors are always open.” \nCepen Lodge care home is run by Barchester Healthcare\, one of the UK’s largest care providers\, which is committed to delivering high-quality care across its care homes and hospitals. Cepen Lodge provides residential care and dementia care for 63 residents from respite care to long term stays. \n 
URL:https://onechippenham.org.uk/event/dementia-cafe-at-cepen-lodge-care-home/2024-08-30/
LOCATION:Cepen Lodge Care Home
CATEGORIES:Adults,Community,Support group
ATTACH;FMTTYPE=image/jpeg:https://onechippenham.org.uk/wp-content/uploads/2024/05/2024-05-03_6634abd967e00_125020_113236_26_04_2024.jpeg
END:VEVENT
BEGIN:VEVENT
DTSTART;TZID=Europe/London:20240830T190000
DTEND;TZID=Europe/London:20240830T230000
DTSTAMP:20260420T061456
CREATED:20240802T104445Z
LAST-MODIFIED:20240802T104445Z
UID:31543-1725044400-1725058800@onechippenham.org.uk
SUMMARY:Drink 'n' Draw @31
DESCRIPTION:Calling all artists\, illustrators and doodlers of Chippenham! \nA social evening packed full of creativity. Come along and get involved with a few drawing games\, communal doodle\, work on your sketchbook and collaborate with other artists. All art supplies provided\, but feel free to bring your own. \nA friendly safe space to meet other creatives and dedicate a couple of hours to having fun and getting creative. \nNo pressure\, No judgement\, all levels and abilities welcome. Come and be inspired. Bring your favourite drink\, meet other local artists and start a new creative community with us. \nMonthly meet up. Last weekend of every month.\nFor ages 18+ BYO drinks.
URL:https://onechippenham.org.uk/event/drink-n-draw-31-3/2024-08-30/
LOCATION:31.Co.work\, 31.Co.work\, Chippenham\, SN15 3HP
CATEGORIES:Adults,Arts,Visual Arts
ATTACH;FMTTYPE=image/jpeg:https://onechippenham.org.uk/wp-content/uploads/2024/07/Drink__Draw_@31_logo.jpg
END:VEVENT
BEGIN:VEVENT
DTSTART;TZID=Europe/London:20240831T170000
DTEND;TZID=Europe/London:20240831T233000
DTSTAMP:20260420T061456
CREATED:20240708T135946Z
LAST-MODIFIED:20240708T135946Z
UID:31362-1725123600-1725147000@onechippenham.org.uk
SUMMARY:Nam Fest
DESCRIPTION:‘Nam Fest’ is here and raring to go! A new punk rock extravaganza for you to enjoy!  \nWith 7 bands performing all evening from 5pm\, it’s going to the biggest and best punk festival around! Doors open at 5:00 pm\, first band on at 6:00pm so make sure to arrive early to secure your spot. Don’t miss out on this epic punk rock event. \nTickets are available behind the bar now or via Eventbrite.
URL:https://onechippenham.org.uk/event/nam-fest/
LOCATION:Constitutional Club\, 36 Foghamshire\, Chippenham\, SN15 1HB\, United Kingdom
CATEGORIES:Adults,Festival,Music,Performance
ATTACH;FMTTYPE=image/jpeg:https://onechippenham.org.uk/wp-content/uploads/2024/07/IMG_7578.jpeg
ORGANIZER;CN="Consti Club":MAILTO:info@consticlub.co.uk
END:VEVENT
END:VCALENDAR