BEGIN:VCALENDAR
VERSION:2.0
PRODID:-//One Chippenham - ECPv6.15.20//NONSGML v1.0//EN
CALSCALE:GREGORIAN
METHOD:PUBLISH
X-WR-CALNAME:One Chippenham
X-ORIGINAL-URL:https://onechippenham.org.uk
X-WR-CALDESC:Events for One Chippenham
REFRESH-INTERVAL;VALUE=DURATION:PT1H
X-Robots-Tag:noindex
X-PUBLISHED-TTL:PT1H
BEGIN:VTIMEZONE
TZID:Europe/London
BEGIN:DAYLIGHT
TZOFFSETFROM:+0000
TZOFFSETTO:+0100
TZNAME:BST
DTSTART:20230326T010000
END:DAYLIGHT
BEGIN:STANDARD
TZOFFSETFROM:+0100
TZOFFSETTO:+0000
TZNAME:GMT
DTSTART:20231029T010000
END:STANDARD
BEGIN:DAYLIGHT
TZOFFSETFROM:+0000
TZOFFSETTO:+0100
TZNAME:BST
DTSTART:20240331T010000
END:DAYLIGHT
BEGIN:STANDARD
TZOFFSETFROM:+0100
TZOFFSETTO:+0000
TZNAME:GMT
DTSTART:20241027T010000
END:STANDARD
BEGIN:DAYLIGHT
TZOFFSETFROM:+0000
TZOFFSETTO:+0100
TZNAME:BST
DTSTART:20250330T010000
END:DAYLIGHT
BEGIN:STANDARD
TZOFFSETFROM:+0100
TZOFFSETTO:+0000
TZNAME:GMT
DTSTART:20251026T010000
END:STANDARD
END:VTIMEZONE
BEGIN:VEVENT
DTSTART;TZID=Europe/London:20241007T120000
DTEND;TZID=Europe/London:20241007T130000
DTSTAMP:20260420T123946
CREATED:20240821T092646Z
LAST-MODIFIED:20240821T092646Z
UID:34574-1728302400-1728306000@onechippenham.org.uk
SUMMARY:Sparkly Lite singing group
DESCRIPTION:Sparkly Singers is the award-winning Wiltshire-based choir experience\, founded with the simple aim of bringing the joy and benefits of group singing to everyone\, regardless of age\, experience or ability. \nLaunched in September 2023\, our ‘lighter’ daytime sessions are perfect for anyone who just fancies popping out for an hour or so each week to meet new people and sing a fabulous selection of feel-good songs.\nNo part-singing\, no practising\, no performing in public – just turn up each week at our brand new venue in Chippenham and sing! \nSo if you love the idea of simply singing for the fun of it\, why not come along to one of our FREE taster sessions and see what we’re all about.
URL:https://onechippenham.org.uk/event/sparkly-lite-singing-group/2024-10-07/
LOCATION:Pewsham Community Centre\, Lodge Road\, Chippenham\, SN5 3SY
CATEGORIES:Adults,Choir,Community,Music,Performing Arts,Singing
ATTACH;FMTTYPE=image/png:https://onechippenham.org.uk/wp-content/uploads/2024/08/Concise-Lite-graphic-for-One-Chippenhams-event-calendar-Autumn-2024.png
ORGANIZER;CN="Sparkly Singers":MAILTO:hello@sparklysingers.co.uk
END:VEVENT
BEGIN:VEVENT
DTSTART;TZID=Europe/London:20241008T100000
DTEND;TZID=Europe/London:20241008T150000
DTSTAMP:20260420T123946
CREATED:20240902T095517Z
LAST-MODIFIED:20240902T095517Z
UID:32899-1728381600-1728399600@onechippenham.org.uk
SUMMARY:Unlock Your Happy
DESCRIPTION:Join me for a transformative workshop on Tuesday\, 8th October 2024 at Pewsham Community Hall\, Chippenham. Dive deep into the science and practice of happiness with expert guidance\, hands-on exercises\, and practical strategies to help you build your “Inner Home for Happiness.” \n🔑 What You’ll Learn:\nUnderstand the Happiness Set-point and Happiness Continuum\nExplore the 7 Keys to Building Your Inner Home for Happiness\n1. Taking Responsibility for Your Happiness\n2. Don’t Believe Everything You Think\n3. Let Love Lead\n4. Make Your Cells Happy\n5. Plug Yourself into Spirit\n6. Live a Life Inspired by Purpose\n7. Cultivate Nourishing Relationships \n🍽️ Lunch & Refreshments: Enjoy a delicious sandwich lunch with teas\, coffees\, and snacks throughout the day.\n🕙 When: 10:00 AM – 3:00 PM\n📍 Where: Pewsham Community Hall\n💷 Cost: £45 per person\n📅 Book Now: www.serotoninsam.com/book-here \nDon’t miss this opportunity to discover the keys to a happier\, more fulfilled life. Limited spaces available—reserve your spot today!
URL:https://onechippenham.org.uk/event/unlock-your-happy/
LOCATION:Pewsham Community Centre\, Lodge Road\, Chippenham\, SN5 3SY
CATEGORIES:Adults,Education,Health,Indoor,Training,Wellbeing,Workshop
ATTACH;FMTTYPE=image/jpeg:https://onechippenham.org.uk/wp-content/uploads/2024/08/1.jpg
ORGANIZER;CN="SerotoninSam":MAILTO:info@serotoninsam.com
END:VEVENT
BEGIN:VEVENT
DTSTART;TZID=Europe/London:20241008T110000
DTEND;TZID=Europe/London:20241008T120000
DTSTAMP:20260420T123946
CREATED:20240320T152453Z
LAST-MODIFIED:20240921T122306Z
UID:28548-1728385200-1728388800@onechippenham.org.uk
SUMMARY:Flower Arranging Class
DESCRIPTION:Cepen Lodge Care Home are inviting the local community to join us for a morning flower arranging with our residents\, refreshments will be provided. Come and join us for a lovely morning socialising and networking with others.
URL:https://onechippenham.org.uk/event/flower-arranging-class/2024-10-08/
LOCATION:Cepen Lodge Care Home
CATEGORIES:Adults,Community,Flower Arranging,Networking,Over 60's
ATTACH;FMTTYPE=image/png:https://onechippenham.org.uk/wp-content/uploads/2024/03/Flower-arranging-at-Depend-Lodge.png
END:VEVENT
BEGIN:VEVENT
DTSTART;TZID=Europe/London:20241008T133000
DTEND;TZID=Europe/London:20241008T153000
DTSTAMP:20260420T123946
CREATED:20240909T131857Z
LAST-MODIFIED:20240909T131857Z
UID:33330-1728394200-1728401400@onechippenham.org.uk
SUMMARY:Chippenham & Calne Good Afternoon Choir
DESCRIPTION:Come and join our fun and friendly\, non-audition Community Choir and be part of a family of 32 Good Afternoon Choirs “Singing in the Afternoon” around the South West and beyond! \nThe Chippenham & Calne Good Afternoon Choir rehearse every Tuesday afternoon at Pewsham Community Centre from 1.30-3.30pm. \nFind out more:  www.goodafternoonchoir.co.uk \n  \n 
URL:https://onechippenham.org.uk/event/chippenham-calne-good-afternoon-choir/2024-10-08/
LOCATION:Pewsham Community Centre\, Lodge Road\, Chippenham\, SN5 3SY
CATEGORIES:Adults,Choir,Community,Indoor,Music
ATTACH;FMTTYPE=image/png:https://onechippenham.org.uk/wp-content/uploads/2024/09/2-1.png
END:VEVENT
BEGIN:VEVENT
DTSTART;TZID=Europe/London:20241009T093000
DTEND;TZID=Europe/London:20241009T233000
DTSTAMP:20260420T123946
CREATED:20240906T065651Z
LAST-MODIFIED:20240906T065651Z
UID:33216-1728466200-1728516600@onechippenham.org.uk
SUMMARY:Life Drawing - Wednesday mornings
DESCRIPTION:“The best life drawing class I’ve found in years” \nA chance to indulge in practising some essential drawing skills in a beautiful environment\, guided by someone with over 25 years of teaching experience. \nYou’ll use a diverse range of styles and techniques that stretch you and keep you motivated to improve. All while enjoying some fresh coffee and meeting some other lovely local artists. You can work at your own pace and be left alone to draw if this is how you prefer to learn. \nTerms cost £105 for 6 week term (2 hour session) or £20 cash drop-in option for our Life Drawing classes. All materials and coffee/tea are provided. \nLife drawing is challenging and rewarding\, but like anything else\, it takes practice and patience. The best way to encourage practise is to vary the media and techniques available; to make sure this is feasible\, we provide materials for free. This also allows more confidence as using expensive personal materials tends to inhibit experimentation. You are\, of course\, welcome to bring your own materials and follow your own path. \nWeek 3 and 6 are a chance to work from one long pose with any material/technique you choose; the other weeks begin with warm-ups to help you prepare\, normally followed by one or two poses following a theme. Sometimes the session is devoted to a worksheet-style drawing\, using many poses on one sheet in different materials. These are a great opportunity to gain confidence in composition\, materials and mark-making. \nPlease visit our website\, www.ragandbonearts.com to secure your place or book directly on here: \nhttps://buy.stripe.com/6oE5l93ZO3LF0akdR1 \n(This class also runs on Tuesday evenings 7-9pm). \nWe look forward to seeing you – thank you.
URL:https://onechippenham.org.uk/event/life-drawing-wednesday-mornings/2024-10-09/
LOCATION:The Cause Music and Arts Centre\, 42 The Causeway\, Chippenham\, Wiltshire\, SN15 3DD\, United Kingdom
CATEGORIES:Adults,Arts,Course,Visual Arts
ATTACH;FMTTYPE=image/jpeg:https://onechippenham.org.uk/wp-content/uploads/2024/09/Black-and-white-LD-.jpg
ORGANIZER;CN="Rag and Bone Arts CIC":MAILTO:ragandbonearts@gmail.com
END:VEVENT
BEGIN:VEVENT
DTSTART;TZID=Europe/London:20241010T200000
DTEND;TZID=Europe/London:20241010T211500
DTSTAMP:20260420T123946
CREATED:20240821T093416Z
LAST-MODIFIED:20241007T084644Z
UID:34581-1728590400-1728594900@onechippenham.org.uk
SUMMARY:Sparkly Singers
DESCRIPTION:Alongside our sessions in Chippenham (Monday lunchtimes) and Royal Wootton Bassett (Tuesday evenings)\, the Sparkly Singers meet every Thursday evening from 8:00pm at the Lansdowne Hall in Derry Hill.\nFounded with the simple aim of bringing the joy and benefits of group singing to everyone\, our emphasis is on singing in a way that is\, above all else\, fun. \nRather than splitting into parts and learning harmonies\, we prefer instead to sing in unison\, infusing songs with our own rather unique mix of humour\, movement and the occasional wacky prop.\nSo if you simply love to sing\, but have yet to find the choir that perfectly complements your sense of fun\, why not come along to one of our FREE taster sessions and see what we’re all about.
URL:https://onechippenham.org.uk/event/sparkly-singers-2/2024-10-10/
LOCATION:Lansdowne Hall – Derry Hill
CATEGORIES:Adults,Choir,Community,Music,Performing Arts,Singing
ATTACH;FMTTYPE=image/jpeg:https://onechippenham.org.uk/wp-content/uploads/2024/08/Concise-graphic-for-One-Chippenhams-event-calendar-June-2024.jpg
ORGANIZER;CN="Sparkly Singers":MAILTO:hello@sparklysingers.co.uk
END:VEVENT
END:VCALENDAR