BEGIN:VCALENDAR
VERSION:2.0
PRODID:-//One Chippenham - ECPv6.15.20//NONSGML v1.0//EN
CALSCALE:GREGORIAN
METHOD:PUBLISH
X-ORIGINAL-URL:https://onechippenham.org.uk
X-WR-CALDESC:Events for One Chippenham
REFRESH-INTERVAL;VALUE=DURATION:PT1H
X-Robots-Tag:noindex
X-PUBLISHED-TTL:PT1H
BEGIN:VTIMEZONE
TZID:Europe/London
BEGIN:DAYLIGHT
TZOFFSETFROM:+0000
TZOFFSETTO:+0100
TZNAME:BST
DTSTART:20230326T010000
END:DAYLIGHT
BEGIN:STANDARD
TZOFFSETFROM:+0100
TZOFFSETTO:+0000
TZNAME:GMT
DTSTART:20231029T010000
END:STANDARD
BEGIN:DAYLIGHT
TZOFFSETFROM:+0000
TZOFFSETTO:+0100
TZNAME:BST
DTSTART:20240331T010000
END:DAYLIGHT
BEGIN:STANDARD
TZOFFSETFROM:+0100
TZOFFSETTO:+0000
TZNAME:GMT
DTSTART:20241027T010000
END:STANDARD
BEGIN:DAYLIGHT
TZOFFSETFROM:+0000
TZOFFSETTO:+0100
TZNAME:BST
DTSTART:20250330T010000
END:DAYLIGHT
BEGIN:STANDARD
TZOFFSETFROM:+0100
TZOFFSETTO:+0000
TZNAME:GMT
DTSTART:20251026T010000
END:STANDARD
END:VTIMEZONE
BEGIN:VEVENT
DTSTART;TZID=Europe/London:20241118T120000
DTEND;TZID=Europe/London:20241118T130000
DTSTAMP:20260420T043943
CREATED:20240821T092646Z
LAST-MODIFIED:20241007T083244Z
UID:32387-1731931200-1731934800@onechippenham.org.uk
SUMMARY:Sparkly Lite singing group
DESCRIPTION:Sparkly Singers is the award-winning Wiltshire-based choir experience\, founded with the simple aim of bringing the joy and benefits of group singing to everyone\, regardless of age\, experience or ability. \nLaunched in September 2023\, our ‘lighter’ daytime sessions are perfect for anyone who just fancies popping out for an hour or so each week to meet new people and sing a fabulous selection of feel-good songs.\nNo part-singing\, no practising\, no performing in public – just turn up each week at our brand new venue in Chippenham and sing! \nSo if you love the idea of simply singing for the fun of it\, why not come along to one of our FREE taster sessions and see what we’re all about.
URL:https://onechippenham.org.uk/event/sparkly-lite-singing-group/2024-11-18/
LOCATION:Pewsham Community Centre\, Lodge Road\, Chippenham\, SN5 3SY
CATEGORIES:Adults,Choir,Community,Music,Performing Arts,Singing
ATTACH;FMTTYPE=image/png:https://onechippenham.org.uk/wp-content/uploads/2024/08/Concise-Lite-graphic-for-One-Chippenhams-event-calendar-Autumn-2024.png
ORGANIZER;CN="Sparkly Singers":MAILTO:hello@sparklysingers.co.uk
END:VEVENT
BEGIN:VEVENT
DTSTART;TZID=Europe/London:20241119T110000
DTEND;TZID=Europe/London:20241119T120000
DTSTAMP:20260420T043943
CREATED:20240320T152453Z
LAST-MODIFIED:20240921T122310Z
UID:28551-1732014000-1732017600@onechippenham.org.uk
SUMMARY:Flower Arranging Class
DESCRIPTION:Cepen Lodge Care Home are inviting the local community to join us for a morning flower arranging with our residents\, refreshments will be provided. Come and join us for a lovely morning socialising and networking with others.
URL:https://onechippenham.org.uk/event/flower-arranging-class/2024-11-19/
LOCATION:Cepen Lodge Care Home
CATEGORIES:Adults,Community,Flower Arranging,Networking,Over 60's
ATTACH;FMTTYPE=image/png:https://onechippenham.org.uk/wp-content/uploads/2024/03/Flower-arranging-at-Depend-Lodge.png
END:VEVENT
BEGIN:VEVENT
DTSTART;TZID=Europe/London:20241119T123000
DTEND;TZID=Europe/London:20241119T143000
DTSTAMP:20260420T043943
CREATED:20241104T101553Z
LAST-MODIFIED:20250303T115324Z
UID:35308-1732019400-1732026600@onechippenham.org.uk
SUMMARY:Improvers Art workshops
DESCRIPTION:‘A really friendly place to learn from experienced people’ \nUniquely designed and delivered 6 x 6 week courses for beginners. Taught by local artist and designer Charlie who has over 25 years experience teaching art. \nTuesdays at 12.30 – 2.30pm \nTerm 1 – Still life (drawing) – Sept 17th – October 22nd \nTerm 2 – Objects in interiors (drawing\, painting)- November 5th – December 10th \nTerm 3 – Portrait (painting)- January 7th – Feb 11th \nTerm 4 – Interiors (drawing)- Feb 26th – April 2nd \nTerm 5 – Landscape (painting) – April 23rd – June 4th \nTerm 6 – Still life revisited (collage\, mixed media) – June 11th – July 16th \nIn both beginners and improvers\, the sessions we will follow the classic method for learning to draw and paint. It is easy to learn to draw by copying the example of a tutor leading the group\, but this tends to produce a ‘house style’ where everyone ends up drawing in the same way. Your drawing style is as unique to you as your handwriting (if school hasn’t obliterated it) – here you will learn to enhance your own drawing style\, not replace it with ours. \nPlease note: all courses begin with drawing\, and include a talk about relevant art movements and practitioners. \nPrice includes all materials and coffee and biscuits (donations taken to help with refreshments) \nThank you – we look forward to meeting you soon
URL:https://onechippenham.org.uk/event/improvers-art-workshops-2/2024-11-19/
LOCATION:The Cause Music and Arts Centre\, 42 The Causeway\, Chippenham\, Wiltshire\, SN15 3DD\, United Kingdom
CATEGORIES:Adults,Arts,Visual Arts
ATTACH;FMTTYPE=image/webp:https://onechippenham.org.uk/wp-content/uploads/2024/11/Improvers-Art-25.webp
ORGANIZER;CN="Rag and Bone Arts CIC":MAILTO:ragandbonearts@gmail.com
END:VEVENT
BEGIN:VEVENT
DTSTART;TZID=Europe/London:20241119T133000
DTEND;TZID=Europe/London:20241119T153000
DTSTAMP:20260420T043943
CREATED:20240909T131857Z
LAST-MODIFIED:20240909T131857Z
UID:33335-1732023000-1732030200@onechippenham.org.uk
SUMMARY:Chippenham & Calne Good Afternoon Choir
DESCRIPTION:Come and join our fun and friendly\, non-audition Community Choir and be part of a family of 32 Good Afternoon Choirs “Singing in the Afternoon” around the South West and beyond! \nThe Chippenham & Calne Good Afternoon Choir rehearse every Tuesday afternoon at Pewsham Community Centre from 1.30-3.30pm. \nFind out more:  www.goodafternoonchoir.co.uk \n  \n 
URL:https://onechippenham.org.uk/event/chippenham-calne-good-afternoon-choir/2024-11-19/
LOCATION:Pewsham Community Centre\, Lodge Road\, Chippenham\, SN5 3SY
CATEGORIES:Adults,Choir,Community,Indoor,Music
ATTACH;FMTTYPE=image/png:https://onechippenham.org.uk/wp-content/uploads/2024/09/2-1.png
END:VEVENT
BEGIN:VEVENT
DTSTART;TZID=Europe/London:20241119T190000
DTEND;TZID=Europe/London:20241119T213000
DTSTAMP:20260420T043943
CREATED:20241117T095022Z
LAST-MODIFIED:20241117T095022Z
UID:36056-1732042800-1732051800@onechippenham.org.uk
SUMMARY:Wine Tasting Evening: It’s the most wine-derful time of the year!
DESCRIPTION:Winter is here\, so why not brighten up a cold November night with a wine tasting? Join us while we take you through 6 of our favourites of the season all while enjoying a festive platter and Lisa’s famous canapés 🍷 \nSpaces are limited!
URL:https://onechippenham.org.uk/event/wine-tasting-evening-its-the-most-wine-derful-time-of-the-year/
LOCATION:Wine Monkey\, 20 Borough Parade\, Chippenham\, SN15 3WL\, United Kingdom
CATEGORIES:Adults
ATTACH;FMTTYPE=image/jpeg:https://onechippenham.org.uk/wp-content/uploads/2024/11/IMG_6226.jpeg
ORGANIZER;CN="Wine Monkey":MAILTO:Thecellar@winemonkey.co.uk
END:VEVENT
BEGIN:VEVENT
DTSTART;TZID=Europe/London:20241120T180000
DTEND;TZID=Europe/London:20241120T210000
DTSTAMP:20260420T043943
CREATED:20241117T100300Z
LAST-MODIFIED:20241117T100437Z
UID:36066-1732125600-1732136400@onechippenham.org.uk
SUMMARY:Fondue Nights at Wine Monkey
DESCRIPTION:Fondue Wednesdays are back! Join us each Wednesday evening to enjoy delectable homemade cheese fondue and wine!\nAvailable to book from 6pm\, £20 per person (required a minimum of 24 hours in advance). \nWines purchased separately. \nVegetarian and gluten-free options available.
URL:https://onechippenham.org.uk/event/fondue-nights-at-wine-monkey/2024-11-20/
LOCATION:Wine Monkey\, 20 Borough Parade\, Chippenham\, SN15 3WL\, United Kingdom
CATEGORIES:Adults,Christmas,Food and Drink
ATTACH;FMTTYPE=image/jpeg:https://onechippenham.org.uk/wp-content/uploads/2024/11/IMG_6228.jpeg
ORGANIZER;CN="Wine Monkey":MAILTO:Thecellar@winemonkey.co.uk
END:VEVENT
BEGIN:VEVENT
DTSTART;TZID=Europe/London:20241121T200000
DTEND;TZID=Europe/London:20241121T211500
DTSTAMP:20260420T043943
CREATED:20240821T093416Z
LAST-MODIFIED:20240821T093416Z
UID:34586-1732219200-1732223700@onechippenham.org.uk
SUMMARY:Sparkly Singers
DESCRIPTION:Alongside our sessions in Chippenham (Monday lunchtimes) and Royal Wootton Bassett (Tuesday evenings)\, the Sparkly Singers meet every Thursday evening from 8:00pm at the Lansdowne Hall in Derry Hill.\nFounded with the simple aim of bringing the joy and benefits of group singing to everyone\, our emphasis is on singing in a way that is\, above all else\, fun. \nRather than splitting into parts and learning harmonies\, we prefer instead to sing in unison\, infusing songs with our own rather unique mix of humour\, movement and the occasional wacky prop.\nSo if you simply love to sing\, but have yet to find the choir that perfectly complements your sense of fun\, why not come along to one of our FREE taster sessions and see what we’re all about.
URL:https://onechippenham.org.uk/event/sparkly-singers-2/2024-11-21/
LOCATION:Lansdowne Hall – Derry Hill
CATEGORIES:Adults,Choir,Community,Music,Performing Arts,Singing
ATTACH;FMTTYPE=image/jpeg:https://onechippenham.org.uk/wp-content/uploads/2024/08/Concise-graphic-for-One-Chippenhams-event-calendar-June-2024.jpg
ORGANIZER;CN="Sparkly Singers":MAILTO:hello@sparklysingers.co.uk
END:VEVENT
END:VCALENDAR