BEGIN:VCALENDAR
VERSION:2.0
PRODID:-//One Chippenham - ECPv6.15.20//NONSGML v1.0//EN
CALSCALE:GREGORIAN
METHOD:PUBLISH
X-WR-CALNAME:One Chippenham
X-ORIGINAL-URL:https://onechippenham.org.uk
X-WR-CALDESC:Events for One Chippenham
REFRESH-INTERVAL;VALUE=DURATION:PT1H
X-Robots-Tag:noindex
X-PUBLISHED-TTL:PT1H
BEGIN:VTIMEZONE
TZID:Europe/London
BEGIN:DAYLIGHT
TZOFFSETFROM:+0000
TZOFFSETTO:+0100
TZNAME:BST
DTSTART:20230326T010000
END:DAYLIGHT
BEGIN:STANDARD
TZOFFSETFROM:+0100
TZOFFSETTO:+0000
TZNAME:GMT
DTSTART:20231029T010000
END:STANDARD
BEGIN:DAYLIGHT
TZOFFSETFROM:+0000
TZOFFSETTO:+0100
TZNAME:BST
DTSTART:20240331T010000
END:DAYLIGHT
BEGIN:STANDARD
TZOFFSETFROM:+0100
TZOFFSETTO:+0000
TZNAME:GMT
DTSTART:20241027T010000
END:STANDARD
BEGIN:DAYLIGHT
TZOFFSETFROM:+0000
TZOFFSETTO:+0100
TZNAME:BST
DTSTART:20250330T010000
END:DAYLIGHT
BEGIN:STANDARD
TZOFFSETFROM:+0100
TZOFFSETTO:+0000
TZNAME:GMT
DTSTART:20251026T010000
END:STANDARD
END:VTIMEZONE
BEGIN:VEVENT
DTSTART;TZID=Europe/London:20240203T190000
DTEND;TZID=Europe/London:20240203T210000
DTSTAMP:20260423T210052
CREATED:20240203T074726Z
LAST-MODIFIED:20240203T075018Z
UID:26901-1706986800-1706994000@onechippenham.org.uk
SUMMARY:RETURN TO THE HIDING PLACE - A Searchlight Theatre Performance
DESCRIPTION:Everyone is welcome to join us for the theatrical performance of “Return to the hiding place”\, the story of Corrie Ten Boom. Doors open at 6:45 and only £7 per ticket! \nA reimagining of Corrie Ten Boom’s biographical tale of forgiveness and reconciliation in the shadows of WW2. The family bravely hide Jews in their small clock shop. The consequences are dark and devastating. \nThe production looks not only at the story from Corrie’s viewpoint but also from a German army officer’s angle as well. How do they both regard their families\, their faith\, the Jewish people and the occupation of Holland? \nThey begin in different worlds\, but eventually come face to face with each other. Moving and inspiring\, and relevant for today. \nSuitable for anyone age 12+
URL:https://onechippenham.org.uk/event/return-to-the-hiding-place-a-searchlight-theatre-performance/
LOCATION:Emmanuel Church Chippenham\, Emmanuel Church\, Goldney Avenue\, Chippenham\, Wiltshire\, SN15 1ND
CATEGORIES:Arts,Church,Drama,History,Performance,Performing Arts,Storytelling,Theatre
ATTACH;FMTTYPE=image/jpeg:https://onechippenham.org.uk/wp-content/uploads/2024/02/7B956009-FB02-4B10-B99F-14BC61E801D2.jpeg
ORGANIZER;CN="Emmanuel Church Chippenham":MAILTO:admin@emmanuelecc.org
END:VEVENT
BEGIN:VEVENT
DTSTART;TZID=Europe/London:20240213T093000
DTEND;TZID=Europe/London:20240213T103000
DTSTAMP:20260423T210052
CREATED:20240130T132013Z
LAST-MODIFIED:20240130T132013Z
UID:26563-1707816600-1707820200@onechippenham.org.uk
SUMMARY:Quiet Time: Half Term Activity
DESCRIPTION:Tuesday 13 February\n9.30am – 10.30am\nFree\, booking essential via Eventbrite \nBook one of four places for accompanied children to enjoy our free drop-in activities in a quieter way. \nThese free sessions are for children who would find the busy nature of our drop-in sessions uncomfortable. Instead\, book to join a smaller group of children in a quieter session before the museum is open to the public. \nThese sessions are free\, with booking essential. Please book a space for all accompanied children attending. \nWorkshop details: \nExplore work by artist Ellie Thompson on display before the museum opens to the public and get creative with our related craft activity.
URL:https://onechippenham.org.uk/event/quiet-time-half-term-activity/
LOCATION:Chippenham Museum\, 9-10 Market Pl\, Chippenham\, SN15 3HF\, United Kingdom
CATEGORIES:Arts,Autism,Autism friendly,Crafts,Family,Family Friendly,Half-Term,Museum
ATTACH;FMTTYPE=image/jpeg:https://onechippenham.org.uk/wp-content/uploads/2024/01/Quiet-Time-Grid.jpg
ORGANIZER;CN="Chippenham Museum":MAILTO:heritage@chippenham.gov.uk
END:VEVENT
BEGIN:VEVENT
DTSTART;TZID=Europe/London:20240213T103000
DTEND;TZID=Europe/London:20240213T153000
DTSTAMP:20260423T210052
CREATED:20240130T132055Z
LAST-MODIFIED:20240210T081012Z
UID:26556-1707820200-1707838200@onechippenham.org.uk
SUMMARY:Half Term Craft Activity at Chippenham Museum
DESCRIPTION:Tuesday 13 February\n10.30am – 3.30pm\nFree\, drop-in \nExplore work by artist Ellie Thompson\, on display in the museum and get creative with our related craft activity.
URL:https://onechippenham.org.uk/event/half-term-activity/
LOCATION:Chippenham Museum\, 9-10 Market Pl\, Chippenham\, SN15 3HF\, United Kingdom
CATEGORIES:Arts,Children,Crafts,Family,Family Friendly,Museum
ATTACH;FMTTYPE=image/jpeg:https://onechippenham.org.uk/wp-content/uploads/2024/01/Activity-Grid.jpg
ORGANIZER;CN="Chippenham Museum":MAILTO:heritage@chippenham.gov.uk
END:VEVENT
BEGIN:VEVENT
DTSTART;TZID=Europe/London:20240214T193000
DTEND;TZID=Europe/London:20240214T223000
DTSTAMP:20260423T210052
CREATED:20240114T070550Z
LAST-MODIFIED:20240114T070550Z
UID:25967-1707939000-1707949800@onechippenham.org.uk
SUMMARY:Love Stories
DESCRIPTION:A Valentine’s Day you’ll never forget 🎭❤️ \nKandu Arts is bringing a show to Chippenham that promises a whirlwind romance of stories\, chat and laughs about love. Love Stories\, by Mark Rutterford\, promises a Valentine’s Day event like no other and one you’ll never forget. As the audience eats Love Heart sweets\, they will hear tales of love affairs and heartache but like any romantic encounter\, Love Stories is not a passive experience. \nAudience engagement is a big part of the show. It’s the audience that decides who wins the World Cup of Love Songs\, what happens in one story and\, having heard Mark’s best and worst romantic moments\, they’ll be invited to share their own triumphs and disasters. Laughs and empathy are guaranteed. \nThis interactive theatre piece is that latest offering from Kandu Arts\, a Chippenham based company that has been using the arts and activities to explore a wide range of issues and nurture strong relationships within the community for 25 years. \nAn alien reports that he just ‘doesn’t get it\,’ but the 4-Star Review from last year’s Bath Fringe Festival says that you will feel the connection and that you might be beguiled into leaving your cynic at the door. \n“the connection…is what makes the night – during our short time together we become friends hanging out” \nBackground \nMark Rutterford is a writer-performer that has been performing stories across the South West for a decade. Love Stories is Mark’s first solo show – it made its debut at Bath Fringe Festival in May 2023 (4-Stars) and went on to Shaftesbury Fringe in July and Camden Fringe in August last year. The mix of performance\, props\, emotions and audience engagement are key features in the inclusive\, funny and entertaining show Mark wanted to create. He is delighted to be working with Kandu Arts and to be performing in Chippenham for the first time – he hopes to do more of both in future. \nKandu Arts for sustainable development is based in Chippenham\, Wiltshire\, and has worked since 1998 with communities\, often the most marginalized and hardest to reach up and down the country. They use music\, film\, visual arts & sport as a means to explore a wide range of issues. Combined with nurturing strong relationships\, this approach is highly effective in areas of engaging the disaffected\, increasing community cohesion and development.
URL:https://onechippenham.org.uk/event/love-stories/
LOCATION:The Rotary Club\, Station Hill\, Chippenham
CATEGORIES:Arts,Charity,Comedy,Community,Indoor,Performing Arts,Storytelling,Theatre,Visual Arts
ATTACH;FMTTYPE=image/jpeg:https://onechippenham.org.uk/wp-content/uploads/2024/01/PHOTO-2024-01-09-09-36-45.jpg
END:VEVENT
BEGIN:VEVENT
DTSTART;TZID=Europe/London:20240220T190000
DTEND;TZID=Europe/London:20240220T190000
DTSTAMP:20260423T210052
CREATED:20240215T112337Z
LAST-MODIFIED:20240215T112433Z
UID:27703-1708455600-1708455600@onechippenham.org.uk
SUMMARY:Life Drawing
DESCRIPTION:‘The best life drawing class I’ve found in years’\nTuesday evenings – 7-9pm (also runs on Wednesday mornings 9.30 – 11.30am) Starting on January 2nd 2024!\n£99 for 6 weeks or £20 drop in – all materials\, coffee\, tea and biscuits included.\nA chance to indulge\, draw and to practice some essential drawing skills in a beautiful environment\, guided by someone with 30 years teaching experience. You’ll use a diverse range of styles and techniques that stretch you and keep you motivated to improve.\nAll while enjoying fresh coffee and meeting some other lovely local artists. You can work at your own pace and be left alone to draw if this is how you prefer to learn.\nWe look forward to meeting you.
URL:https://onechippenham.org.uk/event/life-drawing-4/2024-02-20/
LOCATION:Cause Arts Centre\, 42 The Causeway\, Chippenham\, Wiltshire\, SN15 3DD\, United Kingdom
CATEGORIES:Adults,Arts,Visual Arts
ATTACH;FMTTYPE=image/jpeg:https://onechippenham.org.uk/wp-content/uploads/2024/02/Life-Drawing-Tuesday-.jpeg
ORGANIZER;CN="Rag and Bone Arts CIC":MAILTO:ragandbonearts@gmail.com
END:VEVENT
BEGIN:VEVENT
DTSTART;TZID=Europe/London:20240223T190000
DTEND;TZID=Europe/London:20240223T204500
DTSTAMP:20260423T210052
CREATED:20240130T210514Z
LAST-MODIFIED:20240131T153303Z
UID:26653-1708714800-1708721100@onechippenham.org.uk
SUMMARY:Instant Wit! The Quick-Fire Comedy Improvisation Show
DESCRIPTION:Expect the unexpected\, smirk for the bizarre in an evening of unalloyed merriment\, courtesy of the brilliant Instant Wit – a show to make you literally wobble with laughter! \n‘A quick-fire comedy improvisation show packed full of sketches\, gags\, songs\, surreal situations\, flying packets of ‘Instant Whip’ and prizes!’ Hackney Gazette. \nCompletely improvised and directed by the audience the show is highly addictive\, interactive\, engaging & fun. Participate as much or as little you like: shout out during the show or write down suggestions in the interval to win prizes. \nRunning for over 10 years. A well developed & successful format with an established & loyal following. Brought to you by Rag and Bone Arts CIC for the fifth year – dedicated to increasing the arts provision in our town. \nFor audiences aged 12+ – BRING THE TEENS! \nEvent details: \n\nDoors Open at 6.00pm\nPerformance starts at 7.00pm and runs until 8.45pm\nTickets range from £6-12 (+ booking fee)\nBook your tickets here.\n\n  \n\nThis event is part of a three-day arts festival happening around Chippenham from the 23rd-25th February. Find out more about Chippenham Fringe Feb 2024 and the other creative and vibrant Fringe performances and activities taking place by visiting our website here. \nChippenham Fringe Feb is produced and delivered by Melt Productions in collaboration with Chippenham Borough Lands Charity (CBLC) and the Chippenham Chat group. Funding for the event is provided by Chippenham Borough Lands Charity. \n#FringeFeb24 #FringeFeb #ChippEvents
URL:https://onechippenham.org.uk/event/instant-wit-the-quick-fire-comedy-improvisation-show-2/
LOCATION:Constitutional Club\, 36 Foghamshire\, Chippenham\, SN15 1HB\, United Kingdom
CATEGORIES:Adults,Arts,Comedy,Fringe Feb,Performance,Performing Arts,Teens,Tweens,Young adults
ATTACH;FMTTYPE=image/webp:https://onechippenham.org.uk/wp-content/uploads/2024/01/Instant-Wit.webp
ORGANIZER;CN="Rag and Bone Arts CIC":MAILTO:ragandbonearts@gmail.com
END:VEVENT
BEGIN:VEVENT
DTSTART;TZID=Europe/London:20240223T190000
DTEND;TZID=Europe/London:20240223T230000
DTSTAMP:20260423T210052
CREATED:20240131T084036Z
LAST-MODIFIED:20240215T124732Z
UID:26684-1708714800-1708729200@onechippenham.org.uk
SUMMARY:Drink and Draw at 31.Co.work\, Fringe Feb
DESCRIPTION:Calling all artists\, illustrators and doodlers of Chippenham! A NEW drop in event for all you budding artists. \nWe’re launching a social evening packed full of creativity. Come along and get involved with a few drawing games\, communal doodle piece\, work on your sketchbook and collaborate with other artists. All art supplies provided\, but feel free to bring your own. \nA friendly safe space to meet other creatives and dedicate a couple of hours to having fun and getting some drawings done. No pressure\, No judgement\, all levels and abilities welcome. Come and be inspired\, informally. Bring your favourite drink\, meet other local artists and start a new creative community with us. \nThis is the launch night but we hope to run this once a month if there’s enough interest. We might even create new groups or more events once we’ve got together to chat and draw. \n\nFor ages 18+\nFrom 7:00PM to 11:00PM\nTickets bookable here.\n\n\n\n\nThis event is part of a three-day arts festival happening around Chippenham from the 23rd-25th February. Find out more about Chippenham Fringe Feb 2024 and the other creative and vibrant Fringe performances and activities taking place by visiting our website here. \nChippenham Fringe Feb is produced and delivered by Melt Productions in collaboration with Chippenham Borough Lands Charity (CBLC) and the Chippenham Chat group. Funding for the event is provided by Chippenham Borough Lands Charity. \n#FringeFeb24 #FringeFeb #ChippEvents
URL:https://onechippenham.org.uk/event/drink-and-draw-at-31-co-work-fringe-feb/
LOCATION:31.Co.work\, 31.Co.work\, Chippenham\, SN15 3HP
CATEGORIES:Adults,Arts,Fringe Feb
ATTACH;FMTTYPE=image/jpeg:https://onechippenham.org.uk/wp-content/uploads/2024/01/Drink__Draw_Poster_Launch-v2.jpg
END:VEVENT
BEGIN:VEVENT
DTSTART;TZID=Europe/London:20240224T100000
DTEND;TZID=Europe/London:20240224T163000
DTSTAMP:20260423T210052
CREATED:20240214T071915Z
LAST-MODIFIED:20240214T071915Z
UID:27679-1708768800-1708792200@onechippenham.org.uk
SUMMARY:Chippenham Community Mural
DESCRIPTION:Love to draw? Come and make your mark on our very own COMMUNITY MURAL. \nHosted by local artist Kirsty Jones\, it’s time to pick up a pen and design your very own piece of tile art to add to the collection \nThe mural is something for the local community to enjoy for years to come\, forming part of this year’s Chippenham Fringe February. \nWe’ll be situated at The Buttercross on Sat 24th between the hours of 10:00 and 16:30. \nAll welcome\, we suggest artists are over 4 years old (due to the use of permanent markers! \nCome and get involved and become a part of Chippenham’s history! \n#Chippenham #FringeFeb #GetInvolved #WhatsOn #Community #Art #Design \n  \n\nThis event is part of a three-day arts festival happening around Chippenham from the 23rd-25th February. Find out more about Chippenham Fringe Feb 2024 and the other creative and vibrant Fringe performances and activities taking place by visiting our website here. \nChippenham Fringe Feb is produced and delivered by Melt Productions in collaboration with Chippenham Borough Lands Charity (CBLC) and the Chippenham Chat group.\n \nFunding for the event is provided by Chippenham Borough Lands.
URL:https://onechippenham.org.uk/event/chippenham-community-mural-2/
LOCATION:The Buttercross\, Market Place\, Chippenham
CATEGORIES:Adults,Arts,Children,Community,Family,Family Friendly,Fringe Feb,Over 60's,Teens,Tweens,Visual Arts,Young adults
ATTACH;FMTTYPE=image/jpeg:https://onechippenham.org.uk/wp-content/uploads/2024/02/IMG_0760.jpeg
END:VEVENT
BEGIN:VEVENT
DTSTART;TZID=Europe/London:20240224T130000
DTEND;TZID=Europe/London:20240224T140000
DTSTAMP:20260423T210052
CREATED:20240131T091550Z
LAST-MODIFIED:20240131T092416Z
UID:26707-1708779600-1708783200@onechippenham.org.uk
SUMMARY:Hidden Canvases - 'Street Art and the City' A talk by Doug Gillen
DESCRIPTION:There’s more to the world of street art than Banksy – Hidden Canvases is a beginner’s guide to the biggest art movement since pop art.  \nDoug Gillen is the man behind Fifth Wall TV\, a London based production channel\, and digital platform that investigates all aspects of graffiti and street art. Originally from Scotland. He created Fifth Wall TV six years ago\, and he’s been filming and talking about the world of street art and graffiti ever since. From train writing in New York to interactive technology that brings murals to life\, the concept of un-commissioned public art is a very different beast to that which it once was. \nHidden Canvases explores the key stages in street art’s growth examining the different elements and styles that comprise the scene with no rules.   \nFrom the international superstars to the local underground heroes you’re guaranteed to leave knowing your Invader from your Aryz and who knows – you might even start looking at the world a little differently. \nBrought to you by The Arts Society Kington Langley – part of The Arts Society.  \n\nPlatinum Hall\, (please note that the Hall is on the first floor)\nTalk is 1 hour 1:00PM – 2:00PM\nTickets: £5 (+ booking fee)\nSuggested age 14+\nUnder 18’s free \nBook here. \n\n\nThis event is part of a three-day arts festival happening around Chippenham from the 23rd-25th February. Find out more about Chippenham Fringe Feb 2024 and the other creative and vibrant Fringe performances and activities taking place by visiting here. \nChippenham Fringe Feb is produced and delivered by Melt Productions in collaboration with Chippenham Borough Lands Charity (CBLC) and the Chippenham Chat group. Funding for the event is provided by Chippenham Borough Lands Charity. \n#FringeFeb24 #FringeFeb #ChippEvents
URL:https://onechippenham.org.uk/event/hidden-canvases-street-art-and-the-city-a-talk-by-doug-gillen/
LOCATION:Platinum House\, Chippenham\, 35 Market Place\, Chippenham\, Wiltshire\, SN15 3HT\, United Kingdom
CATEGORIES:Adults,Arts,Fringe Feb,Teens,Young adults
ATTACH;FMTTYPE=image/webp:https://onechippenham.org.uk/wp-content/uploads/2024/01/IMG_0380.webp
ORGANIZER;CN="The Arts Society Kington Langley":MAILTO:heather.artssociety@gmail.com
END:VEVENT
BEGIN:VEVENT
DTSTART;TZID=Europe/London:20240224T143000
DTEND;TZID=Europe/London:20240224T163000
DTSTAMP:20260423T210052
CREATED:20240210T082523Z
LAST-MODIFIED:20240218T102019Z
UID:27318-1708785000-1708792200@onechippenham.org.uk
SUMMARY:Poetry Workshop
DESCRIPTION:Come along and celebrate Fringe Feb! \nJoin us for an afternoon poetry workshop with local poet\, Nigel Linacre. Places are limited\, so book early to avoid missing out. \nFor further information or booking\, please pop into Chippenham Library or call us on 01249 650536 \n\nThis event is part of a three-day arts festival happening around Chippenham from the 23rd-25th February. Find out more about Chippenham Fringe Feb 2024 and the other creative and vibrant Fringe performances and activities taking place by visiting here. \nChippenham Fringe Feb is produced and delivered by Melt Productions in collaboration with Chippenham Borough Lands Charity (CBLC) and the Chippenham Chat group. Funding for the event is provided by Chippenham Borough Lands Charity. \n#FringeFeb24 #FringeFeb #ChippEvents
URL:https://onechippenham.org.uk/event/poetry-workshop/
LOCATION:Chippenham Library
CATEGORIES:Adults,Arts,Books/poetry,Community,Creative Writing,Teens
ATTACH;FMTTYPE=image/png:https://onechippenham.org.uk/wp-content/uploads/2024/02/25.png
END:VEVENT
BEGIN:VEVENT
DTSTART;TZID=Europe/London:20240224T150000
DTEND;TZID=Europe/London:20240224T160000
DTSTAMP:20260423T210052
CREATED:20240130T215628Z
LAST-MODIFIED:20240130T221526Z
UID:26665-1708786800-1708790400@onechippenham.org.uk
SUMMARY:'Steppin' Thru Time'\, Fringe Feb
DESCRIPTION:Mary Lou Revue\, a vintage song and dance duo presents ‘Steppin’ Thru Time’; a celebration of music and stars from the 1930s through to the 1970s. \n\nThe show\, featuring classic songs made famous by Frank Sinatra\, Louis Armstrong\, Tom Jones\, Ella Fitzgerald\, Peggy Lee and the Mammas and Papas\, will have you tapping your toes and singing along. \nWith timeless melodies and nifty dance moves\, there’s something for all ages. Guaranteed to put a spring in your step and a song in your heart. \n\nDoors Open 2.30pm\, with the performance running from 3-4pm\nTickets £5 (+ booking fee)\nBook tickets here: https://www.ticketsource.co.uk/chippenhamchat/t-earxvzy\n\n\nThis event is part of a three-day arts festival happening around Chippenham from the 23rd-25th February. Find out more about Chippenham Fringe Feb 2024 and the other creative and vibrant Fringe performances and activities taking place by visiting our website here. \nChippenham Fringe Feb is produced and delivered by Melt Productions in collaboration with Chippenham Borough Lands Charity (CBLC) and the Chippenham Chat group. Funding for the event is provided by Chippenham Borough Lands Charity. \n#FringeFeb24 #FringeFeb #ChippEvents \n 
URL:https://onechippenham.org.uk/event/steppin-thru-time-fringe-feb/
LOCATION:The Yelde Hall
CATEGORIES:Adults,Arts,Dance,Family Friendly,Fringe Feb,Music,Over 60's,Performance,Performing Arts
ATTACH;FMTTYPE=image/png:https://onechippenham.org.uk/wp-content/uploads/2024/01/Mary-Lou-Revue.png
END:VEVENT
BEGIN:VEVENT
DTSTART;TZID=Europe/London:20240225T133000
DTEND;TZID=Europe/London:20240225T140000
DTSTAMP:20260423T210052
CREATED:20240212T110637Z
LAST-MODIFIED:20240214T144109Z
UID:27440-1708867800-1708869600@onechippenham.org.uk
SUMMARY:SPACE ROCKS: Mini Mission
DESCRIPTION:You are in mission control\, monitoring the re-entry of the space probe FringeFeb\, which is returning from the edge of the solar system. Will the probe return safely? What will you find when you open it? Has it brought back alien life? \nJoin space communicator and ESERO-uk Space Ambassador Paul Hill\, and explore space. Get involved in a hands-on\, interactive show which brings space science to your fingertips. \nFamily theatre\nFREE EVENT \n1.30-2pm at The Buttercross (in case of wet weather indoors location TBC) \n3-3.30pm at Waterstones \n\nThis event is part of a three-day arts festival happening around Chippenham from the 23rd-25th February. Find out more about Chippenham Fringe Feb 2024 and the other creative and vibrant Fringe performances and activities taking place by visiting our website here. \nChippenham Fringe Feb is produced and delivered by Melt Productions in collaboration with Chippenham Borough Lands Charity (CBLC) and the Chippenham Chat group. Funding for the event is provided by Chippenham Borough Lands Charity. \n#FringeFeb24 #FringeFeb #ChippEvent
URL:https://onechippenham.org.uk/event/space-rocks-mini-mission/2024-02-25/
CATEGORIES:Arts,Children,Family,Family Friendly,Fringe Feb,Indoor,Performing Arts
ATTACH;FMTTYPE=image/png:https://onechippenham.org.uk/wp-content/uploads/2024/02/Space-Rocks-Mini-Missions.png
END:VEVENT
BEGIN:VEVENT
DTSTART;TZID=Europe/London:20240225T143000
DTEND;TZID=Europe/London:20240225T163000
DTSTAMP:20260423T210052
CREATED:20240215T161918Z
LAST-MODIFIED:20240215T163041Z
UID:27774-1708871400-1708878600@onechippenham.org.uk
SUMMARY:Poetry Workshop
DESCRIPTION:Come along and write a poem – you don’t have to have experience but if you do you might pick up some tips and inspiration. Bring yourself\, a pen and a notebook\, then relax\, listen and write.\n\nYour host\, Nigel Linacre is a published poet\, whose works include Time & Again\, The Great War Poem and the lyrics for the Grief Opera\, recently performed locally. For further information or booking\, please pop into Chippenham Library or call us on 01249 650536 \n\n Places are limited\, so book early to avoid missing out.\n\n\n\nThis event is part of a three-day arts festival happening around Chippenham from the 23rd-25th February. Find out more about Chippenham Fringe Feb 2024 and the other creative and vibrant Fringe performances and activities taking place by visiting here. \nChippenham Fringe Feb is produced and delivered by Melt Productions in collaboration with Chippenham Borough Lands Charity (CBLC) and the Chippenham Chat group. Funding for the event is provided by Chippenham Borough Lands Charity. \n#FringeFeb24 #FringeFeb #ChippEvents
URL:https://onechippenham.org.uk/event/poetry-workshop-2/
LOCATION:Chippenham Library
CATEGORIES:Arts,Workshop
ATTACH;FMTTYPE=image/jpeg:https://onechippenham.org.uk/wp-content/uploads/2024/02/421941893_784309830407208_8117633052753258970_n.jpeg
END:VEVENT
BEGIN:VEVENT
DTSTART;TZID=Europe/London:20240225T160000
DTEND;TZID=Europe/London:20240225T170000
DTSTAMP:20260423T210052
CREATED:20240131T100347Z
LAST-MODIFIED:20240215T114735Z
UID:26696-1708876800-1708880400@onechippenham.org.uk
SUMMARY:aKa Dance Theatre present Shed-ache\, Fringe Feb
DESCRIPTION:Be prepared to be blown away by aKa’s brand new family friendly show which is bright and sunny! \nToday’s forecast includes brisk boogying\, severe silliness and spells of confetti showers.With extreme movement travelling in all directions\, we predict joy spreading across large areas. \nYou’ll need to hold on to your hats\, as we foresee a high chance of slapstick\, with all predictions pointing towards it raining snacks and socks. \nUnpredictable and unusual conditions prompt us to travel hand in hand as we join together to soak up the silly.   \nWith 100% chance of laughter you’ll be reminded of the importance of embracing experiences whatever the weather. \n\nAimed at 3-8yrs but older and younger children very welcome \nTickets – on the door £5-7\, but pre-book in advance for £5 here\n\n  \n\nThis event is part of a three-day arts festival happening around Chippenham from the 23rd-25th February. Find out more about Chippenham Fringe Feb 2024 and the other creative and vibrant Fringe performances and activities taking place by visiting here. \nChippenham Fringe Feb is produced and delivered by Melt Productions in collaboration with Chippenham Borough Lands Charity (CBLC) and the Chippenham Chat group. Funding for the event is provided by Chippenham Borough Lands Charity. \n#FringeFeb24 #FringeFeb #ChippEvents
URL:https://onechippenham.org.uk/event/aka-dance-theatre-present-shed-ache-fringe-feb/
LOCATION:Constitutional Club\, 36 Foghamshire\, Chippenham\, SN15 1HB\, United Kingdom
CATEGORIES:Arts,Children,Dance,Family Friendly,Fringe Feb,Performance,Performing Arts,Pre-school,Primary age children,Theatre
ATTACH;FMTTYPE=image/webp:https://onechippenham.org.uk/wp-content/uploads/2024/01/IMG_0374.webp
END:VEVENT
BEGIN:VEVENT
DTSTART;TZID=Europe/London:20240225T193000
DTEND;TZID=Europe/London:20240225T204000
DTSTAMP:20260423T210052
CREATED:20240130T223628Z
LAST-MODIFIED:20240215T104106Z
UID:26675-1708889400-1708893600@onechippenham.org.uk
SUMMARY:ELVIS IN BLUE HAWAII! Fringe Feb
DESCRIPTION:Spitz & Co presents – ELVIS IN BLUE HAWAII! \nDetermined to give Oscar-nominated Austin Butler a run for his money\, award-winning Elvis impersonator Joe Reeve stars in his own version of the classic Elvis film “Blue Hawaii”. His long-time tour manager Josephine Cunningham is there to keep the show on the road … next stop Vegas! \nA musical which will leave you all shook up. So dig out your best Hawaiian shirt and escape to Paradise! Expect the usual mayhem and lots of audience interaction\, plus all your favourite Elvis songs. \nFrom the creators of “Gloriator”\, “Glorilla’\, and “Les Gloriables”. \nOriginal\, witty and great fun! An appreciative Chedworth audience once again filled our Village Hall with hoots of laughter. Spitz & Co have done it again(Event organiser) \nAn absolutely brlliant show!!! I laughed until I cried!!! (Audience member) \nDevised and performed by Susie Donkin and Joe Reeve. Directed by Greg Banks \, Angus Barr and Rina Vergano. Designed by Sue Condie. \nTickets \n\n£6-£14.00 on the door\nBooked in advance all tickets £6  – available to book here.\n\n\nThis event is part of a three-day arts festival happening around Chippenham from the 23rd-25th February. Find out more about Chippenham Fringe Feb 2024 and the other creative and vibrant Fringe performances and activities taking place by visiting our website here. \nChippenham Fringe Feb is produced and delivered by Melt Productions in collaboration with Chippenham Borough Lands Charity (CBLC) and the Chippenham Chat group. Funding for the event is provided by Chippenham Borough Lands Charity. \n#FringeFeb24 #FringeFeb #ChippEvents
URL:https://onechippenham.org.uk/event/elvis-in-blue-hawaii-fringe-feb/
LOCATION:King Alfred Hall\, Market Place\, Chippenham\, SN15 3HT
CATEGORIES:Adults,Arts,Family Friendly,Fringe Feb,Performance,Performing Arts,Teens,Young adults
ATTACH;FMTTYPE=image/jpeg:https://onechippenham.org.uk/wp-content/uploads/2024/01/Copy-of-EiBH.jpeg
END:VEVENT
END:VCALENDAR