BEGIN:VCALENDAR
VERSION:2.0
PRODID:-//One Chippenham - ECPv6.15.20//NONSGML v1.0//EN
CALSCALE:GREGORIAN
METHOD:PUBLISH
X-WR-CALNAME:One Chippenham
X-ORIGINAL-URL:https://onechippenham.org.uk
X-WR-CALDESC:Events for One Chippenham
REFRESH-INTERVAL;VALUE=DURATION:PT1H
X-Robots-Tag:noindex
X-PUBLISHED-TTL:PT1H
BEGIN:VTIMEZONE
TZID:Europe/London
BEGIN:DAYLIGHT
TZOFFSETFROM:+0000
TZOFFSETTO:+0100
TZNAME:BST
DTSTART:20230326T010000
END:DAYLIGHT
BEGIN:STANDARD
TZOFFSETFROM:+0100
TZOFFSETTO:+0000
TZNAME:GMT
DTSTART:20231029T010000
END:STANDARD
BEGIN:DAYLIGHT
TZOFFSETFROM:+0000
TZOFFSETTO:+0100
TZNAME:BST
DTSTART:20240331T010000
END:DAYLIGHT
BEGIN:STANDARD
TZOFFSETFROM:+0100
TZOFFSETTO:+0000
TZNAME:GMT
DTSTART:20241027T010000
END:STANDARD
BEGIN:DAYLIGHT
TZOFFSETFROM:+0000
TZOFFSETTO:+0100
TZNAME:BST
DTSTART:20250330T010000
END:DAYLIGHT
BEGIN:STANDARD
TZOFFSETFROM:+0100
TZOFFSETTO:+0000
TZNAME:GMT
DTSTART:20251026T010000
END:STANDARD
END:VTIMEZONE
BEGIN:VEVENT
DTSTART;TZID=Europe/London:20240330T100000
DTEND;TZID=Europe/London:20240511T160000
DTSTAMP:20260420T044041
CREATED:20240314T175253Z
LAST-MODIFIED:20240329T091923Z
UID:28241-1711792800-1715443200@onechippenham.org.uk
SUMMARY:Sindy 60th Anniversary Exhibition
DESCRIPTION:30 March – 11 May \nStep into Spring with the Diamond anniversary celebrations of Sindy\, curated by local collectors Karen Colley and Bonita Turner. \nOpening Times:\nMonday – Saturday\n10am – 4pm
URL:https://onechippenham.org.uk/event/sindy-60th-anniversary-exhibition/
LOCATION:Chippenham Museum\, 9-10 Market Pl\, Chippenham\, SN15 3HF\, United Kingdom
CATEGORIES:Arts,Exhibition,Museum
ATTACH;FMTTYPE=image/jpeg:https://onechippenham.org.uk/wp-content/uploads/2024/03/Sindy-Exhibition-Instagram-Post.jpg
ORGANIZER;CN="Chippenham Museum":MAILTO:heritage@chippenham.gov.uk
END:VEVENT
BEGIN:VEVENT
DTSTART;TZID=Europe/London:20240501T173000
DTEND;TZID=Europe/London:20240501T190000
DTSTAMP:20260420T044041
CREATED:20240303T203858Z
LAST-MODIFIED:20240303T203858Z
UID:28099-1714584600-1714590000@onechippenham.org.uk
SUMMARY:Teen Art and Design
DESCRIPTION:Join our artist Charlie to learn to help design new pieces and work collaboratively\, while listening to music and eating biscuits! \nWe work in 10 week blocks\, but you can enrol for 5 at a time. Our team of designers have created work for stage and events and learn to create work to adorn the streets of Chippenham and buildings. \nCharlie has been working in education and visual arts for nearly 30 years and is a working artist and set designer. \nThere’s a new focus each term and we’ll be asking for your input so that the ideas are yours. \nKindly supported by Kington Langley artists and Wiltshire Council’s Area Board\, paying for our materials and helping us keep our sessions affordable and high quality. \n10 week block – £120 \n5 weeks – £65 \nVisit www.ragandbonearts.com to book in.
URL:https://onechippenham.org.uk/event/teen-art-and-design/2024-05-01/
LOCATION:St Pauls church hall\, Malmesbury rd\, Malmesbury Rd\, Chippenham\, SN15 1PW\, United Kingdom
CATEGORIES:Arts,Community,Teens,Visual Arts
ATTACH;FMTTYPE=image/jpeg:https://onechippenham.org.uk/wp-content/uploads/2024/02/Dodecahedron.jpeg
ORGANIZER;CN="Rag and Bone Arts CIC":MAILTO:ragandbonearts@gmail.com
END:VEVENT
BEGIN:VEVENT
DTSTART;TZID=Europe/London:20240501T190000
DTEND;TZID=Europe/London:20240501T210000
DTSTAMP:20260420T044041
CREATED:20240228T233849Z
LAST-MODIFIED:20240228T234010Z
UID:27979-1714590000-1714597200@onechippenham.org.uk
SUMMARY:Chippenham Museum Creative Writing Group - Maud's Way
DESCRIPTION:Maud’s Way \nFirst Wednesday of the month\n3 April to 4 September\, 7pm – 9pm\nFree\, spaces limited \nJoin Chippenham Museum’s Creative Writing Group and take part in our new series of 6 linked writing workshops led by local writer and facilitator Ruth Hill. \nInspired by the 550th anniversary of Maud Heath’s Causeway and the Museum’s summer exhibition\, Re-imagining Maud Heath\, discover how Maud and her Causeway has been celebrated by artists\, writers\, and everyday people across the centuries. Explore the stories surrounding Maud Heath and consider how local myths and legends begin and grow over time. \nOver the 6 months\, explore\, discover\, share and create your own local stories and perhaps some of these will develop into longstanding legends which will be told for years to come! \nThese sessions are suitable for beginners to experienced writers and will culminate with performed readings as part of the Maud’s Way Heritage Open Day’s events in September. \nGroup meets on the first Wednesday of the month at Chippenham Museum. \nWorkshops are free but spaces are limited. Email heritage@chippenham.gov.uk to reserve your place.
URL:https://onechippenham.org.uk/event/chippenham-museum-creative-writing-group-mauds-way/2024-05-01/
LOCATION:Chippenham Museum\, 9-10 Market Pl\, Chippenham\, SN15 3HF\, United Kingdom
CATEGORIES:Arts,Creative Writing
ATTACH;FMTTYPE=image/png:https://onechippenham.org.uk/wp-content/uploads/2024/02/Mauds-Way-Facebook-Event-Post.png
ORGANIZER;CN="Chippenham Museum":MAILTO:heritage@chippenham.gov.uk
END:VEVENT
BEGIN:VEVENT
DTSTART;TZID=Europe/London:20240502T200000
DTEND;TZID=Europe/London:20240502T213000
DTSTAMP:20260420T044041
CREATED:20231208T180431Z
LAST-MODIFIED:20231208T180431Z
UID:24612-1714680000-1714685400@onechippenham.org.uk
SUMMARY:PSG Choirs
DESCRIPTION:This lively and popular choir meet on Thursday’s at 8:30pm at the King Alfred Hall. We sing a wide range of Pop\, Soul and Gospel arrangements. New members are always welcome. Please get in touch if you would like to come along to a free taster session. \nFind out more – www.psgchoirs.co.uk \n 
URL:https://onechippenham.org.uk/event/psg-choirs/2024-05-02/
LOCATION:King Alfred Hall\, Market Place\, Chippenham\, SN15 3HT
CATEGORIES:Adults,Arts,Music,Singing
ATTACH;FMTTYPE=image/png:https://onechippenham.org.uk/wp-content/uploads/2023/12/4.png
END:VEVENT
BEGIN:VEVENT
DTSTART;TZID=Europe/London:20240507T093000
DTEND;TZID=Europe/London:20240507T113000
DTSTAMP:20260420T044041
CREATED:20240303T202547Z
LAST-MODIFIED:20240303T202547Z
UID:28080-1715074200-1715081400@onechippenham.org.uk
SUMMARY:Beginners Arts workshops
DESCRIPTION:Join Charlie for another of our incredibly popular 6 week courses in everything from portraiture to colour for the beginner\, or someone who wants to work at a slower pace (check our website for details of the next 6 weeks). \nA beautiful venue\, experienced tutor and fresh coffee – come and indulge with other lovely local budding artists. \nEnjoy learning from a passionate and experienced artist and make some new friends along the way. \nPlease book in via the website\, then pay by balance transfer to keep our costs affordable for you – www.ragandbonearts.com \n£96 for 6 weeks – all materials\, coffee\, tea and biscuits supplied (donations tin available to help with refreshments) \nWe look forward to meeting you in February 2024. Feel free to get in touch with any questions.
URL:https://onechippenham.org.uk/event/beginners-arts-workshops/2024-05-07/
LOCATION:The Cause Music and Arts Centre\, 42 The Causeway\, Chippenham\, Wiltshire\, SN15 3DD\, United Kingdom
CATEGORIES:Adults,Arts,Visual Arts,Workshop
ATTACH;FMTTYPE=image/jpeg:https://onechippenham.org.uk/wp-content/uploads/2024/02/Colour-photo-.jpeg
ORGANIZER;CN="Rag and Bone Arts CIC":MAILTO:ragandbonearts@gmail.com
END:VEVENT
BEGIN:VEVENT
DTSTART;TZID=Europe/London:20240507T123000
DTEND;TZID=Europe/London:20240507T143000
DTSTAMP:20260420T044041
CREATED:20240408T183142Z
LAST-MODIFIED:20240408T183142Z
UID:29065-1715085000-1715092200@onechippenham.org.uk
SUMMARY:Improvers Art
DESCRIPTION:“A friendly place to learn from experienced people” \nJoin Charlie for another (incredibly popular) 6 week course in landscape for the improver. \nCome along and paint in a beautiful\, inspiring venue alongside other local budding artists. Enjoy learning from an experienced artist and make some new friends along the way. \nPlease book in via our website\, then pay by balance transfer to keep our costs affordable for you www.ragandbonearts.com \nTerms cost £96 and include all materials and coffee – we ask for a small donation to help with the cost of drinks and biscuits. \nIf you have any questions\, feel free to get in touch. We look forward to meeting you soon.
URL:https://onechippenham.org.uk/event/improvers-art-2/2024-05-07/
LOCATION:The Cause Music and Arts Centre\, 42 The Causeway\, Chippenham\, Wiltshire\, SN15 3DD\, United Kingdom
CATEGORIES:Adults,Arts,Workshop
ATTACH;FMTTYPE=image/jpeg:https://onechippenham.org.uk/wp-content/uploads/2024/04/6E7F1118-BDCE-4B00-9D1D-486E4D45AECF.jpeg
ORGANIZER;CN="Rag and Bone Arts CIC":MAILTO:ragandbonearts@gmail.com
END:VEVENT
BEGIN:VEVENT
DTSTART;TZID=Europe/London:20240508T173000
DTEND;TZID=Europe/London:20240508T190000
DTSTAMP:20260420T044041
CREATED:20240303T203858Z
LAST-MODIFIED:20240303T203858Z
UID:28100-1715189400-1715194800@onechippenham.org.uk
SUMMARY:Teen Art and Design
DESCRIPTION:Join our artist Charlie to learn to help design new pieces and work collaboratively\, while listening to music and eating biscuits! \nWe work in 10 week blocks\, but you can enrol for 5 at a time. Our team of designers have created work for stage and events and learn to create work to adorn the streets of Chippenham and buildings. \nCharlie has been working in education and visual arts for nearly 30 years and is a working artist and set designer. \nThere’s a new focus each term and we’ll be asking for your input so that the ideas are yours. \nKindly supported by Kington Langley artists and Wiltshire Council’s Area Board\, paying for our materials and helping us keep our sessions affordable and high quality. \n10 week block – £120 \n5 weeks – £65 \nVisit www.ragandbonearts.com to book in.
URL:https://onechippenham.org.uk/event/teen-art-and-design/2024-05-08/
LOCATION:St Pauls church hall\, Malmesbury rd\, Malmesbury Rd\, Chippenham\, SN15 1PW\, United Kingdom
CATEGORIES:Arts,Community,Teens,Visual Arts
ATTACH;FMTTYPE=image/jpeg:https://onechippenham.org.uk/wp-content/uploads/2024/02/Dodecahedron.jpeg
ORGANIZER;CN="Rag and Bone Arts CIC":MAILTO:ragandbonearts@gmail.com
END:VEVENT
BEGIN:VEVENT
DTSTART;TZID=Europe/London:20240509T200000
DTEND;TZID=Europe/London:20240509T213000
DTSTAMP:20260420T044041
CREATED:20231208T180432Z
LAST-MODIFIED:20231208T180432Z
UID:24613-1715284800-1715290200@onechippenham.org.uk
SUMMARY:PSG Choirs
DESCRIPTION:This lively and popular choir meet on Thursday’s at 8:30pm at the King Alfred Hall. We sing a wide range of Pop\, Soul and Gospel arrangements. New members are always welcome. Please get in touch if you would like to come along to a free taster session. \nFind out more – www.psgchoirs.co.uk \n 
URL:https://onechippenham.org.uk/event/psg-choirs/2024-05-09/
LOCATION:King Alfred Hall\, Market Place\, Chippenham\, SN15 3HT
CATEGORIES:Adults,Arts,Music,Singing
ATTACH;FMTTYPE=image/png:https://onechippenham.org.uk/wp-content/uploads/2023/12/4.png
END:VEVENT
BEGIN:VEVENT
DTSTART;TZID=Europe/London:20240513T190000
DTEND;TZID=Europe/London:20240513T220000
DTSTAMP:20260420T044041
CREATED:20240504T085946Z
LAST-MODIFIED:20240504T085946Z
UID:29904-1715626800-1715637600@onechippenham.org.uk
SUMMARY:Michael Bowyer MBE - Twixt Spring and Summer
DESCRIPTION:Chippenham Flower Club is honoured to host Michael Bowyer\, MBE as he performs his floral demonstration ‘Twixt Spring and Summer’. \nMichael is a NAFAS demonstrator\, judge and president of the South West Area of NAFAS. He is known as the David Beckham of Flower Arranging\, admired and respected for his floral art. He supervises the arrangements at Salisbury Cathedral and was in charge of two pedestal at Westminster Abbey for the funeral of our late Queen. \nMichael is joining us on 13th May at Sheldon School Hall. This promises to be an enjoyable evening\, apart from Michael’s demonstration we have our popular Plant Stall\, Bring and Buy stall and our Sales Stall\, as well as refreshments. As always there is a raffle where for £1.00 a strip of tickets you could win one of Michael’s displays. \nMembers are free\nVisitors – £6.00\nAccompanied children are welcome.\nDoors open at 6.45pm
URL:https://onechippenham.org.uk/event/michael-bowyer-mbe-twixt-spring-and-summer/
LOCATION:Sheldon School Dance Studio\, Sheldon School\, Hardenhuish Lane\, Chippenham\, Wiltshire\, SN14 6HJ\, United Kingdom
CATEGORIES:Arts,Charity,Community,Crafts,Education,Flower Arranging,Wildlife/nature
ATTACH;FMTTYPE=image/png:https://onechippenham.org.uk/wp-content/uploads/2024/05/Michael-Bowyer-.png
ORGANIZER;CN="Chippenham Flower Club":MAILTO:elizabeth@stonehayes.com
END:VEVENT
BEGIN:VEVENT
DTSTART;TZID=Europe/London:20240514T093000
DTEND;TZID=Europe/London:20240514T113000
DTSTAMP:20260420T044041
CREATED:20240303T202547Z
LAST-MODIFIED:20240303T202547Z
UID:28081-1715679000-1715686200@onechippenham.org.uk
SUMMARY:Beginners Arts workshops
DESCRIPTION:Join Charlie for another of our incredibly popular 6 week courses in everything from portraiture to colour for the beginner\, or someone who wants to work at a slower pace (check our website for details of the next 6 weeks). \nA beautiful venue\, experienced tutor and fresh coffee – come and indulge with other lovely local budding artists. \nEnjoy learning from a passionate and experienced artist and make some new friends along the way. \nPlease book in via the website\, then pay by balance transfer to keep our costs affordable for you – www.ragandbonearts.com \n£96 for 6 weeks – all materials\, coffee\, tea and biscuits supplied (donations tin available to help with refreshments) \nWe look forward to meeting you in February 2024. Feel free to get in touch with any questions.
URL:https://onechippenham.org.uk/event/beginners-arts-workshops/2024-05-14/
LOCATION:The Cause Music and Arts Centre\, 42 The Causeway\, Chippenham\, Wiltshire\, SN15 3DD\, United Kingdom
CATEGORIES:Adults,Arts,Visual Arts,Workshop
ATTACH;FMTTYPE=image/jpeg:https://onechippenham.org.uk/wp-content/uploads/2024/02/Colour-photo-.jpeg
ORGANIZER;CN="Rag and Bone Arts CIC":MAILTO:ragandbonearts@gmail.com
END:VEVENT
BEGIN:VEVENT
DTSTART;TZID=Europe/London:20240514T123000
DTEND;TZID=Europe/London:20240514T143000
DTSTAMP:20260420T044041
CREATED:20240408T183143Z
LAST-MODIFIED:20240408T183143Z
UID:29066-1715689800-1715697000@onechippenham.org.uk
SUMMARY:Improvers Art
DESCRIPTION:“A friendly place to learn from experienced people” \nJoin Charlie for another (incredibly popular) 6 week course in landscape for the improver. \nCome along and paint in a beautiful\, inspiring venue alongside other local budding artists. Enjoy learning from an experienced artist and make some new friends along the way. \nPlease book in via our website\, then pay by balance transfer to keep our costs affordable for you www.ragandbonearts.com \nTerms cost £96 and include all materials and coffee – we ask for a small donation to help with the cost of drinks and biscuits. \nIf you have any questions\, feel free to get in touch. We look forward to meeting you soon.
URL:https://onechippenham.org.uk/event/improvers-art-2/2024-05-14/
LOCATION:The Cause Music and Arts Centre\, 42 The Causeway\, Chippenham\, Wiltshire\, SN15 3DD\, United Kingdom
CATEGORIES:Adults,Arts,Workshop
ATTACH;FMTTYPE=image/jpeg:https://onechippenham.org.uk/wp-content/uploads/2024/04/6E7F1118-BDCE-4B00-9D1D-486E4D45AECF.jpeg
ORGANIZER;CN="Rag and Bone Arts CIC":MAILTO:ragandbonearts@gmail.com
END:VEVENT
BEGIN:VEVENT
DTSTART;TZID=Europe/London:20240515T173000
DTEND;TZID=Europe/London:20240515T190000
DTSTAMP:20260420T044041
CREATED:20240303T203858Z
LAST-MODIFIED:20240303T203858Z
UID:28101-1715794200-1715799600@onechippenham.org.uk
SUMMARY:Teen Art and Design
DESCRIPTION:Join our artist Charlie to learn to help design new pieces and work collaboratively\, while listening to music and eating biscuits! \nWe work in 10 week blocks\, but you can enrol for 5 at a time. Our team of designers have created work for stage and events and learn to create work to adorn the streets of Chippenham and buildings. \nCharlie has been working in education and visual arts for nearly 30 years and is a working artist and set designer. \nThere’s a new focus each term and we’ll be asking for your input so that the ideas are yours. \nKindly supported by Kington Langley artists and Wiltshire Council’s Area Board\, paying for our materials and helping us keep our sessions affordable and high quality. \n10 week block – £120 \n5 weeks – £65 \nVisit www.ragandbonearts.com to book in.
URL:https://onechippenham.org.uk/event/teen-art-and-design/2024-05-15/
LOCATION:St Pauls church hall\, Malmesbury rd\, Malmesbury Rd\, Chippenham\, SN15 1PW\, United Kingdom
CATEGORIES:Arts,Community,Teens,Visual Arts
ATTACH;FMTTYPE=image/jpeg:https://onechippenham.org.uk/wp-content/uploads/2024/02/Dodecahedron.jpeg
ORGANIZER;CN="Rag and Bone Arts CIC":MAILTO:ragandbonearts@gmail.com
END:VEVENT
BEGIN:VEVENT
DTSTART;TZID=Europe/London:20240516T200000
DTEND;TZID=Europe/London:20240516T213000
DTSTAMP:20260420T044041
CREATED:20231208T180432Z
LAST-MODIFIED:20231208T180432Z
UID:24614-1715889600-1715895000@onechippenham.org.uk
SUMMARY:PSG Choirs
DESCRIPTION:This lively and popular choir meet on Thursday’s at 8:30pm at the King Alfred Hall. We sing a wide range of Pop\, Soul and Gospel arrangements. New members are always welcome. Please get in touch if you would like to come along to a free taster session. \nFind out more – www.psgchoirs.co.uk \n 
URL:https://onechippenham.org.uk/event/psg-choirs/2024-05-16/
LOCATION:King Alfred Hall\, Market Place\, Chippenham\, SN15 3HT
CATEGORIES:Adults,Arts,Music,Singing
ATTACH;FMTTYPE=image/png:https://onechippenham.org.uk/wp-content/uploads/2023/12/4.png
END:VEVENT
BEGIN:VEVENT
DTSTART;TZID=Europe/London:20240521T093000
DTEND;TZID=Europe/London:20240521T113000
DTSTAMP:20260420T044041
CREATED:20240303T202547Z
LAST-MODIFIED:20240303T202547Z
UID:28082-1716283800-1716291000@onechippenham.org.uk
SUMMARY:Beginners Arts workshops
DESCRIPTION:Join Charlie for another of our incredibly popular 6 week courses in everything from portraiture to colour for the beginner\, or someone who wants to work at a slower pace (check our website for details of the next 6 weeks). \nA beautiful venue\, experienced tutor and fresh coffee – come and indulge with other lovely local budding artists. \nEnjoy learning from a passionate and experienced artist and make some new friends along the way. \nPlease book in via the website\, then pay by balance transfer to keep our costs affordable for you – www.ragandbonearts.com \n£96 for 6 weeks – all materials\, coffee\, tea and biscuits supplied (donations tin available to help with refreshments) \nWe look forward to meeting you in February 2024. Feel free to get in touch with any questions.
URL:https://onechippenham.org.uk/event/beginners-arts-workshops/2024-05-21/
LOCATION:The Cause Music and Arts Centre\, 42 The Causeway\, Chippenham\, Wiltshire\, SN15 3DD\, United Kingdom
CATEGORIES:Adults,Arts,Visual Arts,Workshop
ATTACH;FMTTYPE=image/jpeg:https://onechippenham.org.uk/wp-content/uploads/2024/02/Colour-photo-.jpeg
ORGANIZER;CN="Rag and Bone Arts CIC":MAILTO:ragandbonearts@gmail.com
END:VEVENT
BEGIN:VEVENT
DTSTART;TZID=Europe/London:20240521T123000
DTEND;TZID=Europe/London:20240521T143000
DTSTAMP:20260420T044041
CREATED:20240408T183143Z
LAST-MODIFIED:20240408T183143Z
UID:29067-1716294600-1716301800@onechippenham.org.uk
SUMMARY:Improvers Art
DESCRIPTION:“A friendly place to learn from experienced people” \nJoin Charlie for another (incredibly popular) 6 week course in landscape for the improver. \nCome along and paint in a beautiful\, inspiring venue alongside other local budding artists. Enjoy learning from an experienced artist and make some new friends along the way. \nPlease book in via our website\, then pay by balance transfer to keep our costs affordable for you www.ragandbonearts.com \nTerms cost £96 and include all materials and coffee – we ask for a small donation to help with the cost of drinks and biscuits. \nIf you have any questions\, feel free to get in touch. We look forward to meeting you soon.
URL:https://onechippenham.org.uk/event/improvers-art-2/2024-05-21/
LOCATION:The Cause Music and Arts Centre\, 42 The Causeway\, Chippenham\, Wiltshire\, SN15 3DD\, United Kingdom
CATEGORIES:Adults,Arts,Workshop
ATTACH;FMTTYPE=image/jpeg:https://onechippenham.org.uk/wp-content/uploads/2024/04/6E7F1118-BDCE-4B00-9D1D-486E4D45AECF.jpeg
ORGANIZER;CN="Rag and Bone Arts CIC":MAILTO:ragandbonearts@gmail.com
END:VEVENT
BEGIN:VEVENT
DTSTART;TZID=Europe/London:20240522T173000
DTEND;TZID=Europe/London:20240522T190000
DTSTAMP:20260420T044041
CREATED:20240303T203858Z
LAST-MODIFIED:20240303T203858Z
UID:28102-1716399000-1716404400@onechippenham.org.uk
SUMMARY:Teen Art and Design
DESCRIPTION:Join our artist Charlie to learn to help design new pieces and work collaboratively\, while listening to music and eating biscuits! \nWe work in 10 week blocks\, but you can enrol for 5 at a time. Our team of designers have created work for stage and events and learn to create work to adorn the streets of Chippenham and buildings. \nCharlie has been working in education and visual arts for nearly 30 years and is a working artist and set designer. \nThere’s a new focus each term and we’ll be asking for your input so that the ideas are yours. \nKindly supported by Kington Langley artists and Wiltshire Council’s Area Board\, paying for our materials and helping us keep our sessions affordable and high quality. \n10 week block – £120 \n5 weeks – £65 \nVisit www.ragandbonearts.com to book in.
URL:https://onechippenham.org.uk/event/teen-art-and-design/2024-05-22/
LOCATION:St Pauls church hall\, Malmesbury rd\, Malmesbury Rd\, Chippenham\, SN15 1PW\, United Kingdom
CATEGORIES:Arts,Community,Teens,Visual Arts
ATTACH;FMTTYPE=image/jpeg:https://onechippenham.org.uk/wp-content/uploads/2024/02/Dodecahedron.jpeg
ORGANIZER;CN="Rag and Bone Arts CIC":MAILTO:ragandbonearts@gmail.com
END:VEVENT
BEGIN:VEVENT
DTSTART;TZID=Europe/London:20240528T093000
DTEND;TZID=Europe/London:20240528T113000
DTSTAMP:20260420T044041
CREATED:20240303T202547Z
LAST-MODIFIED:20240303T202547Z
UID:28083-1716888600-1716895800@onechippenham.org.uk
SUMMARY:Beginners Arts workshops
DESCRIPTION:Join Charlie for another of our incredibly popular 6 week courses in everything from portraiture to colour for the beginner\, or someone who wants to work at a slower pace (check our website for details of the next 6 weeks). \nA beautiful venue\, experienced tutor and fresh coffee – come and indulge with other lovely local budding artists. \nEnjoy learning from a passionate and experienced artist and make some new friends along the way. \nPlease book in via the website\, then pay by balance transfer to keep our costs affordable for you – www.ragandbonearts.com \n£96 for 6 weeks – all materials\, coffee\, tea and biscuits supplied (donations tin available to help with refreshments) \nWe look forward to meeting you in February 2024. Feel free to get in touch with any questions.
URL:https://onechippenham.org.uk/event/beginners-arts-workshops/2024-05-28/
LOCATION:The Cause Music and Arts Centre\, 42 The Causeway\, Chippenham\, Wiltshire\, SN15 3DD\, United Kingdom
CATEGORIES:Adults,Arts,Visual Arts,Workshop
ATTACH;FMTTYPE=image/jpeg:https://onechippenham.org.uk/wp-content/uploads/2024/02/Colour-photo-.jpeg
ORGANIZER;CN="Rag and Bone Arts CIC":MAILTO:ragandbonearts@gmail.com
END:VEVENT
BEGIN:VEVENT
DTSTART;TZID=Europe/London:20240530T110000
DTEND;TZID=Europe/London:20240530T150000
DTSTAMP:20260420T044041
CREATED:20240519T144259Z
LAST-MODIFIED:20240519T144259Z
UID:30426-1717066800-1717081200@onechippenham.org.uk
SUMMARY:Tell Your Story - Creative Committee
DESCRIPTION:We’re very excited about this brand new project: TELL YOUR STORY! \nBut we need a creative committee to help us steer the next two years and it’s totally FREE – there’s even pizza thrown in for lunch. \nWE CAN’T DO THIS WITHOUT YOU! \nDo you want to meet graffiti artists\, breakdancers\, rappers\, poets\, musicians\, writers\, dancers\, set designers\, producers or someone else come along and work with you? Then tell us! \nWorking in collaboration with Ruth Hill of Knapsack Productions\, The RISE Trust and Riverbank Studios\, Chippenham to give creative opportunities to young people in Chippenham. We’ll also be bringing in a ​whole new bunch of creative arts professionals to work with you. ​Who they are is totally up to you! \nAll made possible by funding from the Million Hours Fund. Thanks to the Government and The National Lottery Community Fund for making this possible. Department for Culture\, Media and Sport The National Lottery Community Fund \n#ArtForAll #CreativityForEveryone #CreativeLifeBoost
URL:https://onechippenham.org.uk/event/tell-your-story-creative-committee/
LOCATION:Central Methodist Church\, Monkton Hill\, Chippenham\, Chippenham\, Wiltshire\, SN15 1EP\, United Kingdom
CATEGORIES:Arts,Creative Writing,Dance,Drama,Performing Arts,Teens
ATTACH;FMTTYPE=image/png:https://onechippenham.org.uk/wp-content/uploads/2024/05/68685-17155148472529-m.png
ORGANIZER;CN="Rag and Bone Arts CIC":MAILTO:ragandbonearts@gmail.com
END:VEVENT
END:VCALENDAR