BEGIN:VCALENDAR
VERSION:2.0
PRODID:-//One Chippenham - ECPv6.15.20//NONSGML v1.0//EN
CALSCALE:GREGORIAN
METHOD:PUBLISH
X-WR-CALNAME:One Chippenham
X-ORIGINAL-URL:https://onechippenham.org.uk
X-WR-CALDESC:Events for One Chippenham
REFRESH-INTERVAL;VALUE=DURATION:PT1H
X-Robots-Tag:noindex
X-PUBLISHED-TTL:PT1H
BEGIN:VTIMEZONE
TZID:Europe/London
BEGIN:DAYLIGHT
TZOFFSETFROM:+0000
TZOFFSETTO:+0100
TZNAME:BST
DTSTART:20230326T010000
END:DAYLIGHT
BEGIN:STANDARD
TZOFFSETFROM:+0100
TZOFFSETTO:+0000
TZNAME:GMT
DTSTART:20231029T010000
END:STANDARD
BEGIN:DAYLIGHT
TZOFFSETFROM:+0000
TZOFFSETTO:+0100
TZNAME:BST
DTSTART:20240331T010000
END:DAYLIGHT
BEGIN:STANDARD
TZOFFSETFROM:+0100
TZOFFSETTO:+0000
TZNAME:GMT
DTSTART:20241027T010000
END:STANDARD
BEGIN:DAYLIGHT
TZOFFSETFROM:+0000
TZOFFSETTO:+0100
TZNAME:BST
DTSTART:20250330T010000
END:DAYLIGHT
BEGIN:STANDARD
TZOFFSETFROM:+0100
TZOFFSETTO:+0000
TZNAME:GMT
DTSTART:20251026T010000
END:STANDARD
END:VTIMEZONE
BEGIN:VEVENT
DTSTART;TZID=Europe/London:20240605T173000
DTEND;TZID=Europe/London:20240605T190000
DTSTAMP:20260421T012624
CREATED:20240303T203904Z
LAST-MODIFIED:20240303T203904Z
UID:27716-1717608600-1717614000@onechippenham.org.uk
SUMMARY:Teen Art and Design
DESCRIPTION:Join our artist Charlie to learn to help design new pieces and work collaboratively\, while listening to music and eating biscuits! \nWe work in 10 week blocks\, but you can enrol for 5 at a time. Our team of designers have created work for stage and events and learn to create work to adorn the streets of Chippenham and buildings. \nCharlie has been working in education and visual arts for nearly 30 years and is a working artist and set designer. \nThere’s a new focus each term and we’ll be asking for your input so that the ideas are yours. \nKindly supported by Kington Langley artists and Wiltshire Council’s Area Board\, paying for our materials and helping us keep our sessions affordable and high quality. \n10 week block – £120 \n5 weeks – £65 \nVisit www.ragandbonearts.com to book in.
URL:https://onechippenham.org.uk/event/teen-art-and-design/2024-06-05/
LOCATION:St Pauls church hall\, Malmesbury rd\, Malmesbury Rd\, Chippenham\, SN15 1PW\, United Kingdom
CATEGORIES:Arts,Community,Teens,Visual Arts
ATTACH;FMTTYPE=image/jpeg:https://onechippenham.org.uk/wp-content/uploads/2024/02/Dodecahedron.jpeg
ORGANIZER;CN="Rag and Bone Arts CIC":MAILTO:ragandbonearts@gmail.com
END:VEVENT
BEGIN:VEVENT
DTSTART;TZID=Europe/London:20240605T190000
DTEND;TZID=Europe/London:20240605T210000
DTSTAMP:20260421T012624
CREATED:20240228T233849Z
LAST-MODIFIED:20240228T234011Z
UID:27980-1717614000-1717621200@onechippenham.org.uk
SUMMARY:Chippenham Museum Creative Writing Group - Maud's Way
DESCRIPTION:Maud’s Way \nFirst Wednesday of the month\n3 April to 4 September\, 7pm – 9pm\nFree\, spaces limited \nJoin Chippenham Museum’s Creative Writing Group and take part in our new series of 6 linked writing workshops led by local writer and facilitator Ruth Hill. \nInspired by the 550th anniversary of Maud Heath’s Causeway and the Museum’s summer exhibition\, Re-imagining Maud Heath\, discover how Maud and her Causeway has been celebrated by artists\, writers\, and everyday people across the centuries. Explore the stories surrounding Maud Heath and consider how local myths and legends begin and grow over time. \nOver the 6 months\, explore\, discover\, share and create your own local stories and perhaps some of these will develop into longstanding legends which will be told for years to come! \nThese sessions are suitable for beginners to experienced writers and will culminate with performed readings as part of the Maud’s Way Heritage Open Day’s events in September. \nGroup meets on the first Wednesday of the month at Chippenham Museum. \nWorkshops are free but spaces are limited. Email heritage@chippenham.gov.uk to reserve your place.
URL:https://onechippenham.org.uk/event/chippenham-museum-creative-writing-group-mauds-way/2024-06-05/
LOCATION:Chippenham Museum\, 9-10 Market Pl\, Chippenham\, SN15 3HF\, United Kingdom
CATEGORIES:Arts,Creative Writing
ATTACH;FMTTYPE=image/png:https://onechippenham.org.uk/wp-content/uploads/2024/02/Mauds-Way-Facebook-Event-Post.png
ORGANIZER;CN="Chippenham Museum":MAILTO:heritage@chippenham.gov.uk
END:VEVENT
END:VCALENDAR