BEGIN:VCALENDAR
VERSION:2.0
PRODID:-//One Chippenham - ECPv6.15.20//NONSGML v1.0//EN
CALSCALE:GREGORIAN
METHOD:PUBLISH
X-WR-CALNAME:One Chippenham
X-ORIGINAL-URL:https://onechippenham.org.uk
X-WR-CALDESC:Events for One Chippenham
REFRESH-INTERVAL;VALUE=DURATION:PT1H
X-Robots-Tag:noindex
X-PUBLISHED-TTL:PT1H
BEGIN:VTIMEZONE
TZID:Europe/London
BEGIN:DAYLIGHT
TZOFFSETFROM:+0000
TZOFFSETTO:+0100
TZNAME:BST
DTSTART:20230326T010000
END:DAYLIGHT
BEGIN:STANDARD
TZOFFSETFROM:+0100
TZOFFSETTO:+0000
TZNAME:GMT
DTSTART:20231029T010000
END:STANDARD
BEGIN:DAYLIGHT
TZOFFSETFROM:+0000
TZOFFSETTO:+0100
TZNAME:BST
DTSTART:20240331T010000
END:DAYLIGHT
BEGIN:STANDARD
TZOFFSETFROM:+0100
TZOFFSETTO:+0000
TZNAME:GMT
DTSTART:20241027T010000
END:STANDARD
BEGIN:DAYLIGHT
TZOFFSETFROM:+0000
TZOFFSETTO:+0100
TZNAME:BST
DTSTART:20250330T010000
END:DAYLIGHT
BEGIN:STANDARD
TZOFFSETFROM:+0100
TZOFFSETTO:+0000
TZNAME:GMT
DTSTART:20251026T010000
END:STANDARD
END:VTIMEZONE
BEGIN:VEVENT
DTSTART;TZID=Europe/London:20240224T130000
DTEND;TZID=Europe/London:20240224T134500
DTSTAMP:20260425T224042
CREATED:20240131T094729Z
LAST-MODIFIED:20240214T140236Z
UID:26700-1708779600-1708782300@onechippenham.org.uk
SUMMARY:Baby Boogie & Toddler Tango
DESCRIPTION:Rock The Tots\, Chippenham Fringe February and Melt Productions Present…BABY BOOGIE & TODDLER TANGO \n\n\n\nLocal favourites ‘Rock The Tots’ have put together a special set about animals\, with fun pop songs you’ll know and love. Fancy a boogie to ‘Crocodile Rock’ anyone? With instruments\, bubbles and puppets – as well as quality live music – you and your baby &/or toddler will have a blast!\n\n\n\n\nBABY BOOGIE:\n\n13:00 – 13:45 Saturday 24th Feb\nKing Alfred Hall\n£3 Suggested donation\nBook tickets in advance here.\n\n\n\n\nTODDLER TANGO:\n\n12:00 – 12:45 Sunday 25th Feb\nKing Alfred Hall\nSuggested donation £3\nSuitable for toddlers aged 2-3 years old\nBook tickets in advance here.\n\n\n\n\nThis event is part of a three-day arts festival happening around Chippenham from the 23rd-25th February. Find out more about Chippenham Fringe Feb 2024 and the other creative and vibrant Fringe performances and activities taking place by visiting here. \nChippenham Fringe Feb is produced and delivered by Melt Productions in collaboration with Chippenham Borough Lands Charity (CBLC) and the Chippenham Chat group. Funding for the event is provided by Chippenham Borough Lands Charity. \n#FringeFeb24 #FringeFeb #ChippEvents
URL:https://onechippenham.org.uk/event/fringe-feb-melt-productions-present-baby-boogie/2024-02-24/
LOCATION:King Alfred Hall\, Market Place\, Chippenham\, SN15 3HT
CATEGORIES:Baby,Children,Family Friendly,Fringe Feb
ATTACH;FMTTYPE=image/jpeg:https://onechippenham.org.uk/wp-content/uploads/2024/01/427777652_404094405481681_561796360034715544_n.jpeg
END:VEVENT
END:VCALENDAR