BEGIN:VCALENDAR
VERSION:2.0
PRODID:-//One Chippenham - ECPv6.15.20//NONSGML v1.0//EN
CALSCALE:GREGORIAN
METHOD:PUBLISH
X-WR-CALNAME:One Chippenham
X-ORIGINAL-URL:https://onechippenham.org.uk
X-WR-CALDESC:Events for One Chippenham
REFRESH-INTERVAL;VALUE=DURATION:PT1H
X-Robots-Tag:noindex
X-PUBLISHED-TTL:PT1H
BEGIN:VTIMEZONE
TZID:Europe/London
BEGIN:DAYLIGHT
TZOFFSETFROM:+0000
TZOFFSETTO:+0100
TZNAME:BST
DTSTART:20230326T010000
END:DAYLIGHT
BEGIN:STANDARD
TZOFFSETFROM:+0100
TZOFFSETTO:+0000
TZNAME:GMT
DTSTART:20231029T010000
END:STANDARD
BEGIN:DAYLIGHT
TZOFFSETFROM:+0000
TZOFFSETTO:+0100
TZNAME:BST
DTSTART:20240331T010000
END:DAYLIGHT
BEGIN:STANDARD
TZOFFSETFROM:+0100
TZOFFSETTO:+0000
TZNAME:GMT
DTSTART:20241027T010000
END:STANDARD
BEGIN:DAYLIGHT
TZOFFSETFROM:+0000
TZOFFSETTO:+0100
TZNAME:BST
DTSTART:20250330T010000
END:DAYLIGHT
BEGIN:STANDARD
TZOFFSETFROM:+0100
TZOFFSETTO:+0000
TZNAME:GMT
DTSTART:20251026T010000
END:STANDARD
END:VTIMEZONE
BEGIN:VEVENT
DTSTART;TZID=Europe/London:20241016T140000
DTEND;TZID=Europe/London:20241016T160000
DTSTAMP:20260421T215425
CREATED:20240924T100140Z
LAST-MODIFIED:20240924T100140Z
UID:33998-1729087200-1729094400@onechippenham.org.uk
SUMMARY:Fun with Story Plots
DESCRIPTION:If you are a keen writer\, a fan of Mr Darcy or you just enjoy talking about books and finding out more about how they are written\, then we have a treat for you! \nCome along on Wednesday 16 October at 2pm\, meet local authors Jane Lark and Lucy King and have fun exploring a story from a character’s mindset. \nTickets are £3 each and can be booked at the library or on 01249 650536.
URL:https://onechippenham.org.uk/event/fun-with-story-plots/
LOCATION:Chippenham Library
CATEGORIES:Adults,Books/poetry,Creative Writing,Literary,Talks & lectures
ATTACH;FMTTYPE=image/jpeg:https://onechippenham.org.uk/wp-content/uploads/2024/09/StoryPlotsfb.jpg
END:VEVENT
END:VCALENDAR