BEGIN:VCALENDAR
VERSION:2.0
PRODID:-//One Chippenham - ECPv6.15.20//NONSGML v1.0//EN
CALSCALE:GREGORIAN
METHOD:PUBLISH
X-ORIGINAL-URL:https://onechippenham.org.uk
X-WR-CALDESC:Events for One Chippenham
REFRESH-INTERVAL;VALUE=DURATION:PT1H
X-Robots-Tag:noindex
X-PUBLISHED-TTL:PT1H
BEGIN:VTIMEZONE
TZID:Europe/London
BEGIN:DAYLIGHT
TZOFFSETFROM:+0000
TZOFFSETTO:+0100
TZNAME:BST
DTSTART:20210328T010000
END:DAYLIGHT
BEGIN:STANDARD
TZOFFSETFROM:+0100
TZOFFSETTO:+0000
TZNAME:GMT
DTSTART:20211031T010000
END:STANDARD
BEGIN:DAYLIGHT
TZOFFSETFROM:+0000
TZOFFSETTO:+0100
TZNAME:BST
DTSTART:20220327T010000
END:DAYLIGHT
BEGIN:STANDARD
TZOFFSETFROM:+0100
TZOFFSETTO:+0000
TZNAME:GMT
DTSTART:20221030T010000
END:STANDARD
BEGIN:DAYLIGHT
TZOFFSETFROM:+0000
TZOFFSETTO:+0100
TZNAME:BST
DTSTART:20230326T010000
END:DAYLIGHT
BEGIN:STANDARD
TZOFFSETFROM:+0100
TZOFFSETTO:+0000
TZNAME:GMT
DTSTART:20231029T010000
END:STANDARD
END:VTIMEZONE
BEGIN:VEVENT
DTSTART;TZID=Europe/London:20220522T090000
DTEND;TZID=Europe/London:20220522T170000
DTSTAMP:20260425T164229
CREATED:20220201T145153Z
LAST-MODIFIED:20220201T145153Z
UID:4545-1653210000-1653238800@onechippenham.org.uk
SUMMARY:Classic Car Run
DESCRIPTION:The Rotary Club of Chippenham invite you to bring your classic car for a 75 mile drive through Wiltshire and Gloucestershire and help raise money for Dorothy House and local Rotary club charities.
URL:https://onechippenham.org.uk/event/classic-car-run-2/
LOCATION:Wiltshire
CATEGORIES:Charity
ATTACH;FMTTYPE=image/jpeg:https://onechippenham.org.uk/wp-content/uploads/2022/02/Classic-Car-2022-scaled.jpg
END:VEVENT
BEGIN:VEVENT
DTSTART;TZID=Europe/London:20220522T110000
DTEND;TZID=Europe/London:20220522T150000
DTSTAMP:20260425T164229
CREATED:20220412T223219Z
LAST-MODIFIED:20220412T223219Z
UID:5174-1653217200-1653231600@onechippenham.org.uk
SUMMARY:Arts and Crafts Fair for Wiltshire Air Ambulance
DESCRIPTION:Arts and crafts fair to raise money for the Wiltshire Air Ambulance. There will be a huge range of arts\, crafts and even plants for sale. \n  \n 
URL:https://onechippenham.org.uk/event/arts-and-crafts-fair-for-wiltshire-air-ambulance/
LOCATION:Pewsham Community Centre\, Lodge Road\, Chippenham\, SN5 3SY
CATEGORIES:Arts,Charity,Crafts,Fairs & Fetes
ATTACH;FMTTYPE=image/jpeg:https://onechippenham.org.uk/wp-content/uploads/2022/04/4E38EA36-7F28-4E73-8F49-87F30485AA8C.jpeg
ORGANIZER;CN="Toni Fletcher":MAILTO:tlcartwright@hotmail.co.uk
END:VEVENT
END:VCALENDAR