BEGIN:VCALENDAR
VERSION:2.0
PRODID:-//One Chippenham - ECPv6.15.20//NONSGML v1.0//EN
CALSCALE:GREGORIAN
METHOD:PUBLISH
X-WR-CALNAME:One Chippenham
X-ORIGINAL-URL:https://onechippenham.org.uk
X-WR-CALDESC:Events for One Chippenham
REFRESH-INTERVAL;VALUE=DURATION:PT1H
X-Robots-Tag:noindex
X-PUBLISHED-TTL:PT1H
BEGIN:VTIMEZONE
TZID:Europe/London
BEGIN:DAYLIGHT
TZOFFSETFROM:+0000
TZOFFSETTO:+0100
TZNAME:BST
DTSTART:20210328T010000
END:DAYLIGHT
BEGIN:STANDARD
TZOFFSETFROM:+0100
TZOFFSETTO:+0000
TZNAME:GMT
DTSTART:20211031T010000
END:STANDARD
BEGIN:DAYLIGHT
TZOFFSETFROM:+0000
TZOFFSETTO:+0100
TZNAME:BST
DTSTART:20220327T010000
END:DAYLIGHT
BEGIN:STANDARD
TZOFFSETFROM:+0100
TZOFFSETTO:+0000
TZNAME:GMT
DTSTART:20221030T010000
END:STANDARD
BEGIN:DAYLIGHT
TZOFFSETFROM:+0000
TZOFFSETTO:+0100
TZNAME:BST
DTSTART:20230326T010000
END:DAYLIGHT
BEGIN:STANDARD
TZOFFSETFROM:+0100
TZOFFSETTO:+0000
TZNAME:GMT
DTSTART:20231029T010000
END:STANDARD
END:VTIMEZONE
BEGIN:VEVENT
DTSTART;TZID=Europe/London:20220612T110000
DTEND;TZID=Europe/London:20220612T150000
DTSTAMP:20260425T140121
CREATED:20220217T071734Z
LAST-MODIFIED:20220217T071734Z
UID:4673-1655031600-1655046000@onechippenham.org.uk
SUMMARY:Ataxia UK Fundraiser
DESCRIPTION:Fundraiser to raise money for Ataxia UK\, there will be craft stalls from local businesses\, outdoor plant sales\, refreshments\, raffle\, Tombola.
URL:https://onechippenham.org.uk/event/ataxia-uk-fundraiser/
LOCATION:Pewsham
CATEGORIES:Charity
ATTACH;FMTTYPE=image/png:https://onechippenham.org.uk/wp-content/uploads/2022/02/inbound5655368658869526300.png
ORGANIZER;CN="Natasha Giddings":MAILTO:Tashajsnell@gmail.com
END:VEVENT
BEGIN:VEVENT
DTSTART;TZID=Europe/London:20220618T100000
DTEND;TZID=Europe/London:20220618T160000
DTSTAMP:20260425T140121
CREATED:20220609T133632Z
LAST-MODIFIED:20220609T133632Z
UID:6050-1655546400-1655568000@onechippenham.org.uk
SUMMARY:Fashion Event in aid of Wiltshire Air Ambulance
DESCRIPTION:Wedding dresses\, party dresses\, prom dresses\, shoes\, handbags\, hats and more. Please come along and support a great cause.
URL:https://onechippenham.org.uk/event/fashion-event-in-aid-of-wiltshire-air-ambulance/
LOCATION:The Bell\, Yatton Keynell\, Chippenham\, High Street\, Yatton Keynell\, Chippenham\, SN14 7BG
CATEGORIES:Adults,Charity,Community,Fairs & Fetes,Family Friendly,Fashion Show,Teens
ATTACH;FMTTYPE=image/jpeg:https://onechippenham.org.uk/wp-content/uploads/2022/06/WAA-Poster.jpg
END:VEVENT
END:VCALENDAR