BEGIN:VCALENDAR
VERSION:2.0
PRODID:-//One Chippenham - ECPv6.15.20//NONSGML v1.0//EN
CALSCALE:GREGORIAN
METHOD:PUBLISH
X-ORIGINAL-URL:https://onechippenham.org.uk
X-WR-CALDESC:Events for One Chippenham
REFRESH-INTERVAL;VALUE=DURATION:PT1H
X-Robots-Tag:noindex
X-PUBLISHED-TTL:PT1H
BEGIN:VTIMEZONE
TZID:Europe/London
BEGIN:DAYLIGHT
TZOFFSETFROM:+0000
TZOFFSETTO:+0100
TZNAME:BST
DTSTART:20210328T010000
END:DAYLIGHT
BEGIN:STANDARD
TZOFFSETFROM:+0100
TZOFFSETTO:+0000
TZNAME:GMT
DTSTART:20211031T010000
END:STANDARD
BEGIN:DAYLIGHT
TZOFFSETFROM:+0000
TZOFFSETTO:+0100
TZNAME:BST
DTSTART:20220327T010000
END:DAYLIGHT
BEGIN:STANDARD
TZOFFSETFROM:+0100
TZOFFSETTO:+0000
TZNAME:GMT
DTSTART:20221030T010000
END:STANDARD
BEGIN:DAYLIGHT
TZOFFSETFROM:+0000
TZOFFSETTO:+0100
TZNAME:BST
DTSTART:20230326T010000
END:DAYLIGHT
BEGIN:STANDARD
TZOFFSETFROM:+0100
TZOFFSETTO:+0000
TZNAME:GMT
DTSTART:20231029T010000
END:STANDARD
END:VTIMEZONE
BEGIN:VEVENT
DTSTART;TZID=Europe/London:20220917T193000
DTEND;TZID=Europe/London:20220917T193000
DTSTAMP:20260425T130214
CREATED:20220823T131950Z
LAST-MODIFIED:20220823T132404Z
UID:7078-1663443000-1663443000@onechippenham.org.uk
SUMMARY:September Serenade - Chippenham Male Voice Choir Concert
DESCRIPTION:This will be the first concert in Chippenham by the Chippenham Male Voice Choir since 2019. \nWe are having a “September Serenade” concert on Saturday 17th September at St Andrews Church supported by “The Harmonics” ladies choir. \n£7.50 per ticket which will include an interval drink. Proceeds in aid of Wiltshire Air Ambulance. \nTickets available from choir members\, Chippenham Museum\, Dolmans Furnishers and St Andrews Church. \n  \n\n 
URL:https://onechippenham.org.uk/event/september-serenade-concert/
LOCATION:St Andrew’s Church\, St Mary’s Street\, Chippenham\, SN15 3JN\, United Kingdom
CATEGORIES:Charity,Concert,Music
ATTACH;FMTTYPE=image/png:https://onechippenham.org.uk/wp-content/uploads/2022/08/Chippenham-Male-Voice-Choir.png
END:VEVENT
BEGIN:VEVENT
DTSTART;TZID=Europe/London:20220919T113000
DTEND;TZID=Europe/London:20220919T113000
DTSTAMP:20260425T130214
CREATED:20220715T103838Z
LAST-MODIFIED:20220715T103838Z
UID:6466-1663587000-1663587000@onechippenham.org.uk
SUMMARY:Springboard Annual Charity Golf Day 2022
DESCRIPTION:Our Annual Golf Day is back! Join us at North Wilts Golf Club on Monday 19th September. \n\nArrival Time: 11.30am for coffee/tea & bacon roll. *Shotgun start at 1.00pm*\nTickets: £55 to include a 2 course dinner\nDress code: No jeans or nylon shorts. Collared shirts only (no football shirts\, rugby shirts or T-shirts).\n\nPlease share the event with any friends or contacts who are keen golfers.
URL:https://onechippenham.org.uk/event/springboard-annual-charity-golf-day-2022/
LOCATION:North Wilts Golf Club\, Bishops Cannings\, Devizes\, Wiltshire\, SN10 2LP
CATEGORIES:Adults,Charity,Outdoor,Sport
ATTACH;FMTTYPE=image/png:https://onechippenham.org.uk/wp-content/uploads/2022/07/Golf-Day-Banner-2022-1536x865-1.png
END:VEVENT
BEGIN:VEVENT
DTSTART;TZID=Europe/London:20220927T103000
DTEND;TZID=Europe/London:20220927T120000
DTSTAMP:20260425T130214
CREATED:20220817T093754Z
LAST-MODIFIED:20220817T093754Z
UID:6930-1664274600-1664280000@onechippenham.org.uk
SUMMARY:Macmillan Coffee Morning
DESCRIPTION:Join us at our coffee morning in aid of Macmillan Cancer Support. \nOn Tuesday 27th September at 10.30am – 12pm at St Andrew’s Lodge. \nBring along some friends and join in the fun! \nIf you’d like to attend\, please RSVP today to Anita on 01249 848326.
URL:https://onechippenham.org.uk/event/macmillan-coffee-morning-2/
LOCATION:St Andrew’s Lodge\, The Causeway\, Chippenham\, Wiltshire\, SN15 3HN
CATEGORIES:Adults,Charity,Coffee morning,Community,Family,Over 60's
ATTACH;FMTTYPE=image/png:https://onechippenham.org.uk/wp-content/uploads/2022/08/Macmillan-coffee-morning-2022-1.png
ORGANIZER;CN="Churchill Retirement Living":MAILTO:StAndrews.Lodge@crl.co.uk
END:VEVENT
END:VCALENDAR