BEGIN:VCALENDAR
VERSION:2.0
PRODID:-//One Chippenham - ECPv6.15.20//NONSGML v1.0//EN
CALSCALE:GREGORIAN
METHOD:PUBLISH
X-ORIGINAL-URL:https://onechippenham.org.uk
X-WR-CALDESC:Events for One Chippenham
REFRESH-INTERVAL;VALUE=DURATION:PT1H
X-Robots-Tag:noindex
X-PUBLISHED-TTL:PT1H
BEGIN:VTIMEZONE
TZID:Europe/London
BEGIN:DAYLIGHT
TZOFFSETFROM:+0000
TZOFFSETTO:+0100
TZNAME:BST
DTSTART:20210328T010000
END:DAYLIGHT
BEGIN:STANDARD
TZOFFSETFROM:+0100
TZOFFSETTO:+0000
TZNAME:GMT
DTSTART:20211031T010000
END:STANDARD
BEGIN:DAYLIGHT
TZOFFSETFROM:+0000
TZOFFSETTO:+0100
TZNAME:BST
DTSTART:20220327T010000
END:DAYLIGHT
BEGIN:STANDARD
TZOFFSETFROM:+0100
TZOFFSETTO:+0000
TZNAME:GMT
DTSTART:20221030T010000
END:STANDARD
BEGIN:DAYLIGHT
TZOFFSETFROM:+0000
TZOFFSETTO:+0100
TZNAME:BST
DTSTART:20230326T010000
END:DAYLIGHT
BEGIN:STANDARD
TZOFFSETFROM:+0100
TZOFFSETTO:+0000
TZNAME:GMT
DTSTART:20231029T010000
END:STANDARD
END:VTIMEZONE
BEGIN:VEVENT
DTSTART;TZID=Europe/London:20221204T090000
DTEND;TZID=Europe/London:20221204T120000
DTSTAMP:20260423T191315
CREATED:20221019T095322Z
LAST-MODIFIED:20221019T095322Z
UID:8583-1670144400-1670155200@onechippenham.org.uk
SUMMARY:Polar Plunge for RUHX
DESCRIPTION:Make a splash this winter and take the plunge for RUHX\, raising money for your local hospital\, the RUH. \nJoin family and friends and do something unforgettable by taking a dip in the the cold waters of West Country Water Park. Whether you’re a seasoned swimmer\, or new to the hobby\, cold water dipping is for for everyone. \nFor more information\, and to sign up\, click here – https://ruhx.org.uk/events/polar-plunge/
URL:https://onechippenham.org.uk/event/polar-plunge-for-ruhx/
LOCATION:West Country Water Park\, Trench Lane\, Bradley Stoke\, BS36 1RY\, United Kingdom
CATEGORIES:Charity
ATTACH;FMTTYPE=image/png:https://onechippenham.org.uk/wp-content/uploads/2022/10/Polar-Plunge-7.png
ORGANIZER;CN="RUHX":MAILTO:fundraising@ruhx.org.uk
END:VEVENT
BEGIN:VEVENT
DTSTART;TZID=Europe/London:20221211T110000
DTEND;TZID=Europe/London:20221211T160000
DTSTAMP:20260423T191315
CREATED:20221112T125432Z
LAST-MODIFIED:20221112T125432Z
UID:9131-1670756400-1670774400@onechippenham.org.uk
SUMMARY:Indoor Christmas Fayre
DESCRIPTION:Lots to do for everyone from a variety of stalls for adults and children. Some fun games where the children can win prizes and an exciting treasure hunt. \nWe have the amazing PSG Choir performing throughout the afternoon. \nWe will be serving food all day and the bar will also be open. Festive mulled wine\, mince pies\, luxury hot chocolate. \nEveryone welcome and free entry
URL:https://onechippenham.org.uk/event/indoor-christmas-fayre-3/
LOCATION:Chippenham Sports Club
CATEGORIES:Arts,Baby,Books/poetry,Charity,Children,Choir,Christmas,Community,Crafts,Fairs & Fetes,Family Friendly,Fayre,Food and Drink,Gifts,Indoor,Jewellery making,Performance,Singing
ATTACH;FMTTYPE=image/jpeg:https://onechippenham.org.uk/wp-content/uploads/2022/11/287B2D6F-91D6-4B2E-ABF6-36E8FC03B4FE.jpeg
ORGANIZER;CN="Fiona Wheadon":MAILTO:Enquiries@chippenhamsportsclub.co.uk
END:VEVENT
BEGIN:VEVENT
DTSTART;TZID=Europe/London:20221216T103000
DTEND;TZID=Europe/London:20221216T133000
DTSTAMP:20260423T191315
CREATED:20221209T060000Z
LAST-MODIFIED:20221209T060058Z
UID:9690-1671186600-1671197400@onechippenham.org.uk
SUMMARY:The Mayor's Christmas Coffee Morning
DESCRIPTION:Join Cllr Liz Alstrom the Mayor of Chippenham for a coffee\, cake/mince pie and a chat on Friday 16th December 10:30am to 1:30pm at The Meeting Place in Neeld Community & Arts Centre. The entrance is via Borough Parade carpark. \nThere will be hot and cold drinks (non-dairy milk options available too)\, cakes and tasty bakes to buy\, colouring in pages for kids and a raffle too\, so please pop in to say hi! \nAll proceeds will go to the Mayors two chosen charities the Wiltshire Air Ambulance and HEALS of Malmesbury who do outreach work in Chippenham with disadvantaged children. \nPlease note: this is a cash only event so please bring change.
URL:https://onechippenham.org.uk/event/the-mayors-christmas-coffee-morning/
LOCATION:Neeld Community & Arts Centre\, The Neeld\, High Street\, Chippenham\, Wiltshire\, SN15 3ER\, United Kingdom
CATEGORIES:Charity,Coffee morning
ATTACH;FMTTYPE=image/jpeg:https://onechippenham.org.uk/wp-content/uploads/2022/12/xmas-coffee-morning-poster.jpg
END:VEVENT
END:VCALENDAR