BEGIN:VCALENDAR
VERSION:2.0
PRODID:-//One Chippenham - ECPv6.15.20//NONSGML v1.0//EN
CALSCALE:GREGORIAN
METHOD:PUBLISH
X-ORIGINAL-URL:https://onechippenham.org.uk
X-WR-CALDESC:Events for One Chippenham
REFRESH-INTERVAL;VALUE=DURATION:PT1H
X-Robots-Tag:noindex
X-PUBLISHED-TTL:PT1H
BEGIN:VTIMEZONE
TZID:Europe/London
BEGIN:DAYLIGHT
TZOFFSETFROM:+0000
TZOFFSETTO:+0100
TZNAME:BST
DTSTART:20220327T010000
END:DAYLIGHT
BEGIN:STANDARD
TZOFFSETFROM:+0100
TZOFFSETTO:+0000
TZNAME:GMT
DTSTART:20221030T010000
END:STANDARD
BEGIN:DAYLIGHT
TZOFFSETFROM:+0000
TZOFFSETTO:+0100
TZNAME:BST
DTSTART:20230326T010000
END:DAYLIGHT
BEGIN:STANDARD
TZOFFSETFROM:+0100
TZOFFSETTO:+0000
TZNAME:GMT
DTSTART:20231029T010000
END:STANDARD
BEGIN:DAYLIGHT
TZOFFSETFROM:+0000
TZOFFSETTO:+0100
TZNAME:BST
DTSTART:20240331T010000
END:DAYLIGHT
BEGIN:STANDARD
TZOFFSETFROM:+0100
TZOFFSETTO:+0000
TZNAME:GMT
DTSTART:20241027T010000
END:STANDARD
END:VTIMEZONE
BEGIN:VEVENT
DTSTART;TZID=Europe/London:20230319T000000
DTEND;TZID=Europe/London:20230327T123000
DTSTAMP:20260422T020940
CREATED:20230319T070420Z
LAST-MODIFIED:20230319T072809Z
UID:12456-1679184000-1679920200@onechippenham.org.uk
SUMMARY:Online Auction raising funds for the Wiltshire Bobby Van Trust
DESCRIPTION:We have just launched an online auction closing on Monday 27th March at 12 noon. We have been incredibly fortunate to have some wonderful donations for our bids\, anything from activities\, to lunch/dinners\, champagne\, luxury goods\, artwork and much much more. \nPlease help us by spreading the word about this auction and have some fun bidding as The Wiltshire Bobby Van Trust (WBVT) need important funds to continue to serve the elder and vulnerable community of Wiltshire and Swindon. \nClick on the link to take you to the auction.\nhttps://www.jumblebee.co.uk/wbvt2022 \n 
URL:https://onechippenham.org.uk/event/online-auction-raising-funds-for-the-wiltshire-bobby-van-trust/
LOCATION:Online
CATEGORIES:Auction,Charity
ATTACH;FMTTYPE=image/png:https://onechippenham.org.uk/wp-content/uploads/2023/03/DA250CC4-E079-412E-86AD-A3DEE8E36C6E.png
ORGANIZER;CN="The Wiltshire Bobby Van Trust":MAILTO:susanna@wbvt.org
END:VEVENT
BEGIN:VEVENT
DTSTART;TZID=Europe/London:20230325T190000
DTEND;TZID=Europe/London:20230325T190000
DTSTAMP:20260422T020940
CREATED:20230126T165611Z
LAST-MODIFIED:20230126T201510Z
UID:10643-1679770800-1679770800@onechippenham.org.uk
SUMMARY:Doorway Sleep Out 2023
DESCRIPTION:Join Doorway’s Annual Sleep Out\, held this year in John Coles Park around the Bandstand. Spend a night under the stars (& possibly wind & rain!) to help raise money for Doorway. \nThe Sleep Out starts at 7pm with some musical entertainment and the opportunity to buy some hot food and snacks in the evening ready to build your homemade cardboard beds for the night. Remember No Tents Allowed! \nYou can be an individual or come as a team…either way every penny of sponsorship goes to Doorway.\nChildren over the age of 10 welcome with an accompanying adult \n*Register your space now via Eventbrite*
URL:https://onechippenham.org.uk/event/doorway-sleep-out-2023/
LOCATION:John Coles Park\, John Coles Park\, Chippenham\, SN15 1NZ\, United Kingdom
CATEGORIES:Charity
ATTACH;FMTTYPE=image/jpeg:https://onechippenham.org.uk/wp-content/uploads/2023/01/boxes-2.jpg
ORGANIZER;CN="Doorway":MAILTO:facilities@doorwayproject.org.uk
END:VEVENT
END:VCALENDAR