BEGIN:VCALENDAR
VERSION:2.0
PRODID:-//One Chippenham - ECPv6.15.20//NONSGML v1.0//EN
CALSCALE:GREGORIAN
METHOD:PUBLISH
X-ORIGINAL-URL:https://onechippenham.org.uk
X-WR-CALDESC:Events for One Chippenham
REFRESH-INTERVAL;VALUE=DURATION:PT1H
X-Robots-Tag:noindex
X-PUBLISHED-TTL:PT1H
BEGIN:VTIMEZONE
TZID:Europe/London
BEGIN:DAYLIGHT
TZOFFSETFROM:+0000
TZOFFSETTO:+0100
TZNAME:BST
DTSTART:20220327T010000
END:DAYLIGHT
BEGIN:STANDARD
TZOFFSETFROM:+0100
TZOFFSETTO:+0000
TZNAME:GMT
DTSTART:20221030T010000
END:STANDARD
BEGIN:DAYLIGHT
TZOFFSETFROM:+0000
TZOFFSETTO:+0100
TZNAME:BST
DTSTART:20230326T010000
END:DAYLIGHT
BEGIN:STANDARD
TZOFFSETFROM:+0100
TZOFFSETTO:+0000
TZNAME:GMT
DTSTART:20231029T010000
END:STANDARD
BEGIN:DAYLIGHT
TZOFFSETFROM:+0000
TZOFFSETTO:+0100
TZNAME:BST
DTSTART:20240331T010000
END:DAYLIGHT
BEGIN:STANDARD
TZOFFSETFROM:+0100
TZOFFSETTO:+0000
TZNAME:GMT
DTSTART:20241027T010000
END:STANDARD
END:VTIMEZONE
BEGIN:VEVENT
DTSTART;TZID=Europe/London:20230211T100000
DTEND;TZID=Europe/London:20230211T140000
DTSTAMP:20260424T172137
CREATED:20230209T153445Z
LAST-MODIFIED:20230209T153538Z
UID:11107-1676109600-1676124000@onechippenham.org.uk
SUMMARY:Valentines Appeal - Knatty Knitters Workshop & Craft Sale
DESCRIPTION:Please come along to the Hub this Saturday between 10am-2pm where we are raising money with the Knatty Knitters for the tragic victims of the earthquake in Syria and Turkey.\nAn opportunity to buy beautiful cards and gifts for valentines\, make beautiful Hearts with the Knatty Knitters and enter the Children’s or Adult’s Tombola.\nAll money raised goes to the Red Cross Appeal.\n 
URL:https://onechippenham.org.uk/event/valentines-appeal-knatty-knitters-workshop-craft-sale/
LOCATION:Chippenham Community Hub
CATEGORIES:Charity
ATTACH;FMTTYPE=image/jpeg:https://onechippenham.org.uk/wp-content/uploads/2023/02/Valentines91.jpg
ORGANIZER;CN="Chippenham Community Hub":MAILTO:chippenhamcommunityecohub@gmail.com
END:VEVENT
END:VCALENDAR