BEGIN:VCALENDAR
VERSION:2.0
PRODID:-//One Chippenham - ECPv6.15.20//NONSGML v1.0//EN
CALSCALE:GREGORIAN
METHOD:PUBLISH
X-WR-CALNAME:One Chippenham
X-ORIGINAL-URL:https://onechippenham.org.uk
X-WR-CALDESC:Events for One Chippenham
REFRESH-INTERVAL;VALUE=DURATION:PT1H
X-Robots-Tag:noindex
X-PUBLISHED-TTL:PT1H
BEGIN:VTIMEZONE
TZID:Europe/London
BEGIN:DAYLIGHT
TZOFFSETFROM:+0000
TZOFFSETTO:+0100
TZNAME:BST
DTSTART:20230326T010000
END:DAYLIGHT
BEGIN:STANDARD
TZOFFSETFROM:+0100
TZOFFSETTO:+0000
TZNAME:GMT
DTSTART:20231029T010000
END:STANDARD
BEGIN:DAYLIGHT
TZOFFSETFROM:+0000
TZOFFSETTO:+0100
TZNAME:BST
DTSTART:20240331T010000
END:DAYLIGHT
BEGIN:STANDARD
TZOFFSETFROM:+0100
TZOFFSETTO:+0000
TZNAME:GMT
DTSTART:20241027T010000
END:STANDARD
BEGIN:DAYLIGHT
TZOFFSETFROM:+0000
TZOFFSETTO:+0100
TZNAME:BST
DTSTART:20250330T010000
END:DAYLIGHT
BEGIN:STANDARD
TZOFFSETFROM:+0100
TZOFFSETTO:+0000
TZNAME:GMT
DTSTART:20251026T010000
END:STANDARD
END:VTIMEZONE
BEGIN:VEVENT
DTSTART;TZID=Europe/London:20240517T103000
DTEND;TZID=Europe/London:20240517T160000
DTSTAMP:20260420T151440
CREATED:20240514T144918Z
LAST-MODIFIED:20240514T144918Z
UID:30077-1715941800-1715961600@onechippenham.org.uk
SUMMARY:Biddestone Manor Open Garden
DESCRIPTION:Join us at Biddestone Open Garden on Friday 17th May from 10.30am – 4.00pm. There are beautiful formal gardens and a further 5 acres including a lake\, ponds\, stream\, arboretum\, cutting gardens and an orchard which are all open to the public to enjoy. Home-made teas in aid of Alzheimer’s Support will be available all day. Entrance: £8.00 for adults\, children by donation. Dogs are welcome too!
URL:https://onechippenham.org.uk/event/biddestone-manor-open-garden/
LOCATION:Biddestone Manor\, Chippenham Lane\, Biddestone\, Chippenham\, Wiltshire\, SN14 7DJ\, United Kingdom
CATEGORIES:Afternoon Tea,Charity,Gardening,Nature,Wildlife/nature
ATTACH;FMTTYPE=image/png:https://onechippenham.org.uk/wp-content/uploads/2024/05/Biddestone.png
ORGANIZER;CN="National Garden Scheme":MAILTO:hello@ngs.org.uk
END:VEVENT
END:VCALENDAR