BEGIN:VCALENDAR
VERSION:2.0
PRODID:-//One Chippenham - ECPv6.15.20//NONSGML v1.0//EN
CALSCALE:GREGORIAN
METHOD:PUBLISH
X-WR-CALNAME:One Chippenham
X-ORIGINAL-URL:https://onechippenham.org.uk
X-WR-CALDESC:Events for One Chippenham
REFRESH-INTERVAL;VALUE=DURATION:PT1H
X-Robots-Tag:noindex
X-PUBLISHED-TTL:PT1H
BEGIN:VTIMEZONE
TZID:Europe/London
BEGIN:DAYLIGHT
TZOFFSETFROM:+0000
TZOFFSETTO:+0100
TZNAME:BST
DTSTART:20220327T010000
END:DAYLIGHT
BEGIN:STANDARD
TZOFFSETFROM:+0100
TZOFFSETTO:+0000
TZNAME:GMT
DTSTART:20221030T010000
END:STANDARD
BEGIN:DAYLIGHT
TZOFFSETFROM:+0000
TZOFFSETTO:+0100
TZNAME:BST
DTSTART:20230326T010000
END:DAYLIGHT
BEGIN:STANDARD
TZOFFSETFROM:+0100
TZOFFSETTO:+0000
TZNAME:GMT
DTSTART:20231029T010000
END:STANDARD
BEGIN:DAYLIGHT
TZOFFSETFROM:+0000
TZOFFSETTO:+0100
TZNAME:BST
DTSTART:20240331T010000
END:DAYLIGHT
BEGIN:STANDARD
TZOFFSETFROM:+0100
TZOFFSETTO:+0000
TZNAME:GMT
DTSTART:20241027T010000
END:STANDARD
END:VTIMEZONE
BEGIN:VEVENT
DTSTART;TZID=Europe/London:20230420T190000
DTEND;TZID=Europe/London:20230420T190000
DTSTAMP:20260421T230915
CREATED:20230209T151737Z
LAST-MODIFIED:20230209T151921Z
UID:11097-1682017200-1682017200@onechippenham.org.uk
SUMMARY:Charity Fashion Show in association with Roz Chandler Fitness and Pretty Peacocks Home & Gifts
DESCRIPTION:Charity Fashion Show for Springboard and Doorway\n\n\n\nTickets are on sale now – £12.75 including a welcome drink – https://www.rozchandlerfitness.co.uk/events\n\n  \n  \n 
URL:https://onechippenham.org.uk/event/charity-fashion-show-in-association-with-roz-chandler-fitness-and-pretty-peacocks-home-gifts/
LOCATION:St Mary’s School\, Rowden Road\, Chippenham\, SN15 2AH
CATEGORIES:Adults,Charity,Fashion Show
ATTACH;FMTTYPE=image/jpeg:https://onechippenham.org.uk/wp-content/uploads/2023/02/328225088_729331558727815_1985873918513500699_n.jpg
ORGANIZER;CN="Roz Chandler Fitness":MAILTO:roz@rozchandlerfitness.co.uk
END:VEVENT
BEGIN:VEVENT
DTSTART;TZID=Europe/London:20230421T113000
DTEND;TZID=Europe/London:20230421T133000
DTSTAMP:20260421T230915
CREATED:20230327T222651Z
LAST-MODIFIED:20230327T222743Z
UID:12653-1682076600-1682083800@onechippenham.org.uk
SUMMARY:Chippenham Creative Carers
DESCRIPTION:Explore your creative side with different crafts in our free friendly creative carer groups. No experience needed\, just a desire to have fun. \nTea and coffee supplied but please bring your own lunch. The Chippenham group meets every 3rd Friday of the month\, 11:30am – 1:30pm. \n 
URL:https://onechippenham.org.uk/event/chippenham-creative-carers/2023-04-21/
LOCATION:King Alfred Hall\, Market Place\, Chippenham\, SN15 3HT
CATEGORIES:Arts,Charity,Community
ATTACH;FMTTYPE=image/jpeg:https://onechippenham.org.uk/wp-content/uploads/2023/03/DF7CA5DC-10C2-4E5F-ACA7-F016180CC809.jpeg
END:VEVENT
END:VCALENDAR