BEGIN:VCALENDAR
VERSION:2.0
PRODID:-//One Chippenham - ECPv6.15.20//NONSGML v1.0//EN
CALSCALE:GREGORIAN
METHOD:PUBLISH
X-ORIGINAL-URL:https://onechippenham.org.uk
X-WR-CALDESC:Events for One Chippenham
REFRESH-INTERVAL;VALUE=DURATION:PT1H
X-Robots-Tag:noindex
X-PUBLISHED-TTL:PT1H
BEGIN:VTIMEZONE
TZID:Europe/London
BEGIN:DAYLIGHT
TZOFFSETFROM:+0000
TZOFFSETTO:+0100
TZNAME:BST
DTSTART:20220327T010000
END:DAYLIGHT
BEGIN:STANDARD
TZOFFSETFROM:+0100
TZOFFSETTO:+0000
TZNAME:GMT
DTSTART:20221030T010000
END:STANDARD
BEGIN:DAYLIGHT
TZOFFSETFROM:+0000
TZOFFSETTO:+0100
TZNAME:BST
DTSTART:20230326T010000
END:DAYLIGHT
BEGIN:STANDARD
TZOFFSETFROM:+0100
TZOFFSETTO:+0000
TZNAME:GMT
DTSTART:20231029T010000
END:STANDARD
BEGIN:DAYLIGHT
TZOFFSETFROM:+0000
TZOFFSETTO:+0100
TZNAME:BST
DTSTART:20240331T010000
END:DAYLIGHT
BEGIN:STANDARD
TZOFFSETFROM:+0100
TZOFFSETTO:+0000
TZNAME:GMT
DTSTART:20241027T010000
END:STANDARD
END:VTIMEZONE
BEGIN:VEVENT
DTSTART;TZID=Europe/London:20230520T080000
DTEND;TZID=Europe/London:20230520T170000
DTSTAMP:20260421T061108
CREATED:20230126T122620Z
LAST-MODIFIED:20230126T122713Z
UID:10485-1684569600-1684602000@onechippenham.org.uk
SUMMARY:Walk of Life 2023
DESCRIPTION:Join RUHX for our annual Walk of Life\, along the beautiful Kennet and Avon Canal on Saturday 20 May. Whether you opt for the full 26.2mile walk or decide the 10 mile walk is more up your street\, there is a way to get moving for everyone. \nEnjoy a delicious free lunchtime BBQ\, a selection of tasty treats dotted along the route\, a festival finish\, and a chance to meet likeminded individuals – this is more than just a walk\, it is a chance to make a real difference. \nSign up today and do your bit for your community\, whilst raising valuable funds for the RUH\, because together\, we can do more.
URL:https://onechippenham.org.uk/event/walk-of-life-2023/
LOCATION:Kennet and Avon Canal
CATEGORIES:Charity,Fitness,Nature,Outdoor,Walks
ATTACH;FMTTYPE=image/jpeg:https://onechippenham.org.uk/wp-content/uploads/2023/01/WoL-Event-Image-for-event-listings.jpg
ORGANIZER;CN="RUHX":MAILTO:fundraising@ruhx.org.uk
END:VEVENT
BEGIN:VEVENT
DTSTART;VALUE=DATE:20230521
DTEND;VALUE=DATE:20230522
DTSTAMP:20260421T061108
CREATED:20230216T123844Z
LAST-MODIFIED:20230216T124002Z
UID:11657-1684627200-1684713599@onechippenham.org.uk
SUMMARY:Salisbury Plain Drive Ahead for Calne Classic Car Run
DESCRIPTION:This is the Rotary Club’s 7th Annual Calne Classic Car Run. \nBetween 8am and 9.30am on Sunday the 21st of May one hundred Classic Cars will meet and drive off from Calne Leisure Centre Car park. Calne Lions will provide breakfast butties as drivers set off. Drivers will enjoy a fascinating 70 mile route through the beautiful Wiltshire countryside and over Salisbury Plain to Southern Quarter of Amesbury\, finishing at the amazing Five Zero’s Supercar Barn at Holt. \nFurther support on the day will be provided by Rotarians and a great team of volunteers\, the event will be a true community effort.\nThe car run features VIP Teddy Bears and much loved dogs in some of the cars. The proceeds will go to Julia’s House these are Wiltshire & Dorset Children’s Hospices\, also other Rotary Charities. \nWe would like to thank everyone involved and wish them a safe journey. The event is still looking for more drivers and Kate Tompkins of the Rotary Club of Chippenham said\, “If you have a classic car\, bike or other vehicle come and join us for a great day out and to raise money for some great causes”. \nFor further details and entry forms please visit: www.chippenhamrotary.org\, Facebook or by email calnerotaryclassicrun@gmail.com
URL:https://onechippenham.org.uk/event/salisbury-plain-drive-ahead-for-calne-classic-car-run/
LOCATION:Calne Leisure Centre Car Park
CATEGORIES:Charity,Classic car run
ATTACH;FMTTYPE=image/jpeg:https://onechippenham.org.uk/wp-content/uploads/2023/02/Picture-for-publicity.jpg
END:VEVENT
END:VCALENDAR