BEGIN:VCALENDAR
VERSION:2.0
PRODID:-//One Chippenham - ECPv6.15.20//NONSGML v1.0//EN
CALSCALE:GREGORIAN
METHOD:PUBLISH
X-ORIGINAL-URL:https://onechippenham.org.uk
X-WR-CALDESC:Events for One Chippenham
REFRESH-INTERVAL;VALUE=DURATION:PT1H
X-Robots-Tag:noindex
X-PUBLISHED-TTL:PT1H
BEGIN:VTIMEZONE
TZID:Europe/London
BEGIN:DAYLIGHT
TZOFFSETFROM:+0000
TZOFFSETTO:+0100
TZNAME:BST
DTSTART:20210328T010000
END:DAYLIGHT
BEGIN:STANDARD
TZOFFSETFROM:+0100
TZOFFSETTO:+0000
TZNAME:GMT
DTSTART:20211031T010000
END:STANDARD
BEGIN:DAYLIGHT
TZOFFSETFROM:+0000
TZOFFSETTO:+0100
TZNAME:BST
DTSTART:20220327T010000
END:DAYLIGHT
BEGIN:STANDARD
TZOFFSETFROM:+0100
TZOFFSETTO:+0000
TZNAME:GMT
DTSTART:20221030T010000
END:STANDARD
BEGIN:DAYLIGHT
TZOFFSETFROM:+0000
TZOFFSETTO:+0100
TZNAME:BST
DTSTART:20230326T010000
END:DAYLIGHT
BEGIN:STANDARD
TZOFFSETFROM:+0100
TZOFFSETTO:+0000
TZNAME:GMT
DTSTART:20231029T010000
END:STANDARD
END:VTIMEZONE
BEGIN:VEVENT
DTSTART;VALUE=DATE:20220713
DTEND;VALUE=DATE:20220913
DTSTAMP:20260420T022022
CREATED:20220711T105210Z
LAST-MODIFIED:20220711T124155Z
UID:6373-1657670400-1663027199@onechippenham.org.uk
SUMMARY:Summer Pop Up Garden
DESCRIPTION:From Wednesday 13 July – Monday 12 September\, there will be a Summer Pop Up Garden in the marketplace for you to enjoy. \nThis has been funded by the Government’s Reopening High Streets Safely scheme to produce imaginative and impactful dressing projects in town centres. \nSo\, make yourself comfy\, take some time out to enjoy the garden\, meet friends for a coffee\, have a picnic or sit and read a book.
URL:https://onechippenham.org.uk/event/summer-pop-up-garden/
LOCATION:Chippenham Town Centre
CATEGORIES:Adults,Children,Community,Family,Family Friendly
ATTACH;FMTTYPE=image/png:https://onechippenham.org.uk/wp-content/uploads/2022/07/flowers-gcb0d54424_1920-e1656937528379.png
END:VEVENT
BEGIN:VEVENT
DTSTART;TZID=Europe/London:20220726T100000
DTEND;TZID=Europe/London:20220726T140000
DTSTAMP:20260420T022022
CREATED:20220516T070654Z
LAST-MODIFIED:20220516T070654Z
UID:5437-1658829600-1658844000@onechippenham.org.uk
SUMMARY:Chippenham Kids’ Comic Club
DESCRIPTION:Come along and create your own comic! We’ll supply the paper and pens\, you bring your imagination. \nBring along an old comic and swap it at the comic ‘swap shop’. \nMeet some real-life artists who can give you tips and advice for your creations. \nFancy dress as your favourite comic character is optional! \nAll children must be accompanied at all times by a parent/guardian (i.e. not a drop-off event). \n10am – 2pm\, Drop in session (last entry 1:30pm) \nKids £1.50 each\, no charge for adults
URL:https://onechippenham.org.uk/event/chippenham-kids-comic-club/
LOCATION:Neeld Community & Arts Centre\, The Neeld\, High Street\, Chippenham\, Wiltshire\, SN15 3ER\, United Kingdom
CATEGORIES:Arts,Children
ATTACH;FMTTYPE=image/png:https://onechippenham.org.uk/wp-content/uploads/2022/05/website-pic.png
END:VEVENT
BEGIN:VEVENT
DTSTART;TZID=Europe/London:20220726T103000
DTEND;TZID=Europe/London:20220726T153000
DTSTAMP:20260420T022022
CREATED:20220720T095901Z
LAST-MODIFIED:20220720T095901Z
UID:6539-1658831400-1658849400@onechippenham.org.uk
SUMMARY:Free Drop In Activities at Chippenham Museum
DESCRIPTION:Free family activities every Tuesday during the school summer holidays\, including print making and lettering.
URL:https://onechippenham.org.uk/event/free-drop-in-activities-at-chippenham-museum/2022-07-26/
LOCATION:Chippenham Museum\, 9-10 Market Pl\, Chippenham\, SN15 3HF\, United Kingdom
CATEGORIES:Arts,Children,Family,Family Friendly
ATTACH;FMTTYPE=image/jpeg:https://onechippenham.org.uk/wp-content/uploads/2022/07/PRINTING-.jpg
END:VEVENT
END:VCALENDAR