BEGIN:VCALENDAR
VERSION:2.0
PRODID:-//One Chippenham - ECPv6.15.20//NONSGML v1.0//EN
CALSCALE:GREGORIAN
METHOD:PUBLISH
X-ORIGINAL-URL:https://onechippenham.org.uk
X-WR-CALDESC:Events for One Chippenham
REFRESH-INTERVAL;VALUE=DURATION:PT1H
X-Robots-Tag:noindex
X-PUBLISHED-TTL:PT1H
BEGIN:VTIMEZONE
TZID:Europe/London
BEGIN:DAYLIGHT
TZOFFSETFROM:+0000
TZOFFSETTO:+0100
TZNAME:BST
DTSTART:20210328T010000
END:DAYLIGHT
BEGIN:STANDARD
TZOFFSETFROM:+0100
TZOFFSETTO:+0000
TZNAME:GMT
DTSTART:20211031T010000
END:STANDARD
BEGIN:DAYLIGHT
TZOFFSETFROM:+0000
TZOFFSETTO:+0100
TZNAME:BST
DTSTART:20220327T010000
END:DAYLIGHT
BEGIN:STANDARD
TZOFFSETFROM:+0100
TZOFFSETTO:+0000
TZNAME:GMT
DTSTART:20221030T010000
END:STANDARD
BEGIN:DAYLIGHT
TZOFFSETFROM:+0000
TZOFFSETTO:+0100
TZNAME:BST
DTSTART:20230326T010000
END:DAYLIGHT
BEGIN:STANDARD
TZOFFSETFROM:+0100
TZOFFSETTO:+0000
TZNAME:GMT
DTSTART:20231029T010000
END:STANDARD
END:VTIMEZONE
BEGIN:VEVENT
DTSTART;VALUE=DATE:20220713
DTEND;VALUE=DATE:20220913
DTSTAMP:20260420T190516
CREATED:20220711T105210Z
LAST-MODIFIED:20220711T124155Z
UID:6373-1657670400-1663027199@onechippenham.org.uk
SUMMARY:Summer Pop Up Garden
DESCRIPTION:From Wednesday 13 July – Monday 12 September\, there will be a Summer Pop Up Garden in the marketplace for you to enjoy. \nThis has been funded by the Government’s Reopening High Streets Safely scheme to produce imaginative and impactful dressing projects in town centres. \nSo\, make yourself comfy\, take some time out to enjoy the garden\, meet friends for a coffee\, have a picnic or sit and read a book.
URL:https://onechippenham.org.uk/event/summer-pop-up-garden/
LOCATION:Chippenham Town Centre
CATEGORIES:Adults,Children,Community,Family,Family Friendly
ATTACH;FMTTYPE=image/png:https://onechippenham.org.uk/wp-content/uploads/2022/07/flowers-gcb0d54424_1920-e1656937528379.png
END:VEVENT
BEGIN:VEVENT
DTSTART;TZID=Europe/London:20220727T163000
DTEND;TZID=Europe/London:20220727T183000
DTSTAMP:20260420T190516
CREATED:20220719T100106Z
LAST-MODIFIED:20220719T100106Z
UID:6524-1658939400-1658946600@onechippenham.org.uk
SUMMARY:ART and DRAMA Workshops
DESCRIPTION:We’re back! Workshops for 11ups to trial our new Theatre Company and Art sessions\, restarting on September 14th. \nCome along and work with Charlie on colourful still life drawings\, or play lots of silly games\, exercises and make up short scenes with Laura. \nA great way to spend a couple of hours and to find out if we’re for you before enrolling for a term.\nWe’re buzzing with ideas and can’t wait to get back to it! See you there.
URL:https://onechippenham.org.uk/event/art-and-drama-workshops/2022-07-27/
LOCATION:Cause Arts Centre\, 42 The Causeway\, Chippenham\, Wiltshire\, SN15 3DD\, United Kingdom
CATEGORIES:Arts,Children,Drama,Education,Theatre,Visual Arts,Workshop
ATTACH;FMTTYPE=image/png:https://onechippenham.org.uk/wp-content/uploads/2022/07/2547AF6E-64B9-4142-BCF3-A4212F29D7D7.png
ORGANIZER;CN="Rag and Bone Arts CIC":MAILTO:ragandbonearts@gmail.com
END:VEVENT
END:VCALENDAR